BEGIN:VCALENDAR
VERSION:2.0
PRODID:-//New Florence Borough - ECPv6.15.20//NONSGML v1.0//EN
CALSCALE:GREGORIAN
METHOD:PUBLISH
X-ORIGINAL-URL:https://newflorenceborough.org
X-WR-CALDESC:Events for New Florence Borough
REFRESH-INTERVAL;VALUE=DURATION:PT1H
X-Robots-Tag:noindex
X-PUBLISHED-TTL:PT1H
BEGIN:VTIMEZONE
TZID:America/New_York
BEGIN:DAYLIGHT
TZOFFSETFROM:-0500
TZOFFSETTO:-0400
TZNAME:EDT
DTSTART:20250309T070000
END:DAYLIGHT
BEGIN:STANDARD
TZOFFSETFROM:-0400
TZOFFSETTO:-0500
TZNAME:EST
DTSTART:20251102T060000
END:STANDARD
BEGIN:DAYLIGHT
TZOFFSETFROM:-0500
TZOFFSETTO:-0400
TZNAME:EDT
DTSTART:20260308T070000
END:DAYLIGHT
BEGIN:STANDARD
TZOFFSETFROM:-0400
TZOFFSETTO:-0500
TZNAME:EST
DTSTART:20261101T060000
END:STANDARD
BEGIN:DAYLIGHT
TZOFFSETFROM:-0500
TZOFFSETTO:-0400
TZNAME:EDT
DTSTART:20270314T070000
END:DAYLIGHT
BEGIN:STANDARD
TZOFFSETFROM:-0400
TZOFFSETTO:-0500
TZNAME:EST
DTSTART:20271107T060000
END:STANDARD
END:VTIMEZONE
BEGIN:VEVENT
DTSTART;TZID=America/New_York:20260501T180000
DTEND;TZID=America/New_York:20260501T210000
DTSTAMP:20260424T055200
CREATED:20260301T134516Z
LAST-MODIFIED:20260420T001716Z
UID:6948-1777658400-1777669200@newflorenceborough.org
SUMMARY:NF VFD Drag Queen Bingo
DESCRIPTION:Please check out this fundraiser the fire department will holding.  It’s not your grandmas B I N G O ….. BUT one that you won’t want to miss on Friday\, May 1st\, 2026.  The doors open at 6:00pm and the event starts 7:00pm.  The cost is $30 per person in advance and $35 at the door.  Dinner and refreshments are included.  You must be 18 or older to attend and BYOB for those 21 years old and older.  There will be 50/50s\, rippie tickets\, baskets\, and such.  Please come out and have FUN while raising some money for the local fire company.  Thanks. \n \nHere is an updated flyer the fire department put out. \n \n 
URL:https://newflorenceborough.org/event/nf-vfd-drag-queen-bingo-4/
LOCATION:New Florence Volunteer Fire Department\, 177 13th Street\, New Florence\, PA\, 15944
ATTACH;FMTTYPE=image/png:https://newflorenceborough.org/wp-content/uploads/2017/11/photo.png
END:VEVENT
BEGIN:VEVENT
DTSTART;TZID=America/New_York:20260502T090000
DTEND;TZID=America/New_York:20260502T130000
DTSTAMP:20260424T055200
CREATED:20260408T013637Z
LAST-MODIFIED:20260408T013637Z
UID:7038-1777712400-1777726800@newflorenceborough.org
SUMMARY:New Florence VFD Sub Sale
DESCRIPTION:The New Florence Volunteer Fire Department will be having their next sub sale on May 2nd.  Pre-order your subs until April 25th for the 2nd!  The fire department now offers local delivery for those who cannot come pick-up subs within a 3-mile radius of the station.  If you need more information\, contact the fire department.  Thank you.
URL:https://newflorenceborough.org/event/new-florence-vfd-sub-sale-40/
LOCATION:New Florence Volunteer Fire Department\, 177 13th Street\, New Florence\, PA\, 15944
ATTACH;FMTTYPE=image/png:https://newflorenceborough.org/wp-content/uploads/2017/11/photo.png
END:VEVENT
BEGIN:VEVENT
DTSTART;TZID=America/New_York:20260502T173000
DTEND;TZID=America/New_York:20260502T210000
DTSTAMP:20260424T055200
CREATED:20260408T013256Z
LAST-MODIFIED:20260408T013256Z
UID:7036-1777743000-1777755600@newflorenceborough.org
SUMMARY:New Florence VFD Rippie Night
DESCRIPTION:The New Florence Volunteer Fire Department will be having their next rippie party on May 2nd.   If you need more information\, contact the fire department.  Thank you.
URL:https://newflorenceborough.org/event/new-florence-vfd-rippie-night-50/
LOCATION:New Florence Volunteer Fire Department\, 177 13th Street\, New Florence\, PA\, 15944
ATTACH;FMTTYPE=image/png:https://newflorenceborough.org/wp-content/uploads/2017/11/photo.png
END:VEVENT
BEGIN:VEVENT
DTSTART;TZID=America/New_York:20260507T183000
DTEND;TZID=America/New_York:20260507T193000
DTSTAMP:20260424T055200
CREATED:20260106T193333Z
LAST-MODIFIED:20260106T193333Z
UID:6747-1778178600-1778182200@newflorenceborough.org
SUMMARY:New Florence/St Clair Sanitation Authority Meeting
DESCRIPTION:The New Florence/St. Clair Township Sanitation Authority holds their regularly scheduled meetings at the New Florence Sewage Authority office at 117 Franklin St.\, New Florence\, PA 15944 at 6:30 pm on the first Thursday of every other month starting in January.  The meetings are open to the public.  Any changes to the schedule are published in the Johnstown Tribune Democrat newspaper.
URL:https://newflorenceborough.org/event/new-florence-st-clair-sanitation-authority-meeting-40/
LOCATION:New Florence/St. Clair Township Sanitation Authority\, 117 Franklin Street\, New Florence\, PA\, 15944\, United States
ATTACH;FMTTYPE=image/png:https://newflorenceborough.org/wp-content/uploads/2017/11/photo.png
END:VEVENT
BEGIN:VEVENT
DTSTART;TZID=America/New_York:20260509T190000
DTEND;TZID=America/New_York:20260509T190000
DTSTAMP:20260424T055200
CREATED:20260408T014707Z
LAST-MODIFIED:20260408T014707Z
UID:7044-1778353200-1778353200@newflorenceborough.org
SUMMARY:New Florence Community Library "Welcome Summer" $500 CASH Quick Ticket
DESCRIPTION:Please check out this exciting summer raffle the library is holding as a fundraiser.  If you need more information\, please give the library a call.
URL:https://newflorenceborough.org/event/new-florence-community-library-welcome-summer-500-cash-quick-ticket/
LOCATION:New Florence Community Library\, 122 N Ligonier St.\, New Florence\, PA\, 15944
ATTACH;FMTTYPE=image/png:https://newflorenceborough.org/wp-content/uploads/2017/11/photo.png
END:VEVENT
BEGIN:VEVENT
DTSTART;TZID=America/New_York:20260517T120000
DTEND;TZID=America/New_York:20260517T153000
DTSTAMP:20260424T055200
CREATED:20260408T015134Z
LAST-MODIFIED:20260408T015134Z
UID:7046-1779019200-1779031800@newflorenceborough.org
SUMMARY:NF VFD Basket Party - May 2026
DESCRIPTION:The New Florence VFD will be holding a Basket Party on May 17th.  The VFD is looking for businesses\, organizations\, or individuals to make and or donate a basket for the Basket Party to promote your business or venture. Gift Cards are also welcomed. Please call Amber at 814-270-1786 with any questions or if you want to donate a basket for the fundraiser. Thanks.
URL:https://newflorenceborough.org/event/nf-vfd-basket-party-may-2026/
LOCATION:New Florence Volunteer Fire Department\, 177 13th Street\, New Florence\, PA\, 15944
ATTACH;FMTTYPE=image/png:https://newflorenceborough.org/wp-content/uploads/2017/11/photo.png
END:VEVENT
BEGIN:VEVENT
DTSTART;TZID=America/New_York:20260519T183000
DTEND;TZID=America/New_York:20260519T193000
DTSTAMP:20260424T055200
CREATED:20260106T195754Z
LAST-MODIFIED:20260106T195754Z
UID:6759-1779215400-1779219000@newflorenceborough.org
SUMMARY:Borough Council Meeting
DESCRIPTION:The borough council meets monthly on the third Tuesday of each month at the borough building located at 119 Franklin Street in New Florence at 6:30 p.m. The meetings are open to the public and all are encouraged to attend. \nHere is the agenda for the meeting.  PENDING
URL:https://newflorenceborough.org/event/borough-council-meeting-94/
LOCATION:Borough Building\, 119 Franklin Street\, New Florence\, PA\, 15944
ATTACH;FMTTYPE=image/png:https://newflorenceborough.org/wp-content/uploads/2017/11/photo.png
END:VEVENT
BEGIN:VEVENT
DTSTART;VALUE=DATE:20260525
DTEND;VALUE=DATE:20260526
DTSTAMP:20260424T055200
CREATED:20260106T201821Z
LAST-MODIFIED:20260106T201821Z
UID:6779-1779667200-1779753599@newflorenceborough.org
SUMMARY:Federal Holiday - Memorial Day
DESCRIPTION:Today is a federal holiday.  Governments and many businesses are closed.  Enjoy the day!
URL:https://newflorenceborough.org/event/federal-holiday-memorial-day/
LOCATION:New Florence\, PA: Multiple Locations\, New Florence\, PA\, 15944
ATTACH;FMTTYPE=image/png:https://newflorenceborough.org/wp-content/uploads/2017/11/photo.png
END:VEVENT
END:VCALENDAR