BEGIN:VCALENDAR
VERSION:2.0
PRODID:-//New Florence Borough - ECPv6.15.20//NONSGML v1.0//EN
CALSCALE:GREGORIAN
METHOD:PUBLISH
X-WR-CALNAME:New Florence Borough
X-ORIGINAL-URL:https://newflorenceborough.org
X-WR-CALDESC:Events for New Florence Borough
REFRESH-INTERVAL;VALUE=DURATION:PT1H
X-Robots-Tag:noindex
X-PUBLISHED-TTL:PT1H
BEGIN:VTIMEZONE
TZID:America/New_York
BEGIN:DAYLIGHT
TZOFFSETFROM:-0500
TZOFFSETTO:-0400
TZNAME:EDT
DTSTART:20230312T070000
END:DAYLIGHT
BEGIN:STANDARD
TZOFFSETFROM:-0400
TZOFFSETTO:-0500
TZNAME:EST
DTSTART:20231105T060000
END:STANDARD
BEGIN:DAYLIGHT
TZOFFSETFROM:-0500
TZOFFSETTO:-0400
TZNAME:EDT
DTSTART:20240310T070000
END:DAYLIGHT
BEGIN:STANDARD
TZOFFSETFROM:-0400
TZOFFSETTO:-0500
TZNAME:EST
DTSTART:20241103T060000
END:STANDARD
BEGIN:DAYLIGHT
TZOFFSETFROM:-0500
TZOFFSETTO:-0400
TZNAME:EDT
DTSTART:20250309T070000
END:DAYLIGHT
BEGIN:STANDARD
TZOFFSETFROM:-0400
TZOFFSETTO:-0500
TZNAME:EST
DTSTART:20251102T060000
END:STANDARD
END:VTIMEZONE
BEGIN:VEVENT
DTSTART;TZID=America/New_York:20240302T090000
DTEND;TZID=America/New_York:20240302T140000
DTSTAMP:20260425T071322
CREATED:20240227T201526Z
LAST-MODIFIED:20240227T201526Z
UID:4863-1709370000-1709388000@newflorenceborough.org
SUMMARY:New Florence VFD Sub Sale
DESCRIPTION:The New Florence Volunteer Fire Department will be holding another sub sale fundraiser. Subs will be available from 9 am until they are sold out.  If you need more information\, contact the fire department. Thank you.
URL:https://newflorenceborough.org/event/new-florence-vfd-sub-sale-16/
LOCATION:New Florence Volunteer Fire Department\, 177 13th Street\, New Florence\, PA\, 15944
ATTACH;FMTTYPE=image/png:https://newflorenceborough.org/wp-content/uploads/2017/11/photo.png
END:VEVENT
BEGIN:VEVENT
DTSTART;TZID=America/New_York:20240302T173000
DTEND;TZID=America/New_York:20240302T210000
DTSTAMP:20260425T071322
CREATED:20240227T201758Z
LAST-MODIFIED:20240227T201758Z
UID:4865-1709400600-1709413200@newflorenceborough.org
SUMMARY:New Florence VFD Rippie Night
DESCRIPTION:The New Florence Volunteer Fire Department will be holding their next rippie fundraiser.  If you need more information\, please contact the fire department.  Thanks.
URL:https://newflorenceborough.org/event/new-florence-vfd-rippie-night-25/
LOCATION:New Florence Volunteer Fire Department\, 177 13th Street\, New Florence\, PA\, 15944
ATTACH;FMTTYPE=image/png:https://newflorenceborough.org/wp-content/uploads/2017/11/photo.png
END:VEVENT
BEGIN:VEVENT
DTSTART;TZID=America/New_York:20240303T120000
DTEND;TZID=America/New_York:20240303T170000
DTSTAMP:20260425T071322
CREATED:20240121T204319Z
LAST-MODIFIED:20240227T202450Z
UID:4805-1709467200-1709485200@newflorenceborough.org
SUMMARY:New Florence Community Library Annual Basket Party
DESCRIPTION:The library put out this updated flyer for their basket party.  Check it out! \n \nHere is a flyer for the basket party.
URL:https://newflorenceborough.org/event/new-florence-community-library-annual-basket-party-4/
LOCATION:Antiochian Village Conference Center\, 140 Church Camp Trail\, Bolivar\, PA\, 15923
ATTACH;FMTTYPE=image/png:https://newflorenceborough.org/wp-content/uploads/2017/11/photo.png
END:VEVENT
BEGIN:VEVENT
DTSTART;TZID=America/New_York:20240307T183000
DTEND;TZID=America/New_York:20240307T193000
DTSTAMP:20260425T071322
CREATED:20240107T002611Z
LAST-MODIFIED:20240107T002611Z
UID:4733-1709836200-1709839800@newflorenceborough.org
SUMMARY:New Florence/St Clair Sanitation Authority Meeting
DESCRIPTION:The New Florence/St. Clair Township Sanitation Authority holds their regularly scheduled meetings at the New Florence Sewage Authority office at 117 Franklin St.\, New Florence\, PA 15944 at 6:30 pm on the first Thursday of every month.  The meetings are open to the public.  Any changes to the schedule are published in the Johnstown Tribune Democrat newspaper.
URL:https://newflorenceborough.org/event/new-florence-st-clair-sanitation-authority-meeting-23/
LOCATION:New Florence/St. Clair Township Sanitation Authority\, 117 Franklin Street\, New Florence\, PA\, 15944\, United States
ATTACH;FMTTYPE=image/png:https://newflorenceborough.org/wp-content/uploads/2017/11/photo.png
END:VEVENT
BEGIN:VEVENT
DTSTART;TZID=America/New_York:20240312T163000
DTEND;TZID=America/New_York:20240312T183000
DTSTAMP:20260425T071322
CREATED:20240310T130403Z
LAST-MODIFIED:20240310T130403Z
UID:4904-1710261000-1710268200@newflorenceborough.org
SUMMARY:New Florence Community Library "I Found A Quilted Heart Project" Work Session with Sue
DESCRIPTION:The Quilted Heart Project with Sue Buckles continues to be a big success.  On March 12th the group will be meeting again to make quilted hearts to hang at nursing homes or other places of your choice. More information can be found at ifaqh.com on the program.  All materials are provided with no fee involved. These hearts are very easy to make!  Please let the library know if you can make it. Everyone is invited!
URL:https://newflorenceborough.org/event/new-florence-community-library-i-found-a-quilted-heart-project-work-session-with-sue-2/
LOCATION:New Florence Community Library\, 122 N Ligonier St.\, New Florence\, PA\, 15944
ATTACH;FMTTYPE=image/png:https://newflorenceborough.org/wp-content/uploads/2017/11/photo.png
END:VEVENT
BEGIN:VEVENT
DTSTART;TZID=America/New_York:20240319T183000
DTEND;TZID=America/New_York:20240319T193000
DTSTAMP:20260425T071322
CREATED:20240107T000346Z
LAST-MODIFIED:20240107T000346Z
UID:4709-1710873000-1710876600@newflorenceborough.org
SUMMARY:Borough Council Meeting
DESCRIPTION:The borough council meets monthly on the third Tuesday of each month at the borough building located at 119 Franklin Street in New Florence at 6:30 p.m. The meetings are open to the public and all are encouraged to attend. \nHere is the agenda for the meeting. PENDING
URL:https://newflorenceborough.org/event/borough-council-meeting-68/
LOCATION:Borough Building\, 119 Franklin Street\, New Florence\, PA\, 15944
ATTACH;FMTTYPE=image/png:https://newflorenceborough.org/wp-content/uploads/2017/11/photo.png
END:VEVENT
BEGIN:VEVENT
DTSTART;TZID=America/New_York:20240321T180000
DTEND;TZID=America/New_York:20240321T193000
DTSTAMP:20260425T071322
CREATED:20240310T125847Z
LAST-MODIFIED:20240310T125847Z
UID:4901-1711044000-1711049400@newflorenceborough.org
SUMMARY:New Florence Community Library "Essential Oils - Spring Clean-Up" Seminar
DESCRIPTION:The library is having Kimberly Green do another Essential Oils talk on Thursday\, March 21st.   The program is free.  If you need more information\, please give the library a call.  Thanks.
URL:https://newflorenceborough.org/event/new-florence-community-library-essential-oils-spring-clean-up-seminar/
LOCATION:New Florence Community Library\, 122 N Ligonier St.\, New Florence\, PA\, 15944
ATTACH;FMTTYPE=image/png:https://newflorenceborough.org/wp-content/uploads/2017/11/photo.png
END:VEVENT
BEGIN:VEVENT
DTSTART;TZID=America/New_York:20240330T110000
DTEND;TZID=America/New_York:20240330T130000
DTSTAMP:20260425T071322
CREATED:20240326T144114Z
LAST-MODIFIED:20240326T144114Z
UID:4953-1711796400-1711803600@newflorenceborough.org
SUMMARY:New Florence VFW Post 7622 Easter Egg Hunt - 2024
DESCRIPTION:Join us for an Easter Egg hunt Saturday\, March 30th at 11. Open to children under the age of 12.  Check out the flyer below or give the club a call for more information.
URL:https://newflorenceborough.org/event/new-florence-vfw-post-7622-easter-egg-hunt-2024/
LOCATION:New Florence VFW\, 6215 Route 711\, New Florence\, PA\, 15944
ATTACH;FMTTYPE=image/png:https://newflorenceborough.org/wp-content/uploads/2017/11/photo.png
END:VEVENT
END:VCALENDAR