BEGIN:VCALENDAR
VERSION:2.0
PRODID:-//New Florence Borough - ECPv6.15.20//NONSGML v1.0//EN
CALSCALE:GREGORIAN
METHOD:PUBLISH
X-ORIGINAL-URL:https://newflorenceborough.org
X-WR-CALDESC:Events for New Florence Borough
REFRESH-INTERVAL;VALUE=DURATION:PT1H
X-Robots-Tag:noindex
X-PUBLISHED-TTL:PT1H
BEGIN:VTIMEZONE
TZID:America/New_York
BEGIN:DAYLIGHT
TZOFFSETFROM:-0500
TZOFFSETTO:-0400
TZNAME:EDT
DTSTART:20230312T070000
END:DAYLIGHT
BEGIN:STANDARD
TZOFFSETFROM:-0400
TZOFFSETTO:-0500
TZNAME:EST
DTSTART:20231105T060000
END:STANDARD
BEGIN:DAYLIGHT
TZOFFSETFROM:-0500
TZOFFSETTO:-0400
TZNAME:EDT
DTSTART:20240310T070000
END:DAYLIGHT
BEGIN:STANDARD
TZOFFSETFROM:-0400
TZOFFSETTO:-0500
TZNAME:EST
DTSTART:20241103T060000
END:STANDARD
BEGIN:DAYLIGHT
TZOFFSETFROM:-0500
TZOFFSETTO:-0400
TZNAME:EDT
DTSTART:20250309T070000
END:DAYLIGHT
BEGIN:STANDARD
TZOFFSETFROM:-0400
TZOFFSETTO:-0500
TZNAME:EST
DTSTART:20251102T060000
END:STANDARD
END:VTIMEZONE
BEGIN:VEVENT
DTSTART;TZID=America/New_York:20240201T183000
DTEND;TZID=America/New_York:20240201T193000
DTSTAMP:20260425T084134
CREATED:20240107T002458Z
LAST-MODIFIED:20240107T002458Z
UID:4731-1706812200-1706815800@newflorenceborough.org
SUMMARY:New Florence/St Clair Sanitation Authority Meeting
DESCRIPTION:The New Florence/St. Clair Township Sanitation Authority holds their regularly scheduled meetings at the New Florence Sewage Authority office at 117 Franklin St.\, New Florence\, PA 15944 at 6:30 pm on the first Thursday of every month.  The meetings are open to the public.  Any changes to the schedule are published in the Johnstown Tribune Democrat newspaper.
URL:https://newflorenceborough.org/event/new-florence-st-clair-sanitation-authority-meeting-22/
LOCATION:New Florence/St. Clair Township Sanitation Authority\, 117 Franklin Street\, New Florence\, PA\, 15944\, United States
ATTACH;FMTTYPE=image/png:https://newflorenceborough.org/wp-content/uploads/2017/11/photo.png
END:VEVENT
BEGIN:VEVENT
DTSTART;TZID=America/New_York:20240203T090000
DTEND;TZID=America/New_York:20240203T140000
DTSTAMP:20260425T084134
CREATED:20240120T135041Z
LAST-MODIFIED:20240128T170349Z
UID:4791-1706950800-1706968800@newflorenceborough.org
SUMMARY:New Florence VFD Sub Sale
DESCRIPTION:The New Florence Volunteer Fire Department will be holding another sub sale fundraiser. Subs will be available from 9 am until they are sold out.  If you need more information\, contact the fire department. Thank you. \n \n 
URL:https://newflorenceborough.org/event/new-florence-vfd-sub-sale-15/
LOCATION:New Florence Volunteer Fire Department\, 177 13th Street\, New Florence\, PA\, 15944
ATTACH;FMTTYPE=image/png:https://newflorenceborough.org/wp-content/uploads/2017/11/photo.png
END:VEVENT
BEGIN:VEVENT
DTSTART;TZID=America/New_York:20240203T173000
DTEND;TZID=America/New_York:20240203T210000
DTSTAMP:20260425T084134
CREATED:20240120T135230Z
LAST-MODIFIED:20240128T170431Z
UID:4793-1706981400-1706994000@newflorenceborough.org
SUMMARY:New Florence VFD Rippie Night
DESCRIPTION:The New Florence Volunteer Fire Department will be holding their next rippie fundraiser.  If you need more information\, please contact the fire department.  Thanks.
URL:https://newflorenceborough.org/event/new-florence-vfd-rippie-night-24/
LOCATION:New Florence Volunteer Fire Department\, 177 13th Street\, New Florence\, PA\, 15944
ATTACH;FMTTYPE=image/png:https://newflorenceborough.org/wp-content/uploads/2017/11/photo.png
END:VEVENT
BEGIN:VEVENT
DTSTART;TZID=America/New_York:20240208T180000
DTEND;TZID=America/New_York:20240208T193000
DTSTAMP:20260425T084134
CREATED:20240104T152528Z
LAST-MODIFIED:20240128T170226Z
UID:4691-1707415200-1707420600@newflorenceborough.org
SUMMARY:New Florence Community Library "Essential Oils" Seminar - Second Reschedule
DESCRIPTION:**Due to our instructor traveling** The Essential Oils class “Reclaim Your Health” has been rescheduled again. Join us Thursday\, February 8th. This is a FREE informational talk and product interaction. Sign up at the library or call 724-235-2249 (so we know how many to prepare for). \nThe library is having Kimberly Green do another Essential Oils talk.   The program is free.  Sign up at the library or give them a call to register.  If you need more information\, give the library a call also.  Thanks. \n \n  \n  \n 
URL:https://newflorenceborough.org/event/new-florence-community-library-essential-oils-seminar-3/
LOCATION:New Florence Community Library\, 122 N Ligonier St.\, New Florence\, PA\, 15944
ATTACH;FMTTYPE=image/png:https://newflorenceborough.org/wp-content/uploads/2017/11/photo.png
END:VEVENT
BEGIN:VEVENT
DTSTART;TZID=America/New_York:20240212T163000
DTEND;TZID=America/New_York:20240212T183000
DTSTAMP:20260425T084134
CREATED:20240209T124208Z
LAST-MODIFIED:20240209T124208Z
UID:4842-1707755400-1707762600@newflorenceborough.org
SUMMARY:New Florence Community Library "I Found A Quilted Heart Project" Work Session with Sue
DESCRIPTION:The Quilted Heart Project at the New Florence Community Library with Sue Buckles was a big success.  On Monday\, February 12th\, they will be meeting at the library from 4:30 – 6:30 pm to put together more hearts to take to local nursing homes.  Everything is provided and precut! Please come out and join the fun!  Thanks
URL:https://newflorenceborough.org/event/new-florence-community-library-i-found-a-quilted-heart-project-work-session-with-sue/
LOCATION:New Florence Community Library\, 122 N Ligonier St.\, New Florence\, PA\, 15944
ATTACH;FMTTYPE=image/png:https://newflorenceborough.org/wp-content/uploads/2017/11/photo.png
END:VEVENT
BEGIN:VEVENT
DTSTART;TZID=America/New_York:20240220T183000
DTEND;TZID=America/New_York:20240220T193000
DTSTAMP:20260425T084134
CREATED:20240107T000230Z
LAST-MODIFIED:20240219T020259Z
UID:4707-1708453800-1708457400@newflorenceborough.org
SUMMARY:Borough Council Meeting
DESCRIPTION:The borough council meets monthly on the third Tuesday of each month at the borough building located at 119 Franklin Street in New Florence at 6:30 p.m. The meetings are open to the public and all are encouraged to attend. \nHere is the agenda for the meeting. AGENDA 02-20-24
URL:https://newflorenceborough.org/event/borough-council-meeting-67/
LOCATION:Borough Building\, 119 Franklin Street\, New Florence\, PA\, 15944
ATTACH;FMTTYPE=image/png:https://newflorenceborough.org/wp-content/uploads/2017/11/photo.png
END:VEVENT
BEGIN:VEVENT
DTSTART;TZID=America/New_York:20240227T180000
DTEND;TZID=America/New_York:20240227T190000
DTSTAMP:20260425T084134
CREATED:20240227T203330Z
LAST-MODIFIED:20240227T203330Z
UID:4873-1709056800-1709060400@newflorenceborough.org
SUMMARY:Borough Council Meeting - Special Meeting
DESCRIPTION:The Borough of New Florence will hold a special meeting at 6:00 PM on Tuesday\, February 27\, 2024 to convene the Vacancy Board to consider the open position of Mayor.  The meeting will be at the borough building located at 119 Franklin Street in New Florence. The meetings are open to the public and all are encouraged to attend. \nSorry for the late notice.  I was only made aware of the meeting today.  Greg Csehoski
URL:https://newflorenceborough.org/event/borough-council-meeting-special-meeting-3/
LOCATION:Borough Building\, 119 Franklin Street\, New Florence\, PA\, 15944
ATTACH;FMTTYPE=image/png:https://newflorenceborough.org/wp-content/uploads/2017/11/photo.png
END:VEVENT
END:VCALENDAR