BEGIN:VCALENDAR
VERSION:2.0
PRODID:-//New Florence Borough - ECPv6.15.20//NONSGML v1.0//EN
CALSCALE:GREGORIAN
METHOD:PUBLISH
X-WR-CALNAME:New Florence Borough
X-ORIGINAL-URL:https://newflorenceborough.org
X-WR-CALDESC:Events for New Florence Borough
REFRESH-INTERVAL;VALUE=DURATION:PT1H
X-Robots-Tag:noindex
X-PUBLISHED-TTL:PT1H
BEGIN:VTIMEZONE
TZID:America/New_York
BEGIN:DAYLIGHT
TZOFFSETFROM:-0500
TZOFFSETTO:-0400
TZNAME:EDT
DTSTART:20220313T070000
END:DAYLIGHT
BEGIN:STANDARD
TZOFFSETFROM:-0400
TZOFFSETTO:-0500
TZNAME:EST
DTSTART:20221106T060000
END:STANDARD
BEGIN:DAYLIGHT
TZOFFSETFROM:-0500
TZOFFSETTO:-0400
TZNAME:EDT
DTSTART:20230312T070000
END:DAYLIGHT
BEGIN:STANDARD
TZOFFSETFROM:-0400
TZOFFSETTO:-0500
TZNAME:EST
DTSTART:20231105T060000
END:STANDARD
BEGIN:DAYLIGHT
TZOFFSETFROM:-0500
TZOFFSETTO:-0400
TZNAME:EDT
DTSTART:20240310T070000
END:DAYLIGHT
BEGIN:STANDARD
TZOFFSETFROM:-0400
TZOFFSETTO:-0500
TZNAME:EST
DTSTART:20241103T060000
END:STANDARD
END:VTIMEZONE
BEGIN:VEVENT
DTSTART;TZID=America/New_York:20230601T183000
DTEND;TZID=America/New_York:20230601T200000
DTSTAMP:20260425T190850
CREATED:20230203T021523Z
LAST-MODIFIED:20230203T021523Z
UID:3837-1685644200-1685649600@newflorenceborough.org
SUMMARY:New Florence/St Clair Sanitation Authority Meeting
DESCRIPTION:The New Florence/St. Clair Township Sanitation Authority meetings are open to the public.  Any changes to the schedule are published in the Johnstown Tribune Democrat newspaper.
URL:https://newflorenceborough.org/event/new-florence-st-clair-sanitation-authority-meeting-14/
LOCATION:New Florence/St. Clair Township Sanitation Authority\, 117 Franklin Street\, New Florence\, PA\, 15944\, United States
ATTACH;FMTTYPE=image/png:https://newflorenceborough.org/wp-content/uploads/2017/11/photo.png
END:VEVENT
BEGIN:VEVENT
DTSTART;VALUE=DATE:20230603
DTEND;VALUE=DATE:20230604
DTSTAMP:20260425T190850
CREATED:20230530T121109Z
LAST-MODIFIED:20230530T121109Z
UID:4153-1685750400-1685836799@newflorenceborough.org
SUMMARY:New Florence Community Library - Closed for Yard Sale Day
DESCRIPTION:
URL:https://newflorenceborough.org/event/new-florence-community-library-closed-for-yard-sale-day/
LOCATION:New Florence Community Library\, 122 N Ligonier St.\, New Florence\, PA\, 15944
ATTACH;FMTTYPE=image/png:https://newflorenceborough.org/wp-content/uploads/2017/11/photo.png
END:VEVENT
BEGIN:VEVENT
DTSTART;TZID=America/New_York:20230603T080000
DTEND;TZID=America/New_York:20230603T160000
DTSTAMP:20260425T190850
CREATED:20230502T005002Z
LAST-MODIFIED:20230530T020639Z
UID:4065-1685779200-1685808000@newflorenceborough.org
SUMMARY:New Florence Town-Wide Yard Sale
DESCRIPTION:The annual yard sale is scheduled for this day.  As in years past\, the town library will have a list of residents participating in the sale.  There is a $5 fee to have your name and address added to the list.  Please contact the New Florence Community Library at 724-235-2249 to be included.  Thanks to the Community Development organization for putting this together.  If you have any questions please contact Taylor Solich\, President\, at 724-235-9993  or via Email at nflcommunitydev@yahoo.com. \n \nThe New Florence Community Library would like everyone to know they will be closed the day of the yard sale.
URL:https://newflorenceborough.org/event/new-florence-town-wide-yard-sale-5/
LOCATION:New Florence\, PA: Multiple Locations\, New Florence\, PA\, 15944
ATTACH;FMTTYPE=image/png:https://newflorenceborough.org/wp-content/uploads/2017/11/photo.png
END:VEVENT
BEGIN:VEVENT
DTSTART;TZID=America/New_York:20230603T090000
DTEND;TZID=America/New_York:20230603T140000
DTSTAMP:20260425T190850
CREATED:20230423T123212Z
LAST-MODIFIED:20230527T113405Z
UID:4027-1685782800-1685800800@newflorenceborough.org
SUMMARY:New Florence VFD Chicken BBQ
DESCRIPTION:The New Florence VFD will be holding their next Chicken BBQ fundraiser of the year on June 3rd.  They will start at 9 am instead of the normal 10 am because of the town wide yard sale.  They will go till sold out.  Preorders are welcome.  Please come out and support the fire department.  Thanks.
URL:https://newflorenceborough.org/event/new-florence-vfd-chicken-bbq-12/
LOCATION:New Florence Volunteer Fire Department\, 177 13th Street\, New Florence\, PA\, 15944
ATTACH;FMTTYPE=image/png:https://newflorenceborough.org/wp-content/uploads/2017/11/photo.png
END:VEVENT
BEGIN:VEVENT
DTSTART;TZID=America/New_York:20230603T173000
DTEND;TZID=America/New_York:20230603T210000
DTSTAMP:20260425T190850
CREATED:20230423T130908Z
LAST-MODIFIED:20230527T113458Z
UID:4031-1685813400-1685826000@newflorenceborough.org
SUMMARY:New Florence VFD Rippie Night
DESCRIPTION:The New Florence Volunteer Fire Department will be holding their next rippie fundraiser.  If you need more information\, please contact the fire department.  Thanks.
URL:https://newflorenceborough.org/event/new-florence-vfd-rippie-night-17/
LOCATION:New Florence Volunteer Fire Department\, 177 13th Street\, New Florence\, PA\, 15944
ATTACH;FMTTYPE=image/png:https://newflorenceborough.org/wp-content/uploads/2017/11/photo.png
END:VEVENT
BEGIN:VEVENT
DTSTART;TZID=America/New_York:20230604T103000
DTEND;TZID=America/New_York:20230604T180000
DTSTAMP:20260425T190850
CREATED:20230423T121516Z
LAST-MODIFIED:20230423T121516Z
UID:4017-1685874600-1685901600@newflorenceborough.org
SUMMARY:New Florence VFW Post 7622 Veterans Memorial Wall Bus Trip
DESCRIPTION:This is a Member’s Only event. \nThe VFW will be doing a bus trip to the Veterans Memorial Wall in Duncansville PA on June 4th.  Please see the flyer below for more information.  Please call Crystal if you have questions.  Thank you. \n 
URL:https://newflorenceborough.org/event/new-florence-vfw-post-7622-veterans-memorial-wall-bus-trip/
LOCATION:New Florence VFW\, 6215 Route 711\, New Florence\, PA\, 15944
ATTACH;FMTTYPE=image/png:https://newflorenceborough.org/wp-content/uploads/2017/11/photo.png
END:VEVENT
BEGIN:VEVENT
DTSTART;TZID=America/New_York:20230610T120000
DTEND;TZID=America/New_York:20230610T180000
DTSTAMP:20260425T190850
CREATED:20230101T194247Z
LAST-MODIFIED:20230217T001141Z
UID:3734-1686398400-1686420000@newflorenceborough.org
SUMMARY:New Florence VFW Gun Bash 2023
DESCRIPTION:New Florence VFW Post 7622 will be holding their annual gun bash fundraiser.  Save the date for now.  More information will be added as it becomes available.  If you have questions please give the club a call at 724-235-9904. \nHere is an image of the gun bash ticket.
URL:https://newflorenceborough.org/event/new-florence-vfw-gun-bash-2023/
LOCATION:New Florence VFW\, 6215 Route 711\, New Florence\, PA\, 15944
ATTACH;FMTTYPE=image/png:https://newflorenceborough.org/wp-content/uploads/2017/11/photo.png
END:VEVENT
BEGIN:VEVENT
DTSTART;TZID=America/New_York:20230614T180000
DTEND;TZID=America/New_York:20230614T193000
DTSTAMP:20260425T190850
CREATED:20230614T022350Z
LAST-MODIFIED:20230614T022350Z
UID:4185-1686765600-1686771000@newflorenceborough.org
SUMMARY:Laurel Valley Area Historical Society (LVAHS) Meeting
DESCRIPTION:I apologize for the short notice. This one snuck up on me before I knew it. We were supposed to go to the W. Fairfield Cemetery to research some of the headstones for our next meeting\, but the weather looks bad. Therefore\, we will be meeting at the W. Fairfield Auction Barn instead.  We will have a general discussion for our meeting and look at some of the cemetery maps that were just donated by John Shearman. \nPlease print the attached agenda and bring it with you.  20230614 LVAHS Meeting Agenda \nThe group has a new Email address. It is lvahs2022@gmail.com. \nIf you have any questions\, please contact Kathy Mack for more information.  Thank you. \nKathy Mack\, President\nLaurel Valley Area Historical Society\n724-235-2688
URL:https://newflorenceborough.org/event/laurel-valley-area-historical-society-lvahs-meeting-26/
LOCATION:West Fairfield Auction Barn\, 135 Fairfield Road\, New Florence\, PA\, 15944
ATTACH;FMTTYPE=image/png:https://newflorenceborough.org/wp-content/uploads/2017/11/photo.png
END:VEVENT
BEGIN:VEVENT
DTSTART;TZID=America/New_York:20230616T080000
DTEND;TZID=America/New_York:20230616T160000
DTSTAMP:20260425T190850
CREATED:20230530T011058Z
LAST-MODIFIED:20230530T011058Z
UID:4137-1686902400-1686931200@newflorenceborough.org
SUMMARY:2023 Summer Dumpster Days - Day 1
DESCRIPTION:Please see the flyer for more details.
URL:https://newflorenceborough.org/event/2023-summer-dumpster-days-day-1/
LOCATION:Old Yellow Brick School Building\, N. Ligonier St. and 8th St.\, New Florence\, PA
ATTACH;FMTTYPE=image/png:https://newflorenceborough.org/wp-content/uploads/2017/11/photo.png
END:VEVENT
BEGIN:VEVENT
DTSTART;TZID=America/New_York:20230617T080000
DTEND;TZID=America/New_York:20230617T160000
DTSTAMP:20260425T190850
CREATED:20230530T011222Z
LAST-MODIFIED:20230530T011222Z
UID:4139-1686988800-1687017600@newflorenceborough.org
SUMMARY:2023 Summer Dumpster Days - Day 2
DESCRIPTION:Please see the flyer for more details.
URL:https://newflorenceborough.org/event/2023-summer-dumpster-days-day-2/
LOCATION:Old Yellow Brick School Building\, N. Ligonier St. and 8th St.\, New Florence\, PA
ATTACH;FMTTYPE=image/png:https://newflorenceborough.org/wp-content/uploads/2017/11/photo.png
END:VEVENT
BEGIN:VEVENT
DTSTART;TZID=America/New_York:20230620T183000
DTEND;TZID=America/New_York:20230620T193000
DTSTAMP:20260425T190850
CREATED:20230101T192419Z
LAST-MODIFIED:20230619T150817Z
UID:3716-1687285800-1687289400@newflorenceborough.org
SUMMARY:Borough Council Meeting
DESCRIPTION:The borough council meets monthly on the third Tuesday of each month at the borough building located at 119 Franklin Street in New Florence at 6:30 p.m.  The meetings are open to the public and all are encouraged to attend. \nHere is the agenda for the meeting. AGENDA 06-20-23
URL:https://newflorenceborough.org/event/borough-council-meeting-59/
LOCATION:Borough Building\, 119 Franklin Street\, New Florence\, PA\, 15944
ATTACH;FMTTYPE=image/png:https://newflorenceborough.org/wp-content/uploads/2017/11/photo.png
END:VEVENT
BEGIN:VEVENT
DTSTART;TZID=America/New_York:20230621T140000
DTEND;TZID=America/New_York:20230621T160000
DTSTAMP:20260425T190850
CREATED:20230614T022808Z
LAST-MODIFIED:20230614T022808Z
UID:4187-1687356000-1687363200@newflorenceborough.org
SUMMARY:New Florence Community Library - June 2023 Activities for Kids
DESCRIPTION:Check out this fun movie for kids ages 5 to 11 at the library.
URL:https://newflorenceborough.org/event/new-florence-community-library-june-2023-activities-for-kids/
LOCATION:New Florence Community Library\, 122 N Ligonier St.\, New Florence\, PA\, 15944
ATTACH;FMTTYPE=image/png:https://newflorenceborough.org/wp-content/uploads/2017/11/photo.png
END:VEVENT
BEGIN:VEVENT
DTSTART;TZID=America/New_York:20230622T140000
DTEND;TZID=America/New_York:20230622T160000
DTSTAMP:20260425T190850
CREATED:20230614T023037Z
LAST-MODIFIED:20230614T023037Z
UID:4189-1687442400-1687449600@newflorenceborough.org
SUMMARY:New Florence Community Library - June 2023 Activities for Kids
DESCRIPTION:Check out this fun activiy for kids ages 5 to 11 at the library.  If you need more information\, please give the library a call.
URL:https://newflorenceborough.org/event/new-florence-community-library-june-2023-activities-for-kids-2/
LOCATION:New Florence Community Library\, 122 N Ligonier St.\, New Florence\, PA\, 15944
ATTACH;FMTTYPE=image/png:https://newflorenceborough.org/wp-content/uploads/2017/11/photo.png
END:VEVENT
BEGIN:VEVENT
DTSTART;TZID=America/New_York:20230624T090000
DTEND;TZID=America/New_York:20230624T120000
DTSTAMP:20260425T190850
CREATED:20230618T113114Z
LAST-MODIFIED:20230618T113114Z
UID:4198-1687597200-1687608000@newflorenceborough.org
SUMMARY:LVHS Band Car Wash
DESCRIPTION:The Ligonier Valley High School Band will be holding a car wash fundraiser at the New Florence VFW Post 7622 on June 24th.  Please come out and support the band.  Donations will also be accepted if you don’t have time to get your vehicle cleaned.  Thanks. \nLVHS Band Car Wash
URL:https://newflorenceborough.org/event/lvhs-band-car-wash/
LOCATION:New Florence VFW\, 6215 Route 711\, New Florence\, PA\, 15944
ATTACH;FMTTYPE=image/png:https://newflorenceborough.org/wp-content/uploads/2017/11/photo.png
END:VEVENT
BEGIN:VEVENT
DTSTART;TZID=America/New_York:20230630T190000
DTEND;TZID=America/New_York:20230630T190000
DTSTAMP:20260425T190850
CREATED:20230510T120522Z
LAST-MODIFIED:20230510T120522Z
UID:4089-1688151600-1688151600@newflorenceborough.org
SUMMARY:New Florence Lions Club Fundraiser - June Cash Ticket
DESCRIPTION:Doug Hull would like everyone to know the New Florence Lions Club is selling raffle tickets for a fundraising event.  The tickets are $5 each and only 200 tickets are being sold.  Please contact a Lions Club member to purchase.  Also\, Doug can take Venmo at @Douglas-Hull-1.  He will fill out a ticket stub for you and send you a picture of your ticket.  If you don’t want to do the online thing\, just let him know and he’ll deliver the ticket to you.  The New Florence Lions thank you! We serve! \n \n 
URL:https://newflorenceborough.org/event/new-florence-lions-club-fundraiser-june-cash-ticket/
LOCATION:New Florence\, PA: Multiple Locations\, New Florence\, PA\, 15944
ATTACH;FMTTYPE=image/png:https://newflorenceborough.org/wp-content/uploads/2017/11/photo.png
END:VEVENT
END:VCALENDAR