BEGIN:VCALENDAR
VERSION:2.0
PRODID:-//New Florence Borough - ECPv6.15.20//NONSGML v1.0//EN
CALSCALE:GREGORIAN
METHOD:PUBLISH
X-ORIGINAL-URL:https://newflorenceborough.org
X-WR-CALDESC:Events for New Florence Borough
REFRESH-INTERVAL;VALUE=DURATION:PT1H
X-Robots-Tag:noindex
X-PUBLISHED-TTL:PT1H
BEGIN:VTIMEZONE
TZID:America/New_York
BEGIN:DAYLIGHT
TZOFFSETFROM:-0500
TZOFFSETTO:-0400
TZNAME:EDT
DTSTART:20220313T070000
END:DAYLIGHT
BEGIN:STANDARD
TZOFFSETFROM:-0400
TZOFFSETTO:-0500
TZNAME:EST
DTSTART:20221106T060000
END:STANDARD
BEGIN:DAYLIGHT
TZOFFSETFROM:-0500
TZOFFSETTO:-0400
TZNAME:EDT
DTSTART:20230312T070000
END:DAYLIGHT
BEGIN:STANDARD
TZOFFSETFROM:-0400
TZOFFSETTO:-0500
TZNAME:EST
DTSTART:20231105T060000
END:STANDARD
BEGIN:DAYLIGHT
TZOFFSETFROM:-0500
TZOFFSETTO:-0400
TZNAME:EDT
DTSTART:20240310T070000
END:DAYLIGHT
BEGIN:STANDARD
TZOFFSETFROM:-0400
TZOFFSETTO:-0500
TZNAME:EST
DTSTART:20241103T060000
END:STANDARD
END:VTIMEZONE
BEGIN:VEVENT
DTSTART;TZID=America/New_York:20230504T183000
DTEND;TZID=America/New_York:20230504T200000
DTSTAMP:20260425T201856
CREATED:20230203T021339Z
LAST-MODIFIED:20230430T195916Z
UID:3835-1683225000-1683230400@newflorenceborough.org
SUMMARY:New Florence/St Clair Sanitation Authority Meeting
DESCRIPTION:The New Florence/St. Clair Township Sanitation Authority meetings are open to the public.  Any changes to the schedule are published in the Johnstown Tribune Democrat newspaper. \n \n  \nIn April of 2023 Jim Moore\, borough council President\, was provided a series of documents from the New Florence/St. Clair Sanitary Authority associated with the creation of this organization.  The documents are Bylaws of New Florence – St. Clair Township Sanitary Authority\, Resolution to Create New Florence – St. Clair Township Sanitary Authority 28 September 2000\, and Articles of Incorporation New Florence – St. Clair Township Sanitary Authority.  These are apparently final draft documents.  If the original executed\, signed documents can be obtain then they will be posted.
URL:https://newflorenceborough.org/event/new-florence-st-clair-sanitation-authority-meeting-13/
LOCATION:New Florence/St. Clair Township Sanitation Authority\, 117 Franklin Street\, New Florence\, PA\, 15944\, United States
ATTACH;FMTTYPE=image/png:https://newflorenceborough.org/wp-content/uploads/2017/11/photo.png
END:VEVENT
BEGIN:VEVENT
DTSTART;TZID=America/New_York:20230506T100000
DTEND;TZID=America/New_York:20230506T140000
DTSTAMP:20260425T201856
CREATED:20230423T122454Z
LAST-MODIFIED:20230424T113543Z
UID:4023-1683367200-1683381600@newflorenceborough.org
SUMMARY:New Florence VFD Sub Sale
DESCRIPTION:The New Florence Volunteer Fire Department will be holding another sub sale fundraiser. Subs will be available from 10 am until they are sold out. On some schedule you may notice this date is listed as a Chicken BBQ fundraiser.  However\, with the cost of chicken they are changing this date to a sub sale.  If you need more information\, contact the fire department. Thank you. \n \n \n  \n 
URL:https://newflorenceborough.org/event/new-florence-vfd-sub-sale-10/
LOCATION:New Florence Volunteer Fire Department\, 177 13th Street\, New Florence\, PA\, 15944
ATTACH;FMTTYPE=image/png:https://newflorenceborough.org/wp-content/uploads/2017/11/photo.png
END:VEVENT
BEGIN:VEVENT
DTSTART;TZID=America/New_York:20230506T173000
DTEND;TZID=America/New_York:20230506T210000
DTSTAMP:20260425T201856
CREATED:20230423T130754Z
LAST-MODIFIED:20230424T114228Z
UID:4029-1683394200-1683406800@newflorenceborough.org
SUMMARY:New Florence VFD Rippie Night
DESCRIPTION:The New Florence Volunteer Fire Department will be holding their next rippie fundraiser.  If you need more information\, please contact the fire department.  Thanks.
URL:https://newflorenceborough.org/event/new-florence-vfd-rippie-night-16/
LOCATION:New Florence Volunteer Fire Department\, 177 13th Street\, New Florence\, PA\, 15944
ATTACH;FMTTYPE=image/png:https://newflorenceborough.org/wp-content/uploads/2017/11/photo.png
END:VEVENT
BEGIN:VEVENT
DTSTART;TZID=America/New_York:20230507T100000
DTEND;TZID=America/New_York:20230507T160000
DTSTAMP:20260425T201856
CREATED:20230423T120000Z
LAST-MODIFIED:20230423T120000Z
UID:4013-1683453600-1683475200@newflorenceborough.org
SUMMARY:Museums of the Ligonier Valley - Free Museum Day 2023
DESCRIPTION:Please check out this free event at six of our local museums. To learn more please call the museum you are interested in.\nHere are the various telephone numbers: \nCompass Inn Museum\, 724-238-6818\nFort Ligonier\, 724-238-9701\nAntiochian Heritage Museum\, 724-238-3677\nLincoln Highway Heritage Corridor\, 724-879-4241\nLigonier Valley Rail Road Museum\, 724-238-7819\nSouthern Alleghenies Museum of Art\, 724-238-6015
URL:https://newflorenceborough.org/event/museums-of-the-ligonier-valley-free-museum-day-2023/
LOCATION:PA
ATTACH;FMTTYPE=image/png:https://newflorenceborough.org/wp-content/uploads/2017/11/photo.png
END:VEVENT
BEGIN:VEVENT
DTSTART;TZID=America/New_York:20230510T180000
DTEND;TZID=America/New_York:20230510T193000
DTSTAMP:20260425T201856
CREATED:20230508T125149Z
LAST-MODIFIED:20230508T125149Z
UID:4077-1683741600-1683747000@newflorenceborough.org
SUMMARY:Laurel Valley Area Historical Society (LVAHS) Meeting
DESCRIPTION:I apologize for the late notice – but the Laurel Valley Area Historical Society will hold its monthly meeting for May on Wednesday evening\, May 10th at 6:00 pm at the St. Mary’s Cemetery in New Florence at the corner of 9th and Chestnut Streets.  After a brief business meeting\, we will be cleaning grave stones in preparation for Memorial Day (originally called Decoration Day). Please join us and bring a friend!! \nDoug Hull    doughull88@gmail.com \nThe group’s Email address is lvahs2022@gmail.com. \nIf you have any questions\, please contact Dick Stuart for more information.  Kathy Mack\, the society’s President is taking time off to deal with a family matter.  Thank you. \nRichard C. Stuart\, Vice President\nLaurel Valley Area Historical Society\nEmail: richard@thestuartfuneralhomes.com\nPhone: 724-235-2211
URL:https://newflorenceborough.org/event/laurel-valley-area-historical-society-lvahs-meeting-25/
LOCATION:St. Mary’s Catholic Cemetery\, 169 9th Street\, New Florence\, PA\, 15944\, United States
ATTACH;FMTTYPE=image/png:https://newflorenceborough.org/wp-content/uploads/2017/11/photo.png
END:VEVENT
BEGIN:VEVENT
DTSTART;TZID=America/New_York:20230513T150000
DTEND;TZID=America/New_York:20230513T170000
DTSTAMP:20260425T201856
CREATED:20230331T125906Z
LAST-MODIFIED:20230423T115419Z
UID:3957-1683990000-1683997200@newflorenceborough.org
SUMMARY:New Florence VFW Post 7622 Meat Raffle
DESCRIPTION:This is a Member’s Only event. \nCome out and try to stock up for your summer bar-b-ques! \nWe will be raffling off Bacon (4 lbs.)\, Premade burgers (12 patties/raffle)\, NY Strip Steaks (4)\, Ribs (2 slabs/raffle)\, Pork Butt (7-8 lbs.)\, Hot Sausage (1 entire ring)\, Chicken (combo pack).\nThere will be multiple raffles of each meat. You will receive gift cards for your win that are specific to the win to be redeemed at Pudliner’s in Armagh. \nThere will be a separate raffle for a Pit Boss grill!
URL:https://newflorenceborough.org/event/new-florence-vfw-post-7622-meat-raffle/
LOCATION:New Florence VFW\, 6215 Route 711\, New Florence\, PA\, 15944
ATTACH;FMTTYPE=image/png:https://newflorenceborough.org/wp-content/uploads/2017/11/photo.png
END:VEVENT
BEGIN:VEVENT
DTSTART;TZID=America/New_York:20230516T070000
DTEND;TZID=America/New_York:20230516T200000
DTSTAMP:20260425T201856
CREATED:20230430T194713Z
LAST-MODIFIED:20230430T194713Z
UID:4054-1684220400-1684267200@newflorenceborough.org
SUMMARY:2023 General Primary Election
DESCRIPTION:The 2023 General Primary Election is on Tuesday\, May 16th\, 2023.  Polls will be open from 7 am to 8 pm.  The New Florence polling location is the fire department building.
URL:https://newflorenceborough.org/event/2023-general-primary-election/
LOCATION:New Florence Volunteer Fire Department\, 177 13th Street\, New Florence\, PA\, 15944
ATTACH;FMTTYPE=image/png:https://newflorenceborough.org/wp-content/uploads/2017/11/photo.png
END:VEVENT
BEGIN:VEVENT
DTSTART;TZID=America/New_York:20230516T183000
DTEND;TZID=America/New_York:20230516T193000
DTSTAMP:20260425T201856
CREATED:20230101T192317Z
LAST-MODIFIED:20230101T192317Z
UID:3714-1684261800-1684265400@newflorenceborough.org
SUMMARY:Borough Council Meeting
DESCRIPTION:The borough council meets monthly on the third Tuesday of each month at the borough building located at 119 Franklin Street in New Florence at 6:30 p.m.  The meetings are open to the public and all are encouraged to attend. \nHere is the agenda for the meeting.  PENDING
URL:https://newflorenceborough.org/event/borough-council-meeting-58/
LOCATION:Borough Building\, 119 Franklin Street\, New Florence\, PA\, 15944
ATTACH;FMTTYPE=image/png:https://newflorenceborough.org/wp-content/uploads/2017/11/photo.png
END:VEVENT
BEGIN:VEVENT
DTSTART;TZID=America/New_York:20230520T110000
DTEND;TZID=America/New_York:20230520T140000
DTSTAMP:20260425T201856
CREATED:20230510T120148Z
LAST-MODIFIED:20230510T120148Z
UID:4087-1684580400-1684591200@newflorenceborough.org
SUMMARY:New Florence VFD Open House 2023
DESCRIPTION:The New Florence Volunteer Fire Department will be having an Open House on May 20th.  Please come out and attend this fun event.  If you need more information\, please contact the fire department.  Thanks.
URL:https://newflorenceborough.org/event/new-florence-vfd-open-house-2023/
LOCATION:New Florence Volunteer Fire Department\, 177 13th Street\, New Florence\, PA\, 15944
ATTACH;FMTTYPE=image/png:https://newflorenceborough.org/wp-content/uploads/2017/11/photo.png
END:VEVENT
BEGIN:VEVENT
DTSTART;TZID=America/New_York:20230522T190000
DTEND;TZID=America/New_York:20230526T190000
DTSTAMP:20260425T201856
CREATED:20230316T005936Z
LAST-MODIFIED:20230316T005936Z
UID:3926-1684782000-1685127600@newflorenceborough.org
SUMMARY:New Florence Community Library Summer Fun Fundraiser
DESCRIPTION:Please check out this fundraiser the library is having.  Good luck.  Cheers.
URL:https://newflorenceborough.org/event/new-florence-community-library-summer-fun-fundraiser/
LOCATION:New Florence Community Library\, 122 N Ligonier St.\, New Florence\, PA\, 15944
ATTACH;FMTTYPE=image/png:https://newflorenceborough.org/wp-content/uploads/2017/11/photo.png
END:VEVENT
BEGIN:VEVENT
DTSTART;TZID=America/New_York:20230529T093000
DTEND;TZID=America/New_York:20230529T110000
DTSTAMP:20260425T201856
CREATED:20230423T122015Z
LAST-MODIFIED:20230521T021528Z
UID:4021-1685352600-1685358000@newflorenceborough.org
SUMMARY:New Florence Memorial Day Parade
DESCRIPTION:This year the Memorial Day Parade will be in New Florence.  The parade will start at 19th and Ligonier streets and will end at the New Florence VFW.   Group participating in the parade should form up at 9 am.  Thanks. \nThere will be a short program at the VFW at the conclusion of the parade.  Happy Memorial Day.
URL:https://newflorenceborough.org/event/new-florence-memorial-day-parade-2/
LOCATION:New Florence\, PA: Multiple Locations\, New Florence\, PA\, 15944
ATTACH;FMTTYPE=image/png:https://newflorenceborough.org/wp-content/uploads/2017/11/photo.png
END:VEVENT
BEGIN:VEVENT
DTSTART;TZID=America/New_York:20230531T180000
DTEND;TZID=America/New_York:20230531T193000
DTSTAMP:20260425T201856
CREATED:20230522T115650Z
LAST-MODIFIED:20230522T115650Z
UID:4113-1685556000-1685561400@newflorenceborough.org
SUMMARY:New Florence Community Library "Essential Oils" Seminar
DESCRIPTION:The library is having Kimberly Green do another Essential Oils talk on Wednesday\, May 31st.   The program is free. Text 724-771-9017 to register and to be entered into a free drawing!  If you need more information\, give the library a call.  Thanks.
URL:https://newflorenceborough.org/event/new-florence-community-library-essential-oils-seminar-2/
LOCATION:New Florence Community Library\, 122 N Ligonier St.\, New Florence\, PA\, 15944
ATTACH;FMTTYPE=image/png:https://newflorenceborough.org/wp-content/uploads/2017/11/photo.png
END:VEVENT
END:VCALENDAR