BEGIN:VCALENDAR
VERSION:2.0
PRODID:-//New Florence Borough - ECPv6.15.20//NONSGML v1.0//EN
CALSCALE:GREGORIAN
METHOD:PUBLISH
X-WR-CALNAME:New Florence Borough
X-ORIGINAL-URL:https://newflorenceborough.org
X-WR-CALDESC:Events for New Florence Borough
REFRESH-INTERVAL;VALUE=DURATION:PT1H
X-Robots-Tag:noindex
X-PUBLISHED-TTL:PT1H
BEGIN:VTIMEZONE
TZID:America/New_York
BEGIN:DAYLIGHT
TZOFFSETFROM:-0500
TZOFFSETTO:-0400
TZNAME:EDT
DTSTART:20180311T070000
END:DAYLIGHT
BEGIN:STANDARD
TZOFFSETFROM:-0400
TZOFFSETTO:-0500
TZNAME:EST
DTSTART:20181104T060000
END:STANDARD
BEGIN:DAYLIGHT
TZOFFSETFROM:-0500
TZOFFSETTO:-0400
TZNAME:EDT
DTSTART:20190310T070000
END:DAYLIGHT
BEGIN:STANDARD
TZOFFSETFROM:-0400
TZOFFSETTO:-0500
TZNAME:EST
DTSTART:20191103T060000
END:STANDARD
BEGIN:DAYLIGHT
TZOFFSETFROM:-0500
TZOFFSETTO:-0400
TZNAME:EDT
DTSTART:20200308T070000
END:DAYLIGHT
BEGIN:STANDARD
TZOFFSETFROM:-0400
TZOFFSETTO:-0500
TZNAME:EST
DTSTART:20201101T060000
END:STANDARD
END:VTIMEZONE
BEGIN:VEVENT
DTSTART;TZID=America/New_York:20190815T190000
DTEND;TZID=America/New_York:20190815T210000
DTSTAMP:20260425T070921
CREATED:20190425T011906Z
LAST-MODIFIED:20190425T011906Z
UID:743-1565895600-1565902800@newflorenceborough.org
SUMMARY:New Florence Women's Club Meeting
DESCRIPTION:“Bird Carving”\, Speaker: Caroline Carney \nHostesses: Rosemary Csehoski\, Darlene Rummel\, and Paige Rummel
URL:https://newflorenceborough.org/event/new-florence-womens-club-meeting-3/
LOCATION:Trinity Presbyterian Church\, 117 Chestnut Street\, New Florence\, PA\, 15944
ATTACH;FMTTYPE=image/png:https://newflorenceborough.org/wp-content/uploads/2017/11/photo.png
END:VEVENT
BEGIN:VEVENT
DTSTART;TZID=America/New_York:20190812T180000
DTEND;TZID=America/New_York:20190812T190000
DTSTAMP:20260425T070921
CREATED:20190807T015056Z
LAST-MODIFIED:20190807T015056Z
UID:903-1565632800-1565636400@newflorenceborough.org
SUMMARY:Sesquicentennial Planning Committee Meeting
DESCRIPTION:This is the last meeting before the big event.  All are welcome to attend. Come and find out what is going on with this special day.  It’s getting very close to celebration time and we would appreciate any help we can get.  Thank you!
URL:https://newflorenceborough.org/event/sesquicentennial-planning-committee-meeting-16/
LOCATION:Borough Building\, 119 Franklin Street\, New Florence\, PA\, 15944
ATTACH;FMTTYPE=image/png:https://newflorenceborough.org/wp-content/uploads/2017/11/photo.png
END:VEVENT
BEGIN:VEVENT
DTSTART;TZID=America/New_York:20190805T190000
DTEND;TZID=America/New_York:20190805T200000
DTSTAMP:20260425T070921
CREATED:20190710T185457Z
LAST-MODIFIED:20190730T232158Z
UID:883-1565031600-1565035200@newflorenceborough.org
SUMMARY:New Florence Area Historical Society - Changed!
DESCRIPTION:The time for this meeting is delayed one hour so a Sesquicentennial meeting can be held beforehand.  It will start at 7:00 pm now.  Thanks.
URL:https://newflorenceborough.org/event/new-florence-area-historical-society-9/
LOCATION:Kenneth A. Stuart Funeral Home\, 139 Ligonier St.\, New Florence\, PA\, 15944
ATTACH;FMTTYPE=image/png:https://newflorenceborough.org/wp-content/uploads/2017/11/photo.png
END:VEVENT
BEGIN:VEVENT
DTSTART;TZID=America/New_York:20190805T180000
DTEND;TZID=America/New_York:20190805T190000
DTSTAMP:20260425T070921
CREATED:20190730T232526Z
LAST-MODIFIED:20190730T232526Z
UID:890-1565028000-1565031600@newflorenceborough.org
SUMMARY:Sesquicentennial Planning Committee Meeting
DESCRIPTION:All are welcome to attend the meeting. Come and find out what is going on or join in planning this special event.  More volunteers are needed to help with the birthday celebration.  It’s getting very close to celebration time.    We are less than 3 weeks away.  Please come out and help where you can.  It would be greatly appreciated.  Thanks!
URL:https://newflorenceborough.org/event/sesquicentennial-planning-committee-meeting-15/
LOCATION:Borough Building\, 119 Franklin Street\, New Florence\, PA\, 15944
ATTACH;FMTTYPE=image/png:https://newflorenceborough.org/wp-content/uploads/2017/11/photo.png
END:VEVENT
BEGIN:VEVENT
DTSTART;TZID=America/New_York:20190729T180000
DTEND;TZID=America/New_York:20190729T190000
DTSTAMP:20260425T070921
CREATED:20190725T024219Z
LAST-MODIFIED:20190725T024219Z
UID:886-1564423200-1564426800@newflorenceborough.org
SUMMARY:Sesquicentennial Planning Committee Meeting
DESCRIPTION:All are welcome to attend the meeting. Come and find out what is going on or join in planning this special event.  More volunteers are needed to help with the birthday celebration.  It’s getting very close to celebration time.    We are less than a month away.  Please come out and help where you can.  It would be greatly appreciated.  Thanks!
URL:https://newflorenceborough.org/event/sesquicentennial-planning-committee-meeting-14/
LOCATION:Borough Building\, 119 Franklin Street\, New Florence\, PA\, 15944
ATTACH;FMTTYPE=image/png:https://newflorenceborough.org/wp-content/uploads/2017/11/photo.png
END:VEVENT
BEGIN:VEVENT
DTSTART;TZID=America/New_York:20190722T180000
DTEND;TZID=America/New_York:20190722T190000
DTSTAMP:20260425T070921
CREATED:20190710T185140Z
LAST-MODIFIED:20190710T185140Z
UID:881-1563818400-1563822000@newflorenceborough.org
SUMMARY:Sesquicentennial Planning Committee Meeting
DESCRIPTION:All are welcome to attend. Find out what is going on or to join in planning this special event.  More volunteers are needed to help with the birthday celebration.  It’s getting very close to event time.  Please come out and help where you can.  It would be greatly appreciated.  Thanks!
URL:https://newflorenceborough.org/event/sesquicentennial-planning-committee-meeting-13/
LOCATION:Borough Building\, 119 Franklin Street\, New Florence\, PA\, 15944
ATTACH;FMTTYPE=image/png:https://newflorenceborough.org/wp-content/uploads/2017/11/photo.png
END:VEVENT
BEGIN:VEVENT
DTSTART;TZID=America/New_York:20190721T080000
DTEND;TZID=America/New_York:20190721T170000
DTSTAMP:20260425T070921
CREATED:20190423T012740Z
LAST-MODIFIED:20190423T012740Z
UID:723-1563696000-1563728400@newflorenceborough.org
SUMMARY:5th Annual Lifetime Hunt Golf Outing
DESCRIPTION:The Squirrel Hill Hunting Club is a local club that takes a child with a life-threatening illness on a Lifetime Hunt. The club members ensure that the child and his/her family have a great time and make memories that last a lifetime.  Each year they take a different terminally ill child on a dream hunt.  In the past they’ve also done a toy drive for the kids of Wilmington\, N.C.\, when Hurricane Florence devastated the area.  The club’s annual golf outing helps them raise money for the hunt including meals\, apparel\, a special day for mom\, and so much more.  Please help in any way you can.
URL:https://newflorenceborough.org/event/5th-annual-lifetime-hunt-golf-outing/
LOCATION:Champion Lakes Golf Course\, 4743 Route 711\, Bolivar\, PA\, 15944
ATTACH;FMTTYPE=image/png:https://newflorenceborough.org/wp-content/uploads/2017/11/photo.png
END:VEVENT
BEGIN:VEVENT
DTSTART;TZID=America/New_York:20190718T190000
DTEND;TZID=America/New_York:20190718T210000
DTSTAMP:20260425T070921
CREATED:20190425T011640Z
LAST-MODIFIED:20190425T011640Z
UID:741-1563476400-1563483600@newflorenceborough.org
SUMMARY:New Florence Women's Club Meeting
DESCRIPTION:“Bus Trip Adventures”\, Speaker: Vickie Baxter \nHostesses: Ann Minnigh\, Becky Overly\, and Carol Solich
URL:https://newflorenceborough.org/event/new-florence-womens-club-meeting-2/
LOCATION:Trinity Presbyterian Church\, 117 Chestnut Street\, New Florence\, PA\, 15944
ATTACH;FMTTYPE=image/png:https://newflorenceborough.org/wp-content/uploads/2017/11/photo.png
END:VEVENT
BEGIN:VEVENT
DTSTART;TZID=America/New_York:20190717T130000
DTEND;TZID=America/New_York:20190717T140000
DTSTAMP:20260425T070921
CREATED:20190618T235941Z
LAST-MODIFIED:20190618T235941Z
UID:843-1563368400-1563372000@newflorenceborough.org
SUMMARY:New Florence Community Library - Magic Show
DESCRIPTION:S.T.A.R. Magic Show with Steve Haberman \n\n \n\n\n\n\n\n\n\n\n \n\n\n\n\n\n\n\nEveryone’s favorite magician\, Steve Haberman\, will be coming to New Florence Community Library to astound everyone with great feats of magic\, clever tricks\, and funny jokes!  This event is FREE and is for all ages.  For more information or to register\, please stop by New Florence Community Library or call 724-235-2249!
URL:https://newflorenceborough.org/event/new-florence-community-library-magic-show/
LOCATION:New Florence Community Library\, 122 N Ligonier St.\, New Florence\, PA\, 15944
ATTACH;FMTTYPE=image/png:https://newflorenceborough.org/wp-content/uploads/2017/11/photo.png
END:VEVENT
BEGIN:VEVENT
DTSTART;TZID=America/New_York:20190716T190000
DTEND;TZID=America/New_York:20190716T200000
DTSTAMP:20260425T070921
CREATED:20190107T131418Z
LAST-MODIFIED:20190107T131418Z
UID:488-1563303600-1563307200@newflorenceborough.org
SUMMARY:Borough Council Meeting
DESCRIPTION:
URL:https://newflorenceborough.org/event/borough-council-meeting-12/
LOCATION:Borough Building\, 119 Franklin Street\, New Florence\, PA\, 15944
ATTACH;FMTTYPE=image/png:https://newflorenceborough.org/wp-content/uploads/2017/11/photo.png
END:VEVENT
BEGIN:VEVENT
DTSTART;TZID=America/New_York:20190713T130000
DTEND;TZID=America/New_York:20190713T140000
DTSTAMP:20260425T070921
CREATED:20190618T235132Z
LAST-MODIFIED:20190618T235132Z
UID:836-1563022800-1563026400@newflorenceborough.org
SUMMARY:New Florence Community Library Illustrated Lecture
DESCRIPTION:The Haunting of Pennsylvania’s Churches and Cemeteries \n\n\n\n\n\n\n\n\n\nLocal expert Ed Kelemen will be presenting on his latest book The Haunting of Pennsylvania’s Churches and Cemeteries. He will discuss the hauntings\, folklore\, and hoaxes that surround local cemeteries and churches.  After the presentation\, books will be available for purchase and signing. \n\n\n\n\n\n\n\nFor more information and to sign-up\, please stop by or call New Florence Community Library at 724-235-2249. \n\n\n\n\n\n\n\n  \n\n\n\n\n\n\n\n\n\n 
URL:https://newflorenceborough.org/event/new-florence-community-library-illustrated-lecture-2/
LOCATION:New Florence Community Library\, 122 N Ligonier St.\, New Florence\, PA\, 15944
ATTACH;FMTTYPE=image/png:https://newflorenceborough.org/wp-content/uploads/2017/11/photo.png
END:VEVENT
BEGIN:VEVENT
DTSTART;TZID=America/New_York:20190709T180000
DTEND;TZID=America/New_York:20190709T190000
DTSTAMP:20260425T070921
CREATED:20190619T002831Z
LAST-MODIFIED:20190619T002831Z
UID:848-1562695200-1562698800@newflorenceborough.org
SUMMARY:Sesquicentennial Planning Committee Meeting
DESCRIPTION:All are welcome to attend. Find out what is going on or to join in planning this special event.  More volunteers are needed to help with the birthday celebration.  Please come out and help where you can.  Here’s you committee that’s working hard to make this the best birthday party ever for the town. \n \n 
URL:https://newflorenceborough.org/event/sesquicentennial-planning-committee-meeting-12/
LOCATION:Borough Building\, 119 Franklin Street\, New Florence\, PA\, 15944
ATTACH;FMTTYPE=image/png:https://newflorenceborough.org/wp-content/uploads/2017/11/photo.png
END:VEVENT
BEGIN:VEVENT
DTSTART;TZID=America/New_York:20190708T180000
DTEND;TZID=America/New_York:20190708T190000
DTSTAMP:20260425T070921
CREATED:20190613T195921Z
LAST-MODIFIED:20190613T195921Z
UID:822-1562608800-1562612400@newflorenceborough.org
SUMMARY:New Florence Area Historical Society
DESCRIPTION:
URL:https://newflorenceborough.org/event/new-florence-area-historical-society-8/
LOCATION:Kenneth A. Stuart Funeral Home\, 139 Ligonier St.\, New Florence\, PA\, 15944
ATTACH;FMTTYPE=image/png:https://newflorenceborough.org/wp-content/uploads/2017/11/photo.png
END:VEVENT
BEGIN:VEVENT
DTSTART;TZID=America/New_York:20190630T180000
DTEND;TZID=America/New_York:20190630T180000
DTSTAMP:20260425T070921
CREATED:20190508T121517Z
LAST-MODIFIED:20190508T121517Z
UID:761-1561917600-1561917600@newflorenceborough.org
SUMMARY:New Florence Sesquicentennial T-Shirt Order Deadline
DESCRIPTION:Order your Sesquicentennial T-Shirt for the celebration on August 17th! You can pick-up order forms at the New Florence Library and return to the New Florence Borough by June 30th! Money is due with order form! Pick-up location/time will be announced when they are available.  You can also click on the flyer below and print the form from you computer to use.
URL:https://newflorenceborough.org/event/new-florence-sesquicentennial-t-shirt-order-deadline/
LOCATION:Borough Building\, 119 Franklin Street\, New Florence\, PA\, 15944
ATTACH;FMTTYPE=image/png:https://newflorenceborough.org/wp-content/uploads/2017/11/photo.png
END:VEVENT
BEGIN:VEVENT
DTSTART;TZID=America/New_York:20190622T100000
DTEND;TZID=America/New_York:20190622T160000
DTSTAMP:20260425T070921
CREATED:20190619T111653Z
LAST-MODIFIED:20190619T111653Z
UID:859-1561197600-1561219200@newflorenceborough.org
SUMMARY:New Florence Lions Club Fundraiser - Bolivar Days
DESCRIPTION:The Lions Club we will be selling hot sausage\, hot dogs\, and beverages\, plus the Lions Club brooms at Bolivar Days this weekend.  The club will be located at club member Gary Baird’s home at 621 Washington Street\, across from the old fire department.  Please stop by get a sandwich\, and take a broom home with you.
URL:https://newflorenceborough.org/event/new-florence-lions-club-fundraiser-bolivar-days/
LOCATION:Bolivar\, Bolivar\, PA\, 15923
ATTACH;FMTTYPE=image/png:https://newflorenceborough.org/wp-content/uploads/2017/11/photo.png
END:VEVENT
BEGIN:VEVENT
DTSTART;TZID=America/New_York:20190621T180000
DTEND;TZID=America/New_York:20190621T180000
DTSTAMP:20260425T070921
CREATED:20190528T115946Z
LAST-MODIFIED:20190528T115946Z
UID:804-1561140000-1561140000@newflorenceborough.org
SUMMARY:5th Annual Lifetime Hunt Golf Outing - Registration Deadline
DESCRIPTION:The Squirrel Hill Hunting Club is a local club that takes a child with a life-threatening illness on a Lifetime Hunt. The club members ensure that the child and his/her family have a great time and make memories that last a lifetime.  Each year they take a different terminally ill child on a dream hunt.  In the past they’ve also done a toy drive for the kids of Wilmington\, N.C.\, when Hurricane Florence devastated the area.  The club’s annual golf outing helps them raise money for the hunt including meals\, apparel\, a special day for mom\, and so much more.  Please help in any way you can.
URL:https://newflorenceborough.org/event/5th-annual-lifetime-hunt-golf-outing-registration-deadline/
LOCATION:Champion Lakes Golf Course\, 4743 Route 711\, Bolivar\, PA\, 15944
ATTACH;FMTTYPE=image/png:https://newflorenceborough.org/wp-content/uploads/2017/11/photo.png
END:VEVENT
BEGIN:VEVENT
DTSTART;TZID=America/New_York:20190621T083000
DTEND;TZID=America/New_York:20190621T183000
DTSTAMP:20260425T070921
CREATED:20190618T234248Z
LAST-MODIFIED:20190618T234248Z
UID:834-1561105800-1561141800@newflorenceborough.org
SUMMARY:Somerset Trust 1 Year Anniversary Celebration - Day 5
DESCRIPTION:
URL:https://newflorenceborough.org/event/somerset-trust-1-year-anniversary-celebration-day-5/
LOCATION:PA
ATTACH;FMTTYPE=image/png:https://newflorenceborough.org/wp-content/uploads/2017/11/photo.png
END:VEVENT
BEGIN:VEVENT
DTSTART;TZID=America/New_York:20190620T190000
DTEND;TZID=America/New_York:20190620T210000
DTSTAMP:20260425T070921
CREATED:20190425T011352Z
LAST-MODIFIED:20190425T011352Z
UID:739-1561057200-1561064400@newflorenceborough.org
SUMMARY:New Florence Women's Club Meeting
DESCRIPTION:“Pack for Traveling”\, Speaker: Adda Lee Hoskinson \nHostesses: Pam Bennett\, Donna Neatrour\, and Audrey Parry
URL:https://newflorenceborough.org/event/new-florence-womens-club-meeting/
LOCATION:Trinity Presbyterian Church\, 117 Chestnut Street\, New Florence\, PA\, 15944
ATTACH;FMTTYPE=image/png:https://newflorenceborough.org/wp-content/uploads/2017/11/photo.png
END:VEVENT
BEGIN:VEVENT
DTSTART;TZID=America/New_York:20190620T083000
DTEND;TZID=America/New_York:20190620T163000
DTSTAMP:20260425T070921
CREATED:20190618T234133Z
LAST-MODIFIED:20190618T234133Z
UID:832-1561019400-1561048200@newflorenceborough.org
SUMMARY:Somerset Trust 1 Year Anniversary Celebration - Day 4
DESCRIPTION:
URL:https://newflorenceborough.org/event/somerset-trust-1-year-anniversary-celebration-day-4/
LOCATION:Somerset Trust Company – New Florence Branch\, 161 12th Street\, New Florence\, PA\, 15944
ATTACH;FMTTYPE=image/png:https://newflorenceborough.org/wp-content/uploads/2017/11/photo.png
END:VEVENT
BEGIN:VEVENT
DTSTART;TZID=America/New_York:20190619T083000
DTEND;TZID=America/New_York:20190619T163000
DTSTAMP:20260425T070921
CREATED:20190618T234014Z
LAST-MODIFIED:20190618T234014Z
UID:829-1560933000-1560961800@newflorenceborough.org
SUMMARY:Somerset Trust 1 Year Anniversary Celebration - Day 3
DESCRIPTION:
URL:https://newflorenceborough.org/event/somerset-trust-1-year-anniversary-celebration-day-3/
LOCATION:Somerset Trust Company – New Florence Branch\, 161 12th Street\, New Florence\, PA\, 15944
ATTACH;FMTTYPE=image/png:https://newflorenceborough.org/wp-content/uploads/2017/11/photo.png
END:VEVENT
BEGIN:VEVENT
DTSTART;TZID=America/New_York:20190618T190000
DTEND;TZID=America/New_York:20190618T200000
DTSTAMP:20260425T070921
CREATED:20190107T131323Z
LAST-MODIFIED:20190107T131323Z
UID:486-1560884400-1560888000@newflorenceborough.org
SUMMARY:Borough Council Meeting
DESCRIPTION:
URL:https://newflorenceborough.org/event/borough-council-meeting-11/
LOCATION:Borough Building\, 119 Franklin Street\, New Florence\, PA\, 15944
ATTACH;FMTTYPE=image/png:https://newflorenceborough.org/wp-content/uploads/2017/11/photo.png
END:VEVENT
BEGIN:VEVENT
DTSTART;TZID=America/New_York:20190617T180000
DTEND;TZID=America/New_York:20190617T190000
DTSTAMP:20260425T070921
CREATED:20190606T171918Z
LAST-MODIFIED:20190606T171918Z
UID:819-1560794400-1560798000@newflorenceborough.org
SUMMARY:Sesquicentennial Planning Committee Meeting
DESCRIPTION:All are welcome to attend. Find out what is going on or to join in planning this special event.  More volunteers are needed to help with the birthday celebration.  As the committee gets closer to the event more meetings will be held.  For instance\, this is the second meeting of the month to help keep things moving smoothly.
URL:https://newflorenceborough.org/event/sesquicentennial-planning-committee-meeting-11/
LOCATION:Borough Building\, 119 Franklin Street\, New Florence\, PA\, 15944
ATTACH;FMTTYPE=image/png:https://newflorenceborough.org/wp-content/uploads/2017/11/photo.png
END:VEVENT
BEGIN:VEVENT
DTSTART;TZID=America/New_York:20190617T083000
DTEND;TZID=America/New_York:20190617T163000
DTSTAMP:20260425T070921
CREATED:20190613T201120Z
LAST-MODIFIED:20190613T201120Z
UID:825-1560760200-1560789000@newflorenceborough.org
SUMMARY:Somerset Trust 1 Year Anniversary Celebration
DESCRIPTION:
URL:https://newflorenceborough.org/event/somerset-trust-1-year-anniversary-celebration/
LOCATION:PA
ATTACH;FMTTYPE=image/png:https://newflorenceborough.org/wp-content/uploads/2017/11/photo.png
END:VEVENT
BEGIN:VEVENT
DTSTART;TZID=America/New_York:20190608T080000
DTEND;TZID=America/New_York:20190608T160000
DTSTAMP:20260425T070921
CREATED:20190528T113332Z
LAST-MODIFIED:20190528T113332Z
UID:798-1559980800-1560009600@newflorenceborough.org
SUMMARY:2019 Dumpster Days - Day 2
DESCRIPTION:Please see the flyer below for more information for participation\, restrictions\, and more. \n2019 DUMPSTER DAYS
URL:https://newflorenceborough.org/event/2019-dumpster-days-day-2/
LOCATION:PA
ATTACH;FMTTYPE=image/png:https://newflorenceborough.org/wp-content/uploads/2017/11/photo.png
END:VEVENT
BEGIN:VEVENT
DTSTART;TZID=America/New_York:20190607T080000
DTEND;TZID=America/New_York:20190607T160000
DTSTAMP:20260425T070921
CREATED:20190528T113131Z
LAST-MODIFIED:20190528T113131Z
UID:793-1559894400-1559923200@newflorenceborough.org
SUMMARY:2019 Dumpster Days - Day 1
DESCRIPTION:Please see the flyer below for more information for participation\, restrictions\, and more. \n2019 DUMPSTER DAYS
URL:https://newflorenceborough.org/event/2019-dumpster-days-day-1/
LOCATION:Old Yellow Brick School Building\, N. Ligonier St. and 8th St.\, New Florence\, PA
ATTACH;FMTTYPE=image/png:https://newflorenceborough.org/wp-content/uploads/2017/11/photo.png
END:VEVENT
BEGIN:VEVENT
DTSTART;TZID=America/New_York:20190605T180000
DTEND;TZID=America/New_York:20190605T190000
DTSTAMP:20260425T070921
CREATED:20190423T143009Z
LAST-MODIFIED:20190423T143009Z
UID:732-1559757600-1559761200@newflorenceborough.org
SUMMARY:New Florence Area Historical Society
DESCRIPTION:
URL:https://newflorenceborough.org/event/new-florence-area-historical-society-7/
LOCATION:Kenneth A. Stuart Funeral Home\, 139 Ligonier St.\, New Florence\, PA\, 15944
ATTACH;FMTTYPE=image/png:https://newflorenceborough.org/wp-content/uploads/2017/11/photo.png
END:VEVENT
BEGIN:VEVENT
DTSTART;TZID=America/New_York:20190603T180000
DTEND;TZID=America/New_York:20190603T193000
DTSTAMP:20260425T070921
CREATED:20190601T020307Z
LAST-MODIFIED:20190601T020450Z
UID:816-1559584800-1559590200@newflorenceborough.org
SUMMARY:Sesquicentennial Planning Committee Meeting
DESCRIPTION:All are welcome to attend. Find out what is going on or to join in planning this special event.  More volunteers are needed to help with the birthday celebration.  As the committee gets closer to the event more meetings will be held.
URL:https://newflorenceborough.org/event/sesquicentennial-planning-committee-meeting-10/
LOCATION:Borough Building\, 119 Franklin Street\, New Florence\, PA\, 15944
ATTACH;FMTTYPE=image/png:https://newflorenceborough.org/wp-content/uploads/2017/11/photo.png
END:VEVENT
BEGIN:VEVENT
DTSTART;TZID=America/New_York:20190601T080000
DTEND;TZID=America/New_York:20190601T160000
DTSTAMP:20260425T070921
CREATED:20190528T112429Z
LAST-MODIFIED:20190528T112429Z
UID:791-1559376000-1559404800@newflorenceborough.org
SUMMARY:New Florence Town-Wide Yard Sale
DESCRIPTION:Come join us for the community yard sale.  You’ll find lots of items from junk to treasures you just can’t live without.  There will be several places selling food throughout the town.  Enjoy!
URL:https://newflorenceborough.org/event/new-florence-town-wide-yard-sale/
LOCATION:New Florence\, PA: Multiple Locations\, New Florence\, PA\, 15944
ATTACH;FMTTYPE=image/png:https://newflorenceborough.org/wp-content/uploads/2017/11/photo.png
END:VEVENT
BEGIN:VEVENT
DTSTART;TZID=America/New_York:20190528T180000
DTEND;TZID=America/New_York:20190528T200000
DTSTAMP:20260425T070921
CREATED:20190508T120511Z
LAST-MODIFIED:20190508T120511Z
UID:759-1559066400-1559073600@newflorenceborough.org
SUMMARY:New Florence Community Library Book Discussion
DESCRIPTION:Join us for a local book discussion on René Chartrand’s\n“Tomahawk and Musket: French and Indian Raids in the Ohio Valley 1758”. \nFeaturing events that happened at Fort Ligonier and in the surrounding countryside\, Chartrand tells the complete story of the ambitious raids and counter-raids between the French and British forces\, including giving in-depth detail on the forces\, terrain\, and tactics. \nThis program is funded in part by a grant from the Ligonier Valley Education Trust. Copies of the book may be reserved at registration. \nThe first 20 participants who register\, read the book\, and attend the discussion will receive a free ticket to a group tour of Fort Ligonier. \nPre-Registration is REQUIRED.\nFor details and to sign-up\, please visit or call New Florence Community Library at 724-235-2249.
URL:https://newflorenceborough.org/event/new-florence-community-library-book-discussion/
LOCATION:New Florence Community Library\, 122 N Ligonier St.\, New Florence\, PA\, 15944
ATTACH;FMTTYPE=image/png:https://newflorenceborough.org/wp-content/uploads/2017/11/photo.png
END:VEVENT
BEGIN:VEVENT
DTSTART;TZID=America/New_York:20190527T090000
DTEND;TZID=America/New_York:20190527T103000
DTSTAMP:20260425T070921
CREATED:20190508T140522Z
LAST-MODIFIED:20190508T140522Z
UID:765-1558947600-1558953000@newflorenceborough.org
SUMMARY:New Florence Memorial Day Parade
DESCRIPTION:This year the Memorial Day Parade will be in New Florence.  The parade will start at 19th and Ligonier streets and will end at the New Florence VFW.  There will be a short program at the VFW at the conclusion of the parade.  Happy Memorial Day.
URL:https://newflorenceborough.org/event/new-florence-memorial-day-parade/
LOCATION:New Florence VFW\, 6215 Route 711\, New Florence\, PA\, 15944
ATTACH;FMTTYPE=image/png:https://newflorenceborough.org/wp-content/uploads/2017/11/photo.png
END:VEVENT
END:VCALENDAR