BEGIN:VCALENDAR
VERSION:2.0
PRODID:-//New Florence Borough - ECPv6.15.20//NONSGML v1.0//EN
CALSCALE:GREGORIAN
METHOD:PUBLISH
X-WR-CALNAME:New Florence Borough
X-ORIGINAL-URL:https://newflorenceborough.org
X-WR-CALDESC:Events for New Florence Borough
REFRESH-INTERVAL;VALUE=DURATION:PT1H
X-Robots-Tag:noindex
X-PUBLISHED-TTL:PT1H
BEGIN:VTIMEZONE
TZID:America/New_York
BEGIN:DAYLIGHT
TZOFFSETFROM:-0500
TZOFFSETTO:-0400
TZNAME:EDT
DTSTART:20210314T070000
END:DAYLIGHT
BEGIN:STANDARD
TZOFFSETFROM:-0400
TZOFFSETTO:-0500
TZNAME:EST
DTSTART:20211107T060000
END:STANDARD
BEGIN:DAYLIGHT
TZOFFSETFROM:-0500
TZOFFSETTO:-0400
TZNAME:EDT
DTSTART:20220313T070000
END:DAYLIGHT
BEGIN:STANDARD
TZOFFSETFROM:-0400
TZOFFSETTO:-0500
TZNAME:EST
DTSTART:20221106T060000
END:STANDARD
BEGIN:DAYLIGHT
TZOFFSETFROM:-0500
TZOFFSETTO:-0400
TZNAME:EDT
DTSTART:20230312T070000
END:DAYLIGHT
BEGIN:STANDARD
TZOFFSETFROM:-0400
TZOFFSETTO:-0500
TZNAME:EST
DTSTART:20231105T060000
END:STANDARD
END:VTIMEZONE
BEGIN:VEVENT
DTSTART;TZID=America/New_York:20220826T090000
DTEND;TZID=America/New_York:20220826T180000
DTSTAMP:20260425T114455
CREATED:20220823T013735Z
LAST-MODIFIED:20220823T013735Z
UID:3376-1661504400-1661536800@newflorenceborough.org
SUMMARY:New Florence Community Library Autumn Harvest Raffle Ticket Sales Event
DESCRIPTION:Please check out this exciting raffle the library is holding as a fundraiser in September.  The library will be selling tickets at the Giant Eagle in Ligonier on August 26th.  Check out the flyers below.  If you need more information\, please give the library a call.
URL:https://newflorenceborough.org/event/new-florence-community-library-autumn-harvest-raffle-ticket-sales-event-2/
LOCATION:Ligonier Giant Eagle\, 117 South Walnut Street\, Ligonier\, PA\, 15658\, United States
ATTACH;FMTTYPE=image/png:https://newflorenceborough.org/wp-content/uploads/2017/11/photo.png
END:VEVENT
BEGIN:VEVENT
DTSTART;TZID=America/New_York:20220824T100000
DTEND;TZID=America/New_York:20221008T160000
DTSTAMP:20260425T114455
CREATED:20220827T015101Z
LAST-MODIFIED:20220827T015101Z
UID:3381-1661335200-1665244800@newflorenceborough.org
SUMMARY:New Florence Community Library Flower Bulb Sale
DESCRIPTION:Please check out the flyer below for Dutch Mill Bulbs the library is selling.  Can you ever have too many flowers?
URL:https://newflorenceborough.org/event/new-florence-community-library-flower-bulb-sale/
LOCATION:New Florence Community Library\, 122 N Ligonier St.\, New Florence\, PA\, 15944
ATTACH;FMTTYPE=image/png:https://newflorenceborough.org/wp-content/uploads/2017/11/photo.png
END:VEVENT
BEGIN:VEVENT
DTSTART;TZID=America/New_York:20220821T130000
DTEND;TZID=America/New_York:20220821T170000
DTSTAMP:20260425T114455
CREATED:20220728T130608Z
LAST-MODIFIED:20220728T130608Z
UID:3272-1661086800-1661101200@newflorenceborough.org
SUMMARY:New Florence VFW Summer Picnic - 2022
DESCRIPTION:The VFW will be holding their annual summer picnic on this day.  Please stay tuned for more information.
URL:https://newflorenceborough.org/event/new-florence-vfw-summer-picnic-2022/
LOCATION:New Florence VFW\, 6215 Route 711\, New Florence\, PA\, 15944
ATTACH;FMTTYPE=image/png:https://newflorenceborough.org/wp-content/uploads/2017/11/photo.png
END:VEVENT
BEGIN:VEVENT
DTSTART;TZID=America/New_York:20220821T100000
DTEND;TZID=America/New_York:20220821T140000
DTSTAMP:20260425T114455
CREATED:20220810T232335Z
LAST-MODIFIED:20220810T232335Z
UID:3323-1661076000-1661090400@newflorenceborough.org
SUMMARY:New Florence VFD Sub Sale
DESCRIPTION:The New Florence Volunteer Fire Department will be holding another sub sale fundraiser.  Subs will be available from 10 am until they are sold out.  If you need more information\, contact the fire department.  Thank you.
URL:https://newflorenceborough.org/event/new-florence-vfd-sub-sale-4/
LOCATION:New Florence Volunteer Fire Department\, 177 13th Street\, New Florence\, PA\, 15944
ATTACH;FMTTYPE=image/png:https://newflorenceborough.org/wp-content/uploads/2017/11/photo.png
END:VEVENT
BEGIN:VEVENT
DTSTART;TZID=America/New_York:20220820T180000
DTEND;TZID=America/New_York:20220820T200000
DTSTAMP:20260425T114455
CREATED:20220728T133207Z
LAST-MODIFIED:20220728T133207Z
UID:3279-1661018400-1661025600@newflorenceborough.org
SUMMARY:Back-to-School Scavenger Hunt and Sundae Bar
DESCRIPTION:The New Florence Community Development group will be holding a Back-to-School Scavenger Hunt for Pre-K to 5th grade students.  The hunt will start at 6 pm.  You’ll also have a chance to make your own sundae. \nIf you need more information\, please contact: \nNew Florence Community Development\nPresident: Taylor Solich\n724-599-7163\nEmail: taylorsolich@yahoo.com \nPlease see the flyer below.
URL:https://newflorenceborough.org/event/back-to-school-scavenger-hunt-and-sundae-bar/
LOCATION:New Florence Playground\, 13th Street\, New Florence\, PA\, 15944\, United States
ATTACH;FMTTYPE=image/png:https://newflorenceborough.org/wp-content/uploads/2017/11/photo.png
END:VEVENT
BEGIN:VEVENT
DTSTART;TZID=America/New_York:20220820T150000
DTEND;TZID=America/New_York:20220820T160000
DTSTAMP:20260425T114455
CREATED:20220728T233631Z
LAST-MODIFIED:20220729T021259Z
UID:3289-1661007600-1661011200@newflorenceborough.org
SUMMARY:"Jerry Page Field" Dedication Ceremony
DESCRIPTION:The Laurel Valley Rams Youth Football League will be holding a dedication ceremony at the football field by the Laurel Valley Elementary School.  The Ligonier Valley School Board gave approval for the football field to be renamed “Jerry Page Field” to honor the man who coached over 30 years for the district.  The time of the event is tentatively scheduled for 3 pm.  Below is the flyer of the initial announcement.  The deadline to order t-shirts was July 31st.
URL:https://newflorenceborough.org/event/jerry-page-field-dedication-ceremony/
LOCATION:Laurel Valley Elementary School\, 137 Education Way\, New Florence\, PA\, 15944\, United States
ATTACH;FMTTYPE=image/png:https://newflorenceborough.org/wp-content/uploads/2017/11/photo.png
END:VEVENT
BEGIN:VEVENT
DTSTART;TZID=America/New_York:20220819T160000
DTEND;TZID=America/New_York:20220819T190000
DTSTAMP:20260425T114455
CREATED:20220815T003949Z
LAST-MODIFIED:20220815T003949Z
UID:3338-1660924800-1660935600@newflorenceborough.org
SUMMARY:Auker's Farmer's Market
DESCRIPTION:The New Florence Community Development organization has been working on getting a famer’s market set up in New Florence.  On Friday\, August 19th Jeremy Auker and his family from Brush Valley will be bringing their locally grown\, farm fresh produce to New Florence. The sale will run from 4pm to 7pm. The location will be in the recently cleared\, graded\, and graveled front parking lot at the storage facility. The address is 179 Ligonier Street\, across from the New Florence Family Restaurant and beside the post office.  This is a trial run since most sellers are already committed to locations and have full calendars for the 2022 growing season. The Auker’s have offered to cut time from their schedule to join us in testing the waters to see how well the area embraces the idea. If the surrounding communities support the “farmers market” and make it a success\, we plan to make it a permanent location and assist with the advertisement.  If you have the opportunity and would like to support the formation of a local market\, please take time to stop on the evening of August 19th.  Thank you!!
URL:https://newflorenceborough.org/event/aukers-farmers-market/
LOCATION:Auker Farmer’s Market\, 179 Ligonier St\, New Florence\, PA\, 15944\, United States
ATTACH;FMTTYPE=image/png:https://newflorenceborough.org/wp-content/uploads/2017/11/photo.png
END:VEVENT
BEGIN:VEVENT
DTSTART;TZID=America/New_York:20220818T150000
DTEND;TZID=America/New_York:20220818T190000
DTSTAMP:20260425T114455
CREATED:20220818T111414Z
LAST-MODIFIED:20220818T111414Z
UID:3348-1660834800-1660849200@newflorenceborough.org
SUMMARY:Benefit Spaghetti Dinner for BSA Troop 1123
DESCRIPTION:Please check out this fundraiser flyer.
URL:https://newflorenceborough.org/event/benefit-spaghetti-dinner-for-bsa-troop-1123/
LOCATION:New Florence Family Restaurant\, 182 Ligonier Street\, New Florence\, PA\, 15944\, United States
ATTACH;FMTTYPE=image/png:https://newflorenceborough.org/wp-content/uploads/2017/11/photo.png
END:VEVENT
BEGIN:VEVENT
DTSTART;TZID=America/New_York:20220816T183000
DTEND;TZID=America/New_York:20220816T193000
DTSTAMP:20260425T114455
CREATED:20220109T031519Z
LAST-MODIFIED:20220109T031519Z
UID:2598-1660674600-1660678200@newflorenceborough.org
SUMMARY:Borough Council Meeting
DESCRIPTION:The borough council meets monthly on the third Tuesday of each month at the borough building located at 119 Franklin Street in New Florence at 6:30 p.m.  The meetings are open to the public and all are encouraged to attend. \nHere is the agenda for the meeting.  PENDING
URL:https://newflorenceborough.org/event/borough-council-meeting-49/
LOCATION:Borough Building\, 119 Franklin Street\, New Florence\, PA\, 15944
ATTACH;FMTTYPE=image/png:https://newflorenceborough.org/wp-content/uploads/2017/11/photo.png
END:VEVENT
BEGIN:VEVENT
DTSTART;TZID=America/New_York:20220813T190000
DTEND;TZID=America/New_York:20220813T190000
DTSTAMP:20260425T114455
CREATED:20220728T131158Z
LAST-MODIFIED:20220728T131158Z
UID:3275-1660417200-1660417200@newflorenceborough.org
SUMMARY:Squirrel Hill Hunting Club "Camping Ticket" Raffle Ticket
DESCRIPTION:The Squirrel Hill Hunting Club has an upcoming fundraiser.  They are selling “Camping Ticket” raffle tickets which have all sorts of prizes for camping.  This particular fundraiser is to benefit Doug Nixon & family.  Typically\, the Squirrel Hill Hunting Club fundraisers are used to provide hunting activities for severely ill children.  Please contact Sue Buckles at 724-600-9734 for tickets or more information.
URL:https://newflorenceborough.org/event/squirrel-hill-hunting-club-camping-ticket-raffle-ticket/
LOCATION:New Florence\, PA: Multiple Locations\, New Florence\, PA\, 15944
ATTACH;FMTTYPE=image/png:https://newflorenceborough.org/wp-content/uploads/2017/11/photo.png
END:VEVENT
BEGIN:VEVENT
DTSTART;TZID=America/New_York:20220810T083000
DTEND;TZID=America/New_York:20220810T160000
DTSTAMP:20260425T114455
CREATED:20220403T150504Z
LAST-MODIFIED:20220607T213828Z
UID:2946-1660120200-1660147200@newflorenceborough.org
SUMMARY:Gateway Clipper Cruise Bus Trip
DESCRIPTION:The New Florence Community Library\, in partnership with the New Florence Senior Center\, planned 2 bus trips.  The first was on Wednesday\, May 25th\, 2022\, to the Flight 93 Memorial with a lunch stop at the Bedford Springs Hotel.  Many people who went on this trip said how wonderful it was.  The second trip will be Wednesday\, August 10th\, 2022.  This trip is a Gateway Clipper Cruise in Pittsburgh on a showboat with a luncheon.  The cost for the clipper trip has been changed to $80.00 instead of the originally announced $75.00. Stop by the library to reserve your seat on the bus. Please see the flyer below or call the library at 724-235-2249 for more information.  Additional details will be published as they become available.
URL:https://newflorenceborough.org/event/gateway-clipper-cruise-bus-trip/
LOCATION:New Florence Community Library\, 122 N Ligonier St.\, New Florence\, PA\, 15944
ATTACH;FMTTYPE=image/png:https://newflorenceborough.org/wp-content/uploads/2017/11/photo.png
END:VEVENT
BEGIN:VEVENT
DTSTART;TZID=America/New_York:20220808T100000
DTEND;TZID=America/New_York:20220821T160000
DTSTAMP:20260425T114455
CREATED:20220728T132051Z
LAST-MODIFIED:20220728T132051Z
UID:3277-1659952800-1661097600@newflorenceborough.org
SUMMARY:New Florence Community Library & Children's Bookstore Fair
DESCRIPTION:The library is teaming up with the Children’s Bookstore for a 2-week online Book Fair from August 8th to the 21th.  The library earns a portion of every sale.  Please check out the flyer below if you’d like to participate.  The link to the bookstore can be found here.  Children’s Bookstore Link – Aug 2022
URL:https://newflorenceborough.org/event/new-florence-community-library-childrens-bookstore-fair-3/
LOCATION:PA
ATTACH;FMTTYPE=image/png:https://newflorenceborough.org/wp-content/uploads/2017/11/photo.png
END:VEVENT
BEGIN:VEVENT
DTSTART;TZID=America/New_York:20220806T173000
DTEND;TZID=America/New_York:20220806T210000
DTSTAMP:20260425T114455
CREATED:20220729T020931Z
LAST-MODIFIED:20220729T020931Z
UID:3297-1659807000-1659819600@newflorenceborough.org
SUMMARY:New Florence VFD Rippie Night
DESCRIPTION:The New Florence Volunteer Fire Department will be holding their next rippie fundraiser.  Please see the flyer below or contact the fire department for more information.
URL:https://newflorenceborough.org/event/new-florence-vfd-rippie-night-9/
LOCATION:New Florence Volunteer Fire Department\, 177 13th Street\, New Florence\, PA\, 15944
ATTACH;FMTTYPE=image/png:https://newflorenceborough.org/wp-content/uploads/2017/11/photo.png
END:VEVENT
BEGIN:VEVENT
DTSTART;TZID=America/New_York:20220806T110000
DTEND;TZID=America/New_York:20220806T150000
DTSTAMP:20260425T114455
CREATED:20220729T020614Z
LAST-MODIFIED:20220729T020614Z
UID:3295-1659783600-1659798000@newflorenceborough.org
SUMMARY:New Florence VFD Chicken BBQ
DESCRIPTION:The New Florence VFD will be holding their next Chicken BBQ fundraiser of the year on August 6th.  They will start at 11 am and go till sold out.  Preorders are welcome.  Lots of folks are saying great things about how good the meals are.  The BBQ sales are the first Saturday on the month till late fall.  Please come out and support the fire department.  Thanks.
URL:https://newflorenceborough.org/event/new-florence-vfd-chicken-bbq-8/
LOCATION:New Florence Volunteer Fire Department\, 177 13th Street\, New Florence\, PA\, 15944
ATTACH;FMTTYPE=image/png:https://newflorenceborough.org/wp-content/uploads/2017/11/photo.png
END:VEVENT
BEGIN:VEVENT
DTSTART;TZID=America/New_York:20220802T170000
DTEND;TZID=America/New_York:20220802T200000
DTSTAMP:20260425T114455
CREATED:20220711T022545Z
LAST-MODIFIED:20220711T022545Z
UID:3234-1659459600-1659470400@newflorenceborough.org
SUMMARY:National Night Out 2022
DESCRIPTION:The St. Clair Township Police Department will be out within each community during the evening to interact with the residents with the goal of improving community relations.  Tentatively they will be in New Florence from 5 pm to 8 pm.  More information will be posted as it becomes available.
URL:https://newflorenceborough.org/event/national-night-out-2022/
LOCATION:New Florence\, PA: Multiple Locations\, New Florence\, PA\, 15944
ATTACH;FMTTYPE=image/png:https://newflorenceborough.org/wp-content/uploads/2017/11/photo.png
END:VEVENT
BEGIN:VEVENT
DTSTART;TZID=America/New_York:20220731T200000
DTEND;TZID=America/New_York:20220731T200000
DTSTAMP:20260425T114455
CREATED:20220728T134554Z
LAST-MODIFIED:20220728T134629Z
UID:3281-1659297600-1659297600@newflorenceborough.org
SUMMARY:Jerry Page T-Shirt - LV Rams Youth Football
DESCRIPTION:Please check out this opportunity to celebrate our beloved coach\, Jerry Page. \nHere is the complete link shown in the Facebook post if you’d like to order a t-shirt.  Jerry Page T-Shirt Order Form
URL:https://newflorenceborough.org/event/jerry-page-t-shirt-lv-rams-youth-football/
LOCATION:Laurel Valley Elementary School\, 137 Education Way\, New Florence\, PA\, 15944\, United States
ATTACH;FMTTYPE=image/png:https://newflorenceborough.org/wp-content/uploads/2017/11/photo.png
END:VEVENT
BEGIN:VEVENT
DTSTART;TZID=America/New_York:20220730T170000
DTEND;TZID=America/New_York:20220730T220000
DTSTAMP:20260425T114455
CREATED:20220403T133659Z
LAST-MODIFIED:20220403T133659Z
UID:2933-1659200400-1659218400@newflorenceborough.org
SUMMARY:NF VFD Drag Queen Bingo
DESCRIPTION:Please check out the flyer below for a fundraiser the fire department will holding.  Thank you.
URL:https://newflorenceborough.org/event/nf-vfd-drag-queen-bingo-2/
LOCATION:New Florence Volunteer Fire Department\, 177 13th Street\, New Florence\, PA\, 15944
ATTACH;FMTTYPE=image/png:https://newflorenceborough.org/wp-content/uploads/2017/11/photo.png
END:VEVENT
BEGIN:VEVENT
DTSTART;TZID=America/New_York:20220726T183000
DTEND;TZID=America/New_York:20220726T193000
DTSTAMP:20260425T114455
CREATED:20220725T114551Z
LAST-MODIFIED:20220725T114551Z
UID:3247-1658860200-1658863800@newflorenceborough.org
SUMMARY:New Florence/St Clair Sanitation Authority Meeting
DESCRIPTION:The next meeting of the New Florence/St. Clair Township Sanitation Authority will be July 26\, 2022\, at 6:30 pm.  This meeting is open to the public.  Also\, since Jaleen Waugh resigned from board\, Carol Henderson is now the chair.  If you have a sewage issue\, please contact the authority at 724-235-2580 or nfsctsa@outlook.com.  Additionally\, the New Florence borough council needs to appoint someone to the sewage board to fill a vacancy.  Those interested in being on the sewage board should contact the borough office for more information. \n 
URL:https://newflorenceborough.org/event/new-florence-st-clair-sanitation-authority-meeting-8/
LOCATION:Borough Building\, 119 Franklin Street\, New Florence\, PA\, 15944
ATTACH;FMTTYPE=image/png:https://newflorenceborough.org/wp-content/uploads/2017/11/photo.png
END:VEVENT
BEGIN:VEVENT
DTSTART;TZID=America/New_York:20220720T190000
DTEND;TZID=America/New_York:20220720T203000
DTSTAMP:20260425T114455
CREATED:20220711T022145Z
LAST-MODIFIED:20220711T022145Z
UID:3228-1658343600-1658349000@newflorenceborough.org
SUMMARY:Blue Mass for First Responders and the 1977 Johnstown Flood Anniversary
DESCRIPTION:Please see the flyer below for this special event honoring those in our community and surrounding area.
URL:https://newflorenceborough.org/event/blue-mass-for-first-responders-and-the-1977-johnstown-flood-anniversary/
LOCATION:Holy Family Parish\, 425 Bridge Street\, Seward\, PA\, 15954\, United States
ATTACH;FMTTYPE=image/png:https://newflorenceborough.org/wp-content/uploads/2017/11/photo.png
END:VEVENT
BEGIN:VEVENT
DTSTART;TZID=America/New_York:20220720T180000
DTEND;TZID=America/New_York:20220720T193000
DTSTAMP:20260425T114455
CREATED:20220711T021521Z
LAST-MODIFIED:20220711T021521Z
UID:3225-1658340000-1658345400@newflorenceborough.org
SUMMARY:Laurel Valley Area Historical Society (LVAHS) Meeting
DESCRIPTION:Please join us for the next meeting of the Laurel Valley Area Historical Society.  The meeting is a continuation of the Methodist Cemetery cleanup in West Fairfield (across from the auction barn at 135 Fairfield Rd\, New Florence\, PA 15944).  We didn’t get finished up there the last time. Even if you can’t bend\, lift\, or scrub\, you can still help to squirt down the stones\, or just come sit on a chair and watch. There is no shade there so please dress accordingly.  If it rains\, we will have our meeting inside the auction barn. \nThe group has a new Email address. It is lvahs2022@gmail.com. \nIf you have any questions\, please contact Kathy Mack for more information.  Thank you. \nKathy Mack\, President\nLaurel Valley Area Historical Society\n724-235-2688
URL:https://newflorenceborough.org/event/laurel-valley-area-historical-society-lvahs-meeting-20/
LOCATION:West Fairfield Auction Barn\, 135 Fairfield Road\, New Florence\, PA\, 15944
ATTACH;FMTTYPE=image/png:https://newflorenceborough.org/wp-content/uploads/2017/11/photo.png
END:VEVENT
BEGIN:VEVENT
DTSTART;TZID=America/New_York:20220719T183000
DTEND;TZID=America/New_York:20220719T193000
DTSTAMP:20260425T114455
CREATED:20220109T031356Z
LAST-MODIFIED:20220719T010000Z
UID:2596-1658255400-1658259000@newflorenceborough.org
SUMMARY:Borough Council Meeting
DESCRIPTION:The borough council meets monthly on the third Tuesday of each month at the borough building located at 119 Franklin Street in New Florence at 6:30 p.m.  The meetings are open to the public and all are encouraged to attend. \nHere is the agenda for the meeting.  AGENDA 07-19-22
URL:https://newflorenceborough.org/event/borough-council-meeting-48/
LOCATION:Borough Building\, 119 Franklin Street\, New Florence\, PA\, 15944
ATTACH;FMTTYPE=image/png:https://newflorenceborough.org/wp-content/uploads/2017/11/photo.png
END:VEVENT
BEGIN:VEVENT
DTSTART;TZID=America/New_York:20220717T073000
DTEND;TZID=America/New_York:20220717T170000
DTSTAMP:20260425T114455
CREATED:20220522T233944Z
LAST-MODIFIED:20220522T233944Z
UID:3129-1658043000-1658077200@newflorenceborough.org
SUMMARY:Squirrel Hill Hunting Club Lifetime Hunt for Kids Golf Outing
DESCRIPTION:The Squirrel Hill Hunting Club will hold their 7th Annual Lifetime Hunt for Kids Golf Outing on July 17th\, 2022\, at Champion Lakes Golf Resort.  The fundraiser benefits children with a life-threatening illness.  The flyer contains additional information on how to participate.  If you don’t do email you can contact Sue Buckles at 724-600-9734 for additional information.  Thank you.
URL:https://newflorenceborough.org/event/squirrel-hill-hunting-club-lifetime-hunt-for-kids-golf-outing-2/
LOCATION:Champion Lakes Golf Course\, 4743 Route 711\, Bolivar\, PA\, 15944
ATTACH;FMTTYPE=image/png:https://newflorenceborough.org/wp-content/uploads/2017/11/photo.png
END:VEVENT
BEGIN:VEVENT
DTSTART;TZID=America/New_York:20220709T190000
DTEND;TZID=America/New_York:20220709T210000
DTSTAMP:20260425T114455
CREATED:20220629T104519Z
LAST-MODIFIED:20220629T104519Z
UID:3205-1657393200-1657400400@newflorenceborough.org
SUMMARY:New Florence Community Library Folk Songs & Sea Shanties Concert
DESCRIPTION:Please check out this interesting event the library will be hosting on July 9th.  They are having a concert of Folk Songs & Sea Shanties with Andy & Judy.  The concert will be hosted by the New Florence United Methodist Church.  If you’d like more information\, give the library a call at 724-235-2249.  Thank you.
URL:https://newflorenceborough.org/event/new-florence-community-library-folk-songs-sea-shanties-concert/
LOCATION:New Florence United Methodist Church\, 200 9th St.\, New Florence\, PA\, 15944\, United States
ATTACH;FMTTYPE=image/png:https://newflorenceborough.org/wp-content/uploads/2017/11/photo.png
END:VEVENT
BEGIN:VEVENT
DTSTART;TZID=America/New_York:20220708T140000
DTEND;TZID=America/New_York:20220708T160000
DTSTAMP:20260425T114455
CREATED:20220629T105142Z
LAST-MODIFIED:20220629T105142Z
UID:3207-1657288800-1657296000@newflorenceborough.org
SUMMARY:New Florence Community Library Westmoreland Nature Backpack Seminar
DESCRIPTION:The library will be hosting Dr. Paula Purnell from the Westmoreland Land Trust’s Partner for Educational Programming.  She will explain the ins and outs of the Westmoreland Nature Backpack Program.  Please see the flyer below for details.  If you’d like more information\, give the library a call at 724-235-2249.  Thank you. \n \n 
URL:https://newflorenceborough.org/event/new-florence-community-library-westmoreland-nature-backpack-seminar/
LOCATION:New Florence Community Library\, 122 N Ligonier St.\, New Florence\, PA\, 15944
ATTACH;FMTTYPE=image/png:https://newflorenceborough.org/wp-content/uploads/2017/11/photo.png
END:VEVENT
BEGIN:VEVENT
DTSTART;TZID=America/New_York:20220702T173000
DTEND;TZID=America/New_York:20220702T210000
DTSTAMP:20260425T114455
CREATED:20220628T115304Z
LAST-MODIFIED:20220628T115304Z
UID:3201-1656783000-1656795600@newflorenceborough.org
SUMMARY:New Florence VFD Rippie Night
DESCRIPTION:The New Florence Volunteer Fire Department will be holding their next rippie fundraiser.  Please see the flyer below or contact the fire department for more information.
URL:https://newflorenceborough.org/event/new-florence-vfd-rippie-night-8/
LOCATION:New Florence Volunteer Fire Department\, 177 13th Street\, New Florence\, PA\, 15944
ATTACH;FMTTYPE=image/png:https://newflorenceborough.org/wp-content/uploads/2017/11/photo.png
END:VEVENT
BEGIN:VEVENT
DTSTART;TZID=America/New_York:20220702T110000
DTEND;TZID=America/New_York:20220702T140000
DTSTAMP:20260425T114455
CREATED:20220628T115018Z
LAST-MODIFIED:20220628T115018Z
UID:3199-1656759600-1656770400@newflorenceborough.org
SUMMARY:New Florence VFD Chicken BBQ
DESCRIPTION:The New Florence VFD will be holding their next Chicken BBQ fundraiser of the year on July 2nd.  They will start at 11 am and go till sold out.  Preorders are welcome.  Lots of folks are saying great things about how good the meals are.  The BBQ sales are the first Saturday on the month till late fall.  Please come out and support the fire department.  Thanks.
URL:https://newflorenceborough.org/event/new-florence-vfd-chicken-bbq-7/
LOCATION:New Florence Volunteer Fire Department\, 177 13th Street\, New Florence\, PA\, 15944
ATTACH;FMTTYPE=image/png:https://newflorenceborough.org/wp-content/uploads/2017/11/photo.png
END:VEVENT
BEGIN:VEVENT
DTSTART;TZID=America/New_York:20220629T083000
DTEND;TZID=America/New_York:20220629T120000
DTSTAMP:20260425T114455
CREATED:20220628T114542Z
LAST-MODIFIED:20220628T114542Z
UID:3196-1656491400-1656504000@newflorenceborough.org
SUMMARY:New Florence Community Library Autumn Harvest Raffle Ticket Sales Event
DESCRIPTION:Please check out this exciting raffle the library is holding as a fundraiser in September.  To help kick off sales the library will be selling tickets at Ideal Market in Seward on June 29th.  Check out the flyers below.  If you need more information\, please give the library a call.  Note: the end time for sales at the market is approximate.
URL:https://newflorenceborough.org/event/new-florence-community-library-autumn-harvest-raffle-ticket-sales-event/
LOCATION:Ideal Market – Seward\, 6858 Route 711\, Seward\, PA\, 15954\, United States
ATTACH;FMTTYPE=image/png:https://newflorenceborough.org/wp-content/uploads/2017/11/photo.png
END:VEVENT
BEGIN:VEVENT
DTSTART;TZID=America/New_York:20220625T150000
DTEND;TZID=America/New_York:20220625T193000
DTSTAMP:20260425T114455
CREATED:20220414T214426Z
LAST-MODIFIED:20220414T214426Z
UID:2984-1656169200-1656185400@newflorenceborough.org
SUMMARY:New Florence VFD Summer Cash Bash 2022
DESCRIPTION:The New Florence Volunteer Fire Department will be holding a summer cash bash fundraiser.  Please see the flyer below or contact the fire department for more information.
URL:https://newflorenceborough.org/event/new-florence-vfd-summer-cash-bash-2022/
LOCATION:New Florence Volunteer Fire Department\, 177 13th Street\, New Florence\, PA\, 15944
ATTACH;FMTTYPE=image/png:https://newflorenceborough.org/wp-content/uploads/2017/11/photo.png
END:VEVENT
BEGIN:VEVENT
DTSTART;TZID=America/New_York:20220621T183000
DTEND;TZID=America/New_York:20220621T193000
DTSTAMP:20260425T114455
CREATED:20220109T031248Z
LAST-MODIFIED:20220109T031248Z
UID:2594-1655836200-1655839800@newflorenceborough.org
SUMMARY:Borough Council Meeting
DESCRIPTION:The borough council meets monthly on the third Tuesday of each month at the borough building located at 119 Franklin Street in New Florence at 6:30 p.m.  The meetings are open to the public and all are encouraged to attend. \nHere is the agenda for the meeting.  PENDING
URL:https://newflorenceborough.org/event/borough-council-meeting-47/
LOCATION:Borough Building\, 119 Franklin Street\, New Florence\, PA\, 15944
ATTACH;FMTTYPE=image/png:https://newflorenceborough.org/wp-content/uploads/2017/11/photo.png
END:VEVENT
BEGIN:VEVENT
DTSTART;TZID=America/New_York:20220618T080000
DTEND;TZID=America/New_York:20220618T160000
DTSTAMP:20260425T114455
CREATED:20220522T232516Z
LAST-MODIFIED:20220522T232516Z
UID:3124-1655539200-1655568000@newflorenceborough.org
SUMMARY:2022 Summer Dumpster Days - Day 2
DESCRIPTION:Please see the flyer for more details.
URL:https://newflorenceborough.org/event/2022-summer-dumpster-days-day-2/
LOCATION:Old Yellow Brick School Building\, N. Ligonier St. and 8th St.\, New Florence\, PA
ATTACH;FMTTYPE=image/png:https://newflorenceborough.org/wp-content/uploads/2017/11/photo.png
END:VEVENT
END:VCALENDAR