BEGIN:VCALENDAR
VERSION:2.0
PRODID:-//New Florence Borough - ECPv6.15.20//NONSGML v1.0//EN
CALSCALE:GREGORIAN
METHOD:PUBLISH
X-WR-CALNAME:New Florence Borough
X-ORIGINAL-URL:https://newflorenceborough.org
X-WR-CALDESC:Events for New Florence Borough
REFRESH-INTERVAL;VALUE=DURATION:PT1H
X-Robots-Tag:noindex
X-PUBLISHED-TTL:PT1H
BEGIN:VTIMEZONE
TZID:America/New_York
BEGIN:DAYLIGHT
TZOFFSETFROM:-0500
TZOFFSETTO:-0400
TZNAME:EDT
DTSTART:20210314T070000
END:DAYLIGHT
BEGIN:STANDARD
TZOFFSETFROM:-0400
TZOFFSETTO:-0500
TZNAME:EST
DTSTART:20211107T060000
END:STANDARD
BEGIN:DAYLIGHT
TZOFFSETFROM:-0500
TZOFFSETTO:-0400
TZNAME:EDT
DTSTART:20220313T070000
END:DAYLIGHT
BEGIN:STANDARD
TZOFFSETFROM:-0400
TZOFFSETTO:-0500
TZNAME:EST
DTSTART:20221106T060000
END:STANDARD
BEGIN:DAYLIGHT
TZOFFSETFROM:-0500
TZOFFSETTO:-0400
TZNAME:EDT
DTSTART:20230312T070000
END:DAYLIGHT
BEGIN:STANDARD
TZOFFSETFROM:-0400
TZOFFSETTO:-0500
TZNAME:EST
DTSTART:20231105T060000
END:STANDARD
END:VTIMEZONE
BEGIN:VEVENT
DTSTART;TZID=America/New_York:20220526T180000
DTEND;TZID=America/New_York:20220526T200000
DTSTAMP:20260425T084644
CREATED:20220417T202254Z
LAST-MODIFIED:20220417T202254Z
UID:2997-1653588000-1653595200@newflorenceborough.org
SUMMARY:New Florence Community Library Making Vanilla Extract Class with Sue Buckles
DESCRIPTION:Please check out this new crafting class the library is holding.  The response to their Crafting with Sue classes has been wonderful.  For more details\, see the flyer below.  Thanks.
URL:https://newflorenceborough.org/event/new-florence-community-library-making-vanilla-extract-class-with-sue-buckles/
LOCATION:New Florence Community Library\, 122 N Ligonier St.\, New Florence\, PA\, 15944
ATTACH;FMTTYPE=image/png:https://newflorenceborough.org/wp-content/uploads/2017/11/photo.png
END:VEVENT
BEGIN:VEVENT
DTSTART;TZID=America/New_York:20220525T090000
DTEND;TZID=America/New_York:20220525T150000
DTSTAMP:20260425T084644
CREATED:20220403T150326Z
LAST-MODIFIED:20220506T230720Z
UID:2944-1653469200-1653490800@newflorenceborough.org
SUMMARY:Flight 93 Memorial Bus Trip
DESCRIPTION:The New Florence Community Library\, in partnership with the New Florence Senior Center\, is planning 2 bus trips.  The first is on Wednesday\, May 25th\, 2022\, to the Flight 93 Memorial with a lunch stop at the Bedford Springs Hotel.  The second trip will be Wednesday\, August 10th\, 2022.  This trip is a Gateway Clipper Cruise in Pittsburgh on a showboat with a luncheon.  Cost for the clipper cruise trip is $80.00. Stop by the library to reserve your seat on the bus. Please call 724-235-2249 for more information.  The times on the events are placeholders for now.  Additional details will be published as they become available. \nPlease check out the flyer below for more information on the Flight 93 trip.
URL:https://newflorenceborough.org/event/flight-93-memorial-bus-trip/
LOCATION:New Florence Community Library\, 122 N Ligonier St.\, New Florence\, PA\, 15944
ATTACH;FMTTYPE=image/png:https://newflorenceborough.org/wp-content/uploads/2017/11/photo.png
END:VEVENT
BEGIN:VEVENT
DTSTART;TZID=America/New_York:20220524T183000
DTEND;TZID=America/New_York:20220524T193000
DTSTAMP:20260425T084644
CREATED:20220504T164447Z
LAST-MODIFIED:20220504T164447Z
UID:3031-1653417000-1653420600@newflorenceborough.org
SUMMARY:New Florence/St Clair Sanitation Authority Meeting
DESCRIPTION:Sanitation Authority meetings are every other month (January\, March\, May\, July\, September\, and November) on the fourth Tuesday of the month.  The meetings start at 6:30 pm at the New Florence Borough building.  The meetings are open to the public.  Any changes to the schedule are posted in the Johnstown Tribune Democrat newspaper.   If you would like more information you can contact the authority at 724-541-0030.
URL:https://newflorenceborough.org/event/new-florence-st-clair-sanitation-authority-meeting-7/
LOCATION:Borough Building\, 119 Franklin Street\, New Florence\, PA\, 15944
ATTACH;FMTTYPE=image/png:https://newflorenceborough.org/wp-content/uploads/2017/11/photo.png
END:VEVENT
BEGIN:VEVENT
DTSTART;TZID=America/New_York:20220524T173000
DTEND;TZID=America/New_York:20220524T183000
DTSTAMP:20260425T084644
CREATED:20220102T234652Z
LAST-MODIFIED:20220102T234652Z
UID:2551-1653413400-1653417000@newflorenceborough.org
SUMMARY:New Florence Community Library #READERS Group
DESCRIPTION:Please check out this fun reading event for young teenagers.  If you need more information\, please give the library a call.  Thanks.
URL:https://newflorenceborough.org/event/new-florence-community-library-readers-group-5/
LOCATION:New Florence Community Library\, 122 N Ligonier St.\, New Florence\, PA\, 15944
ATTACH;FMTTYPE=image/png:https://newflorenceborough.org/wp-content/uploads/2017/11/photo.png
END:VEVENT
BEGIN:VEVENT
DTSTART;TZID=America/New_York:20220522T113000
DTEND;TZID=America/New_York:20220522T150000
DTSTAMP:20260425T084644
CREATED:20220327T131950Z
LAST-MODIFIED:20220407T161149Z
UID:2891-1653219000-1653231600@newflorenceborough.org
SUMMARY:New Florence Senior Center Basket Party 2022
DESCRIPTION:The New Florence Center for Active Adults will be holding their annual basket party on May 22nd at the Fairfield Volunteer Fire Department Hall.  The doors open at 11:30 am and lunch is served at 12:00 noon.  Admission is $10.00 and this includes lunch and 25 basket tickets.  Rippies and 50/50 chances will also be available.  Come out and have some fun!!  Please call the center for details at 724-235-9303. \n \nHere’s a few pictures of baskets that are starting to show up at the center.
URL:https://newflorenceborough.org/event/new-florence-senior-center-basket-party-2022/
LOCATION:Fairfield Township VFD\, 5414 Rt. 711\, New Florence\, PA\, 15944\, United States
ATTACH;FMTTYPE=image/png:https://newflorenceborough.org/wp-content/uploads/2017/11/photo.png
END:VEVENT
BEGIN:VEVENT
DTSTART;TZID=America/New_York:20220521T190000
DTEND;TZID=America/New_York:20220521T190000
DTSTAMP:20260425T084644
CREATED:20220327T130105Z
LAST-MODIFIED:20220414T212944Z
UID:2883-1653159600-1653159600@newflorenceborough.org
SUMMARY:Squirrel Hill Hunting Club "On The River" Raffle Ticket
DESCRIPTION:The Squirrel Hill Hunting Club has an upcoming fundraiser.  They are selling “On The River” raffle tickets which has all sorts of prizes for kayaking on a river.  The Squirrel Hill Hunting Club fundraisers are used to provide hunting activities for severely ill children.  Please contact Sue Buckles at 724-600-9734 for tickets or more information. \n \nCheck out this past photo of the hunt club on one of their adventures.
URL:https://newflorenceborough.org/event/squirrel-hill-hunting-club-on-the-river-raffle-ticket/
LOCATION:New Florence\, PA: Multiple Locations\, New Florence\, PA\, 15944
ATTACH;FMTTYPE=image/png:https://newflorenceborough.org/wp-content/uploads/2017/11/photo.png
END:VEVENT
BEGIN:VEVENT
DTSTART;TZID=America/New_York:20220521T150000
DTEND;TZID=America/New_York:20220521T170000
DTSTAMP:20260425T084644
CREATED:20220327T132915Z
LAST-MODIFIED:20220327T132915Z
UID:2895-1653145200-1653152400@newflorenceborough.org
SUMMARY:New Florence VFW - Westmoreland County Veterans Fair
DESCRIPTION:The New Florence VFW Post 7622 would like area veterans to know about a Veterans Fair that will be held on May 12\, 2022\, at Westmoreland County Community College.  Please see the flyer below for details or give the club a call at  724-235-9904 for more information.
URL:https://newflorenceborough.org/event/new-florence-vfw-westmoreland-county-veterans-fair/
LOCATION:Westmoreland County Community College\, 145 Pavilion Lane\, Youngwood\, PA\, 15697\, United States
ATTACH;FMTTYPE=image/png:https://newflorenceborough.org/wp-content/uploads/2017/11/photo.png
END:VEVENT
BEGIN:VEVENT
DTSTART;TZID=America/New_York:20220521T143000
DTEND;TZID=America/New_York:20220521T160000
DTSTAMP:20260425T084644
CREATED:20220513T150858Z
LAST-MODIFIED:20220513T150858Z
UID:3082-1653143400-1653148800@newflorenceborough.org
SUMMARY:New Florence Community Library Queen's Jubilee Storytime
DESCRIPTION:The library will be having a very interesting story time associated with the British Queen’s jubilee.  Please see the flyer below for details.  Give the library a call if you need more information.
URL:https://newflorenceborough.org/event/new-florence-community-library-queens-jubilee-storytime/
LOCATION:New Florence Community Library\, 122 N Ligonier St.\, New Florence\, PA\, 15944
ATTACH;FMTTYPE=image/png:https://newflorenceborough.org/wp-content/uploads/2017/11/photo.png
END:VEVENT
BEGIN:VEVENT
DTSTART;TZID=America/New_York:20220521T130000
DTEND;TZID=America/New_York:20220521T160000
DTSTAMP:20260425T084644
CREATED:20220506T231933Z
LAST-MODIFIED:20220506T232052Z
UID:3056-1653138000-1653148800@newflorenceborough.org
SUMMARY:New Florence VFD String Art Fundraiser
DESCRIPTION:Check out this fundraiser the New Florence Volunteer Fire Department is hosting.  It is a Redesigned Frame of Mind with Tammy Shultz.  Choose from 4 different string art projects. This is a prepaid event\, lite snacks will be provided (you may bring a snack to share\, if you wish) and we encourage you to BYOB.  Give the VFD a call for more information.  You may pay for the class online at:  New Florence Volunteer Fire Company Square Site \nThe four patterns to choose from are: USA\, Pennsylvania\, Flip Flops\, or Wine Glass.
URL:https://newflorenceborough.org/event/new-florence-vfd-string-art-fundraiser/
LOCATION:New Florence Volunteer Fire Department\, 177 13th Street\, New Florence\, PA\, 15944
ATTACH;FMTTYPE=image/png:https://newflorenceborough.org/wp-content/uploads/2017/11/photo.png
END:VEVENT
BEGIN:VEVENT
DTSTART;TZID=America/New_York:20220520T080000
DTEND;TZID=America/New_York:20220531T170000
DTSTAMP:20260425T084644
CREATED:20220520T123222Z
LAST-MODIFIED:20220520T123222Z
UID:3107-1653033600-1654016400@newflorenceborough.org
SUMMARY:New Florence United Methodist Church Access for All Fundraiser
DESCRIPTION:Please check out this fundraiser the New Florence United Methodist Church is having.  They are working on making the church more accessible for those with mobility issues.  There are two links mentioned in the flyer.  Here is the one for the church’s website.  New Florence United Methodist Church   Can you ever have enough items in your kitchen?
URL:https://newflorenceborough.org/event/new-florence-united-methodist-church-access-for-all-fundraiser/
LOCATION:New Florence United Methodist Church\, 200 9th St.\, New Florence\, PA\, 15944\, United States
ATTACH;FMTTYPE=image/png:https://newflorenceborough.org/wp-content/uploads/2017/11/photo.png
END:VEVENT
BEGIN:VEVENT
DTSTART;TZID=America/New_York:20220518T180000
DTEND;TZID=America/New_York:20220518T193000
DTSTAMP:20260425T084644
CREATED:20220513T150016Z
LAST-MODIFIED:20220513T150016Z
UID:3080-1652896800-1652902200@newflorenceborough.org
SUMMARY:Laurel Valley Area Historical Society (LVAHS) Meeting
DESCRIPTION:Please join us for the next meeting of the Laurel Valley Area Historical Society .  We have a lot to discuss! Please print a copy of the attached agenda and bring it with you.  LVAHS Meeting Agenda 18 May 2022 \nAlso note that the group has a new Gmail address. It is lvahs2022@gmail.com. Please make a note of this for future reference. \nIf you have any questions\, please contact Kathy Mack for more information. \nThank you\,\nKathy Mack\, President\nLaurel Valley Historical Society\n724-235-2688
URL:https://newflorenceborough.org/event/laurel-valley-area-historical-society-lvahs-meeting-18/
LOCATION:Borough Building\, 119 Franklin Street\, New Florence\, PA\, 15944
ATTACH;FMTTYPE=image/png:https://newflorenceborough.org/wp-content/uploads/2017/11/photo.png
END:VEVENT
BEGIN:VEVENT
DTSTART;TZID=America/New_York:20220517T183000
DTEND;TZID=America/New_York:20220517T193000
DTSTAMP:20260425T084644
CREATED:20220109T031130Z
LAST-MODIFIED:20220516T154709Z
UID:2592-1652812200-1652815800@newflorenceborough.org
SUMMARY:Borough Council Meeting
DESCRIPTION:The borough council meets monthly on the third Tuesday of each month at the borough building located at 119 Franklin Street in New Florence at 6:30 p.m.  The meetings are open to the public and all are encouraged to attend. \nHere is the agenda for the meeting.  AGENDA 05-17-22
URL:https://newflorenceborough.org/event/borough-council-meeting-46/
LOCATION:Borough Building\, 119 Franklin Street\, New Florence\, PA\, 15944
ATTACH;FMTTYPE=image/png:https://newflorenceborough.org/wp-content/uploads/2017/11/photo.png
END:VEVENT
BEGIN:VEVENT
DTSTART;TZID=America/New_York:20220517T173000
DTEND;TZID=America/New_York:20220517T183000
DTSTAMP:20260425T084644
CREATED:20220403T132011Z
LAST-MODIFIED:20220403T132011Z
UID:2927-1652808600-1652812200@newflorenceborough.org
SUMMARY:New Florence Community Library "Page Turners" Group
DESCRIPTION:Please check out this fun reading event for 9- to 12-year-old young people.  This is a great after school program.  If you need more information\, please give the library a call.  Thanks.
URL:https://newflorenceborough.org/event/new-florence-community-library-page-turners-group-2/
LOCATION:New Florence Community Library\, 122 N Ligonier St.\, New Florence\, PA\, 15944
ATTACH;FMTTYPE=image/png:https://newflorenceborough.org/wp-content/uploads/2017/11/photo.png
END:VEVENT
BEGIN:VEVENT
DTSTART;TZID=America/New_York:20220517T080000
DTEND;TZID=America/New_York:20220517T160000
DTSTAMP:20260425T084644
CREATED:20220515T020852Z
LAST-MODIFIED:20220515T020852Z
UID:3094-1652774400-1652803200@newflorenceborough.org
SUMMARY:Library Election Day Bake Sale
DESCRIPTION:The New Florence Community Library will be holding a bake sale on election day at the fire hall.  Please come out and support the library by purchasing some delicious baked goods.  The sale starts at 8 am and goes until they are sold out.  Thank you.
URL:https://newflorenceborough.org/event/library-election-day-bake-sale-2/
LOCATION:New Florence Volunteer Fire Department\, 177 13th Street\, New Florence\, PA\, 15944
ATTACH;FMTTYPE=image/png:https://newflorenceborough.org/wp-content/uploads/2017/11/photo.png
END:VEVENT
BEGIN:VEVENT
DTSTART;TZID=America/New_York:20220517T070000
DTEND;TZID=America/New_York:20220517T200000
DTSTAMP:20260425T084644
CREATED:20220515T020439Z
LAST-MODIFIED:20220515T020439Z
UID:3092-1652770800-1652817600@newflorenceborough.org
SUMMARY:2022 General Primary Election
DESCRIPTION:The 2022 General Primary Election is on Tuesday\, May 17th\, 2022.  Polls will be open from 7 am to 8 pm.  The New Florence polling location is the fire department building.
URL:https://newflorenceborough.org/event/2022-general-primary-election/
LOCATION:New Florence Volunteer Fire Department\, 177 13th Street\, New Florence\, PA\, 15944
ATTACH;FMTTYPE=image/png:https://newflorenceborough.org/wp-content/uploads/2017/11/photo.png
END:VEVENT
BEGIN:VEVENT
DTSTART;TZID=America/New_York:20220514T130000
DTEND;TZID=America/New_York:20220514T150000
DTSTAMP:20260425T084644
CREATED:20220504T180947Z
LAST-MODIFIED:20220504T180947Z
UID:3040-1652533200-1652540400@newflorenceborough.org
SUMMARY:New Florence United Methodist Church Tea Party
DESCRIPTION:Please check out the flyer below for this fun event at the United Methodist Church in New Florence. \n \n 
URL:https://newflorenceborough.org/event/new-florence-united-methodist-church-tea-party/
LOCATION:New Florence United Methodist Church\, 200 9th St.\, New Florence\, PA\, 15944\, United States
ATTACH;FMTTYPE=image/png:https://newflorenceborough.org/wp-content/uploads/2017/11/photo.png
END:VEVENT
BEGIN:VEVENT
DTSTART;TZID=America/New_York:20220514T090000
DTEND;TZID=America/New_York:20220514T130000
DTSTAMP:20260425T084644
CREATED:20220311T214402Z
LAST-MODIFIED:20220311T214402Z
UID:2850-1652518800-1652533200@newflorenceborough.org
SUMMARY:Bunker Brawl 2022\, Plastic Model Show and Contest
DESCRIPTION:Please check out the flyer below for this interesting show and contest.
URL:https://newflorenceborough.org/event/bunker-brawl-2022-plastic-model-show-and-contest/
LOCATION:Clyde Fire Hall\, 1050 Clyde Road\, New Florence\, 15944
ATTACH;FMTTYPE=image/png:https://newflorenceborough.org/wp-content/uploads/2017/11/photo.png
END:VEVENT
BEGIN:VEVENT
DTSTART;TZID=America/New_York:20220512T180000
DTEND;TZID=America/New_York:20220512T200000
DTSTAMP:20260425T084644
CREATED:20220504T165746Z
LAST-MODIFIED:20220513T024136Z
UID:3035-1652378400-1652385600@newflorenceborough.org
SUMMARY:New Florence Community Library "Essential Oils" Speaker Series Seminar - Cancelled
DESCRIPTION:The next speaker series event will be on May 12th.  This event will be a Learn – Make – Take seminar on Essential Oils.  There is a cost for this event\, and it will be held at the New Florence Senior Center because of the ongoing library book sale.  See the flyer below for more information.  Contact or stop by the library to reserve your spot. \nSorry\, this event has been cancelled.
URL:https://newflorenceborough.org/event/new-florence-community-library-essential-oils-speaker-series-seminar/
LOCATION:New Florence Senior Center\, 216 Ligonier Street\, New Florence\, PA\, 15944\, United States
ATTACH;FMTTYPE=image/png:https://newflorenceborough.org/wp-content/uploads/2017/11/photo.png
END:VEVENT
BEGIN:VEVENT
DTSTART;TZID=America/New_York:20220511T183000
DTEND;TZID=America/New_York:20220511T193000
DTSTAMP:20260425T084644
CREATED:20220403T132939Z
LAST-MODIFIED:20220403T132939Z
UID:2931-1652293800-1652297400@newflorenceborough.org
SUMMARY:New Florence Community Library Adult Book Club
DESCRIPTION:The New Florence Community Library has an Adult Book Club.  The meetings are held online and free for everyone.  For more information\, please contact the library and they’ll explain how you can participate through your computer.  Thanks.
URL:https://newflorenceborough.org/event/new-florence-community-library-adult-book-club-3/
LOCATION:New Florence Community Library\, 122 N Ligonier St.\, New Florence\, PA\, 15944
ATTACH;FMTTYPE=image/png:https://newflorenceborough.org/wp-content/uploads/2017/11/photo.png
END:VEVENT
BEGIN:VEVENT
DTSTART;TZID=America/New_York:20220510T173000
DTEND;TZID=America/New_York:20220510T183000
DTSTAMP:20260425T084644
CREATED:20220102T233611Z
LAST-MODIFIED:20220102T233611Z
UID:2540-1652203800-1652207400@newflorenceborough.org
SUMMARY:New Florence Community Library Book Bunch
DESCRIPTION:Please check out this fun reading event for young children.  If you need more information\, please give the library a call.  Thanks.
URL:https://newflorenceborough.org/event/new-florence-community-library-book-bunch-5/
LOCATION:New Florence Community Library\, 122 N Ligonier St.\, New Florence\, PA\, 15944
ATTACH;FMTTYPE=image/png:https://newflorenceborough.org/wp-content/uploads/2017/11/photo.png
END:VEVENT
BEGIN:VEVENT
DTSTART;TZID=America/New_York:20220507T173000
DTEND;TZID=America/New_York:20220507T210000
DTSTAMP:20260425T084644
CREATED:20220414T214123Z
LAST-MODIFIED:20220414T214123Z
UID:2982-1651944600-1651957200@newflorenceborough.org
SUMMARY:New Florence VFD Rippie Night
DESCRIPTION:The New Florence Volunteer Fire Department will be holding their next rippie fundraiser.  Please see the flyer below or contact the fire department for more information.
URL:https://newflorenceborough.org/event/new-florence-vfd-rippie-night-6/
LOCATION:New Florence Volunteer Fire Department\, 177 13th Street\, New Florence\, PA\, 15944
ATTACH;FMTTYPE=image/png:https://newflorenceborough.org/wp-content/uploads/2017/11/photo.png
END:VEVENT
BEGIN:VEVENT
DTSTART;TZID=America/New_York:20220507T110000
DTEND;TZID=America/New_York:20220507T140000
DTSTAMP:20260425T084644
CREATED:20220414T213815Z
LAST-MODIFIED:20220414T213815Z
UID:2980-1651921200-1651932000@newflorenceborough.org
SUMMARY:New Florence VFD Chicken BBQ
DESCRIPTION:The New Florence VFD will be holding their next Chicken BBQ fundraiser of the year on May 7th.  They will start at 11 am and go till sold out.  Preorders are welcome.  Lots of folks are saying great things about how good the meals are.  The BBQ sales are the first Saturday on the month till late fall.  Please come out and support the fire department.  Thanks.
URL:https://newflorenceborough.org/event/new-florence-vfd-chicken-bbq-5/
LOCATION:New Florence Volunteer Fire Department\, 177 13th Street\, New Florence\, PA\, 15944
ATTACH;FMTTYPE=image/png:https://newflorenceborough.org/wp-content/uploads/2017/11/photo.png
END:VEVENT
BEGIN:VEVENT
DTSTART;TZID=America/New_York:20220502T110000
DTEND;TZID=America/New_York:20220604T170000
DTSTAMP:20260425T084644
CREATED:20220504T170418Z
LAST-MODIFIED:20220506T231040Z
UID:3038-1651489200-1654362000@newflorenceborough.org
SUMMARY:New Florence Community Library Spring Book Sale 2022
DESCRIPTION:The New Florence Community Library will be having their yearly book sale.  However\, this year the sale is a little bit different because of upcoming June activities.  The book sale will run from May 2nd to June 4th (Yard Sale Day).  Please see the flyer below for more information or give the library a call. \n \nPlease check out the pricing for this event.
URL:https://newflorenceborough.org/event/new-florence-community-library-spring-book-sale-2022/
LOCATION:New Florence Community Library\, 122 N Ligonier St.\, New Florence\, PA\, 15944
ATTACH;FMTTYPE=image/png:https://newflorenceborough.org/wp-content/uploads/2017/11/photo.png
END:VEVENT
BEGIN:VEVENT
DTSTART;TZID=America/New_York:20220501T100000
DTEND;TZID=America/New_York:20220501T160000
DTSTAMP:20260425T084644
CREATED:20220414T214950Z
LAST-MODIFIED:20220419T121848Z
UID:2986-1651399200-1651420800@newflorenceborough.org
SUMMARY:Museums of the Ligonier Valley - Free Museum Day 2022
DESCRIPTION:Please check out this free event at six of our local museums.  To learn more please call the museum you are interested in. \nHere are the various telephone numbers: \nCompass Inn Museum\, 724-238-6818\nFort Ligonier\, 724-238-9701\nAntiochian Heritage Museum\, 724-238-3677\nLincoln Highway Heritage Corridor\, 724-879-4241\nLigonier Valley Rail Road Museum\, 724-238-7819\nSouthern Alleghenies Museum of Art\, 724-238-6015 \nHere are two updated images to replace the original one I had posted.  The back page with the map is included.  Thanks\, the webmaster. \n \n \nOriginal posted image below.
URL:https://newflorenceborough.org/event/museums-of-the-ligonier-valley-free-museum-day-2022/
LOCATION:PA
ATTACH;FMTTYPE=image/png:https://newflorenceborough.org/wp-content/uploads/2017/11/photo.png
END:VEVENT
BEGIN:VEVENT
DTSTART;TZID=America/New_York:20220426T173000
DTEND;TZID=America/New_York:20220426T183000
DTSTAMP:20260425T084644
CREATED:20220102T234513Z
LAST-MODIFIED:20220102T234513Z
UID:2549-1650994200-1650997800@newflorenceborough.org
SUMMARY:New Florence Community Library #READERS Group
DESCRIPTION:Please check out this fun reading event for young teenagers.  If you need more information\, please give the library a call.  Thanks.
URL:https://newflorenceborough.org/event/new-florence-community-library-readers-group-4/
LOCATION:New Florence Community Library\, 122 N Ligonier St.\, New Florence\, PA\, 15944
ATTACH;FMTTYPE=image/png:https://newflorenceborough.org/wp-content/uploads/2017/11/photo.png
END:VEVENT
BEGIN:VEVENT
DTSTART;TZID=America/New_York:20220422T180000
DTEND;TZID=America/New_York:20220422T210000
DTSTAMP:20260425T084644
CREATED:20220327T130517Z
LAST-MODIFIED:20220327T130517Z
UID:2885-1650650400-1650661200@newflorenceborough.org
SUMMARY:Squirrel Hill Hunting Club Rippie Party April 2022
DESCRIPTION:The Squirrel Hill Hunting Club has an upcoming fundraiser.  They will be holding a Rippie Party at the Blairsville VFW on April 22nd.  There will be free food\, 50/50\, and raffle tickets.  The VFW has a free pool table and a jukebox for use that night.  The Squirrel Hill Hunting Club fundraisers are used to provide hunting activities for severely ill children.  Please contact Sue Buckles at 724-600-9734 for tickets or more information.
URL:https://newflorenceborough.org/event/squirrel-hill-hunting-club-rippie-party-april-2022/
LOCATION:Blairsville VFW\, 9626 Rt. 22 West\, Blairsville\, PA\, 15717\, United States
ATTACH;FMTTYPE=image/png:https://newflorenceborough.org/wp-content/uploads/2017/11/photo.png
END:VEVENT
BEGIN:VEVENT
DTSTART;TZID=America/New_York:20220419T183000
DTEND;TZID=America/New_York:20220419T193000
DTSTAMP:20260425T084644
CREATED:20220109T031022Z
LAST-MODIFIED:20220109T031022Z
UID:2590-1650393000-1650396600@newflorenceborough.org
SUMMARY:Borough Council Meeting
DESCRIPTION:The borough council meets monthly on the third Tuesday of each month at the borough building located at 119 Franklin Street in New Florence at 6:30 p.m.  The meetings are open to the public and all are encouraged to attend. \nHere is the agenda for the meeting.  PENDING
URL:https://newflorenceborough.org/event/borough-council-meeting-45/
LOCATION:Borough Building\, 119 Franklin Street\, New Florence\, PA\, 15944
ATTACH;FMTTYPE=image/png:https://newflorenceborough.org/wp-content/uploads/2017/11/photo.png
END:VEVENT
BEGIN:VEVENT
DTSTART;TZID=America/New_York:20220419T173000
DTEND;TZID=America/New_York:20220419T183000
DTSTAMP:20260425T084644
CREATED:20220403T131803Z
LAST-MODIFIED:20220403T131803Z
UID:2925-1650389400-1650393000@newflorenceborough.org
SUMMARY:New Florence Community Library "Page Turners" Group
DESCRIPTION:Please check out this fun reading event for 9- to 12-year-old young people.  This is a great after school program.  If you need more information\, please give the library a call.  Thanks.
URL:https://newflorenceborough.org/event/new-florence-community-library-page-turners-group/
LOCATION:New Florence Community Library\, 122 N Ligonier St.\, New Florence\, PA\, 15944
ATTACH;FMTTYPE=image/png:https://newflorenceborough.org/wp-content/uploads/2017/11/photo.png
END:VEVENT
BEGIN:VEVENT
DTSTART;TZID=America/New_York:20220416T110000
DTEND;TZID=America/New_York:20220416T130000
DTSTAMP:20260425T084644
CREATED:20220208T154305Z
LAST-MODIFIED:20220414T213252Z
UID:2687-1650106800-1650114000@newflorenceborough.org
SUMMARY:New Florence VFW Post 7622 Easter Egg Hunt
DESCRIPTION:Please come out and join us for our annual Easter Egg Hunt.  It will start at 11 a.m. so please show up a little earlier.  If you have questions please call the club.  Please check out the flyer below. \n \nHere’s a few photos of the club getting ready for the Easter Egg Hunt.
URL:https://newflorenceborough.org/event/new-florence-vfw-post-7622-easter-egg-hunt-3/
LOCATION:New Florence VFW\, 6215 Route 711\, New Florence\, PA\, 15944
ATTACH;FMTTYPE=image/png:https://newflorenceborough.org/wp-content/uploads/2017/11/photo.png
END:VEVENT
BEGIN:VEVENT
DTSTART;TZID=America/New_York:20220415T190000
DTEND;TZID=America/New_York:20220415T190000
DTSTAMP:20260425T084644
CREATED:20220218T005900Z
LAST-MODIFIED:20220218T005900Z
UID:2732-1650049200-1650049200@newflorenceborough.org
SUMMARY:New Florence Community Library $$ Tax Relief $$ Raffle Day 5
DESCRIPTION:Please check out this exciting 5-day raffle the library is holding as a fundraiser.  If you need more information\, please give the library a call.
URL:https://newflorenceborough.org/event/new-florence-community-library-tax-relief-raffle-day-5/
LOCATION:New Florence Community Library\, 122 N Ligonier St.\, New Florence\, PA\, 15944
ATTACH;FMTTYPE=image/png:https://newflorenceborough.org/wp-content/uploads/2017/11/photo.png
END:VEVENT
END:VCALENDAR