BEGIN:VCALENDAR
VERSION:2.0
PRODID:-//New Florence Borough - ECPv6.15.20//NONSGML v1.0//EN
CALSCALE:GREGORIAN
METHOD:PUBLISH
X-WR-CALNAME:New Florence Borough
X-ORIGINAL-URL:https://newflorenceborough.org
X-WR-CALDESC:Events for New Florence Borough
REFRESH-INTERVAL;VALUE=DURATION:PT1H
X-Robots-Tag:noindex
X-PUBLISHED-TTL:PT1H
BEGIN:VTIMEZONE
TZID:America/New_York
BEGIN:DAYLIGHT
TZOFFSETFROM:-0500
TZOFFSETTO:-0400
TZNAME:EDT
DTSTART:20190310T070000
END:DAYLIGHT
BEGIN:STANDARD
TZOFFSETFROM:-0400
TZOFFSETTO:-0500
TZNAME:EST
DTSTART:20191103T060000
END:STANDARD
BEGIN:DAYLIGHT
TZOFFSETFROM:-0500
TZOFFSETTO:-0400
TZNAME:EDT
DTSTART:20200308T070000
END:DAYLIGHT
BEGIN:STANDARD
TZOFFSETFROM:-0400
TZOFFSETTO:-0500
TZNAME:EST
DTSTART:20201101T060000
END:STANDARD
BEGIN:DAYLIGHT
TZOFFSETFROM:-0500
TZOFFSETTO:-0400
TZNAME:EDT
DTSTART:20210314T070000
END:DAYLIGHT
BEGIN:STANDARD
TZOFFSETFROM:-0400
TZOFFSETTO:-0500
TZNAME:EST
DTSTART:20211107T060000
END:STANDARD
BEGIN:DAYLIGHT
TZOFFSETFROM:-0500
TZOFFSETTO:-0400
TZNAME:EDT
DTSTART:20220313T070000
END:DAYLIGHT
BEGIN:STANDARD
TZOFFSETFROM:-0400
TZOFFSETTO:-0500
TZNAME:EST
DTSTART:20221106T060000
END:STANDARD
END:VTIMEZONE
BEGIN:VEVENT
DTSTART;TZID=America/New_York:20210718T073000
DTEND;TZID=America/New_York:20210718T160000
DTSTAMP:20260425T085852
CREATED:20210508T123406Z
LAST-MODIFIED:20210508T123406Z
UID:1995-1626593400-1626624000@newflorenceborough.org
SUMMARY:Squirrel Hill Hunting Club Lifetime Hunt for Kids Golf Outing
DESCRIPTION:The Squirrel Hill Hunting Club will hold their 6th Annual Lifetime Hunt for Kids Golf Outing on July 18th\, 2021 at Champion Lakes Golf Resort.  The fundraiser benefits children with a life-threatening illness.  The flyer contains additional information on how to participate.  Thank you.
URL:https://newflorenceborough.org/event/squirrel-hill-hunting-club-lifetime-hunt-for-kids-golf-outing/
LOCATION:Champion Lakes Golf Course\, 4743 Route 711\, Bolivar\, PA\, 15944
ATTACH;FMTTYPE=image/png:https://newflorenceborough.org/wp-content/uploads/2017/11/photo.png
END:VEVENT
BEGIN:VEVENT
DTSTART;TZID=America/New_York:20210708T183000
DTEND;TZID=America/New_York:20210708T220000
DTSTAMP:20260425T085852
CREATED:20210703T120901Z
LAST-MODIFIED:20210703T120901Z
UID:2065-1625769000-1625781600@newflorenceborough.org
SUMMARY:New Florence VFD Rippie Night
DESCRIPTION:The New Florence Volunteer Fire Department will be holding a rippie fundraiser.  Their goal is to make this a monthly event to support the fire department.  Please see the attached flyer for more information.
URL:https://newflorenceborough.org/event/new-florence-vfd-rippie-night/
LOCATION:New Florence Volunteer Fire Department\, 177 13th Street\, New Florence\, PA\, 15944
ATTACH;FMTTYPE=image/png:https://newflorenceborough.org/wp-content/uploads/2017/11/photo.png
END:VEVENT
BEGIN:VEVENT
DTSTART;TZID=America/New_York:20210706T180000
DTEND;TZID=America/New_York:20210706T190000
DTSTAMP:20260425T085852
CREATED:20210703T120119Z
LAST-MODIFIED:20210703T120119Z
UID:2063-1625594400-1625598000@newflorenceborough.org
SUMMARY:Laurel Valley Area Historical Society (LVAHS) Meeting
DESCRIPTION:The meeting will be an open discussion. Kathy has a scrap book she is bringing with old Laurel Valley newspaper clippings. If anyone else wants to bring anything\, please feel free to do so.  Here is the agenda for the meeting: LVAHS Meeting Agenda 6 July 2021 \nPlease print out the attached agenda and bring it with you.  If you have any questions please contact Kathy Mack\, President\, Laurel Valley Area Historical Society\, 724-235-2688.
URL:https://newflorenceborough.org/event/laurel-valley-area-historical-society-lvahs-meeting-11/
LOCATION:Borough Building\, 119 Franklin Street\, New Florence\, PA\, 15944
ATTACH;FMTTYPE=image/png:https://newflorenceborough.org/wp-content/uploads/2017/11/photo.png
END:VEVENT
BEGIN:VEVENT
DTSTART;TZID=America/New_York:20210703T100000
DTEND;TZID=America/New_York:20210703T150000
DTSTAMP:20260425T085852
CREATED:20210623T115827Z
LAST-MODIFIED:20210623T115827Z
UID:2051-1625306400-1625324400@newflorenceborough.org
SUMMARY:New Florence VFD Chicken BBQ
DESCRIPTION:The New Florence VFD will be holding another Chicken BBQ fundraiser.  Please see the flyer below for more information.  Lots of folks are saying great things about how good the meals are.  Please come out and support the fire department.  Thanks.
URL:https://newflorenceborough.org/event/new-florence-vfd-chicken-bbq/
LOCATION:New Florence Volunteer Fire Department\, 177 13th Street\, New Florence\, PA\, 15944
ATTACH;FMTTYPE=image/png:https://newflorenceborough.org/wp-content/uploads/2017/11/photo.png
END:VEVENT
BEGIN:VEVENT
DTSTART;TZID=America/New_York:20210626T120000
DTEND;TZID=America/New_York:20210626T180000
DTSTAMP:20260425T085852
CREATED:20210313T183618Z
LAST-MODIFIED:20210324T161906Z
UID:1890-1624708800-1624730400@newflorenceborough.org
SUMMARY:New Florence VFW Gun Bash 2021
DESCRIPTION:New Florence VFW Post 7622 will be holding their annual gun bash fundraiser.  Please check out the ticket below to see what’s in this year’s selection.  For more information or to obtain tickets please give the club a call at 724-235-9904.
URL:https://newflorenceborough.org/event/new-florence-vfw-gun-bash-2021/
LOCATION:New Florence VFW\, 6215 Route 711\, New Florence\, PA\, 15944
ATTACH;FMTTYPE=image/png:https://newflorenceborough.org/wp-content/uploads/2017/11/photo.png
END:VEVENT
BEGIN:VEVENT
DTSTART;TZID=America/New_York:20210619T140000
DTEND;TZID=America/New_York:20210619T200000
DTSTAMP:20260425T085852
CREATED:20210424T223723Z
LAST-MODIFIED:20210424T223723Z
UID:1952-1624111200-1624132800@newflorenceborough.org
SUMMARY:Squirrel Hill Hunting Club Gun Bash
DESCRIPTION:Doors open: 2 pm\nDrawings begin: 3 pm\nLast Drawing:  approximately 8 pm \n \nThe Squirrel Hill Hunting Club does a hunt every year for a terminally ill or handicapped child. The club has a new gun bash ticket out to help cover the expenses of the Lifetime Hunt for Kids program. Due to COVID-19\, the club was unable to do a lot of the fundraisers they count on so please support this gun bash on June 19th if you can.  Please contact any club member to purchase tickets.  You can also contact Sue or Gary Buckles through the club’s Facebook page Squirrel Hill Hunting Club Lifetime Hunts for more information.  Thank you.
URL:https://newflorenceborough.org/event/squirrel-hill-hunting-club-gun-bash/
LOCATION:Chestnut Ridge Community Center\, 1575 PA-259\, Ligonier\, PA\, 15658\, United States
ATTACH;FMTTYPE=image/png:https://newflorenceborough.org/wp-content/uploads/2017/11/photo.png
END:VEVENT
BEGIN:VEVENT
DTSTART;TZID=America/New_York:20210615T183000
DTEND;TZID=America/New_York:20210615T193000
DTSTAMP:20260425T085852
CREATED:20210103T202456Z
LAST-MODIFIED:20210615T200353Z
UID:1652-1623781800-1623785400@newflorenceborough.org
SUMMARY:Borough Council Meeting
DESCRIPTION:The borough council meets monthly on the third Tuesday of each month at the borough building located at 119 Franklin Street in New Florence at 6:30 p.m.  However\, because of the COVID-19 virus and the need for social distancing the 2021 meetings will be held in the basement of the old yellow school until further notice.  The meetings are open to the public and all are encouraged to attend. \nHere is the agenda for tonight’s meeting.  AGENDA 06-15-21
URL:https://newflorenceborough.org/event/borough-council-meeting-35/
LOCATION:Old Yellow Brick School Building\, N. Ligonier St. and 8th St.\, New Florence\, PA
ATTACH;FMTTYPE=image/png:https://newflorenceborough.org/wp-content/uploads/2017/11/photo.png
END:VEVENT
BEGIN:VEVENT
DTSTART;TZID=America/New_York:20210612T080000
DTEND;TZID=America/New_York:20210612T160000
DTSTAMP:20260425T085852
CREATED:20210602T125748Z
LAST-MODIFIED:20210602T125748Z
UID:2022-1623484800-1623513600@newflorenceborough.org
SUMMARY:2021 Spring Dumpster Days - Day 2
DESCRIPTION:Please see the flyer below for more information for participation\, restrictions\, and more. \n2021 SPRING DUMPSTER DAYS
URL:https://newflorenceborough.org/event/2021-spring-dumpster-days-day-2/
LOCATION:Old Yellow Brick School Building\, N. Ligonier St. and 8th St.\, New Florence\, PA
ATTACH;FMTTYPE=image/png:https://newflorenceborough.org/wp-content/uploads/2017/11/photo.png
END:VEVENT
BEGIN:VEVENT
DTSTART;TZID=America/New_York:20210611T080000
DTEND;TZID=America/New_York:20210611T160000
DTSTAMP:20260425T085852
CREATED:20210602T125617Z
LAST-MODIFIED:20210602T125617Z
UID:2020-1623398400-1623427200@newflorenceborough.org
SUMMARY:2021 Spring Dumpster Days - Day 1
DESCRIPTION:Please see the flyer below for more information for participation\, restrictions\, and more. \n2021 SPRING DUMPSTER DAYS
URL:https://newflorenceborough.org/event/2021-spring-dumpster-days-day-1/
LOCATION:Old Yellow Brick School Building\, N. Ligonier St. and 8th St.\, New Florence\, PA
ATTACH;FMTTYPE=image/png:https://newflorenceborough.org/wp-content/uploads/2017/11/photo.png
END:VEVENT
BEGIN:VEVENT
DTSTART;TZID=America/New_York:20210605T080000
DTEND;TZID=America/New_York:20210605T160000
DTSTAMP:20260425T085852
CREATED:20210508T123846Z
LAST-MODIFIED:20210508T123846Z
UID:1997-1622880000-1622908800@newflorenceborough.org
SUMMARY:Scouts BSA Yard Sale Fundraiser 2021
DESCRIPTION:The Scouts BSA Troops 1123 & 2123 that meet at the New Florence United Methodist Church are doing a yard sale fundraiser on Saturday\, June 5th during New Florence’s town-wide yard sale.  They are looking for donations of items to sale.  Please see the flyer for more information on how you can help out the troops.
URL:https://newflorenceborough.org/event/scouts-bsa-yard-sale-fundraiser-2021/
LOCATION:New Florence United Methodist Church\, 200 9th St.\, New Florence\, PA\, 15944\, United States
ATTACH;FMTTYPE=image/png:https://newflorenceborough.org/wp-content/uploads/2017/11/photo.png
END:VEVENT
BEGIN:VEVENT
DTSTART;TZID=America/New_York:20210605T080000
DTEND;TZID=America/New_York:20210605T160000
DTSTAMP:20260425T085852
CREATED:20210504T011546Z
LAST-MODIFIED:20210504T011546Z
UID:1984-1622880000-1622908800@newflorenceborough.org
SUMMARY:New Florence Town-Wide Yard Sale
DESCRIPTION:The town-wide yard sale will be held on Saturday\, June 5th from 8 am to 4 pm.  For more information\, please check out the Facebook page for the New Florence Community Development organization.  Let’s hope for good weather that day.
URL:https://newflorenceborough.org/event/new-florence-town-wide-yard-sale-3/
LOCATION:New Florence\, PA: Multiple Locations\, New Florence\, PA\, 15944
ATTACH;FMTTYPE=image/png:https://newflorenceborough.org/wp-content/uploads/2017/11/photo.png
END:VEVENT
BEGIN:VEVENT
DTSTART;TZID=America/New_York:20210601T180000
DTEND;TZID=America/New_York:20210601T190000
DTSTAMP:20260425T085852
CREATED:20210530T121116Z
LAST-MODIFIED:20210530T121116Z
UID:2014-1622570400-1622574000@newflorenceborough.org
SUMMARY:Laurel Valley Area Historical Society (LVAHS) Meeting
DESCRIPTION:The meeting will consist of a tour of the upstairs of the yellow brick school\, to see if it will fit our needs for a future museum.  If you have any questions\, please contact:  Kathy Mack\, President\, LVAHS\, 724-235-2688.
URL:https://newflorenceborough.org/event/laurel-valley-area-historical-society-lvahs-meeting-10/
LOCATION:Old Yellow Brick School Building\, N. Ligonier St. and 8th St.\, New Florence\, PA
ATTACH;FMTTYPE=image/png:https://newflorenceborough.org/wp-content/uploads/2017/11/photo.png
END:VEVENT
BEGIN:VEVENT
DTSTART;TZID=America/New_York:20210525T183000
DTEND;TZID=America/New_York:20210525T193000
DTSTAMP:20260425T085852
CREATED:20210520T011342Z
LAST-MODIFIED:20210520T011342Z
UID:2007-1621967400-1621971000@newflorenceborough.org
SUMMARY:New Florence/St Clair Sanitation Authority Meeting
DESCRIPTION:This meeting is open to the public.  Additionally\, the New Florence/St. Clair Sanitation Authority is seeking multiple board members.  Anyone interested in serving on the board can contact the authority at 724-541-0030 or leave a message with the borough at 724.235.2000.”
URL:https://newflorenceborough.org/event/new-florence-st-clair-sanitation-authority-meeting/
LOCATION:Old Yellow Brick School Building\, N. Ligonier St. and 8th St.\, New Florence\, PA
ATTACH;FMTTYPE=image/png:https://newflorenceborough.org/wp-content/uploads/2017/11/photo.png
END:VEVENT
BEGIN:VEVENT
DTSTART;TZID=America/New_York:20210518T183000
DTEND;TZID=America/New_York:20210518T193000
DTSTAMP:20260425T085852
CREATED:20210103T202357Z
LAST-MODIFIED:20210103T202357Z
UID:1650-1621362600-1621366200@newflorenceborough.org
SUMMARY:Borough Council Meeting
DESCRIPTION:The borough council meets monthly on the third Tuesday of each month at the borough building located at 119 Franklin Street in New Florence at 6:30 p.m.  However\, because of the COVID-19 virus and the need for social distancing the 2021 meetings will be held in the basement of the old yellow school until further notice.  The meetings are open to the public and all are encouraged to attend.
URL:https://newflorenceborough.org/event/borough-council-meeting-34/
LOCATION:Old Yellow Brick School Building\, N. Ligonier St. and 8th St.\, New Florence\, PA
ATTACH;FMTTYPE=image/png:https://newflorenceborough.org/wp-content/uploads/2017/11/photo.png
END:VEVENT
BEGIN:VEVENT
DTSTART;TZID=America/New_York:20210518T070000
DTEND;TZID=America/New_York:20210518T200000
DTSTAMP:20260425T085852
CREATED:20210212T003514Z
LAST-MODIFIED:20210212T003514Z
UID:1731-1621321200-1621368000@newflorenceborough.org
SUMMARY:2021 Municipal Primary Election
DESCRIPTION:The polling location for New Florence is the Volunteer Fire Department building located at 177 13th Street\, New Florence PA 15944. \nUnofficial Candidate List (TBD) \nThis information was obtained from the Westmoreland County Elections website.
URL:https://newflorenceborough.org/event/2021-municipal-primary-election/
LOCATION:New Florence Volunteer Fire Department\, 177 13th Street\, New Florence\, PA\, 15944
ATTACH;FMTTYPE=image/png:https://newflorenceborough.org/wp-content/uploads/2017/11/photo.png
END:VEVENT
BEGIN:VEVENT
DTSTART;TZID=America/New_York:20210516T080000
DTEND;TZID=America/New_York:20210516T170000
DTSTAMP:20260425T085852
CREATED:20210504T012254Z
LAST-MODIFIED:20210504T012254Z
UID:1991-1621152000-1621184400@newflorenceborough.org
SUMMARY:Tubmill Trout Club Annual Kid’s Fishing Day #2
DESCRIPTION:The Tubmill Trout Club will be holding their Annual Kid’s Fishing Day.  All kids in the area are welcome to attend.  Registration opens at 8 am and fishing starts at 9 am on Saturday and Sunday.  Participants do not need to be members of the club.  For more information\, please check out the club’s Facebook page\,  Tubmill Trout Club Unlimited.  Families can also participate in the stocking process that will be held Friday evening starting at 6 pm.  It will be a lot of fun for everyone.
URL:https://newflorenceborough.org/event/tubmill-trout-club-annual-kids-fishing-day-2/
LOCATION:Tubmill Trout Club Unlimited\, 108 Altimus Drive\, Bolivar\, PA\, 15923\, United States
ATTACH;FMTTYPE=image/png:https://newflorenceborough.org/wp-content/uploads/2017/11/photo.png
END:VEVENT
BEGIN:VEVENT
DTSTART;TZID=America/New_York:20210515T080000
DTEND;TZID=America/New_York:20210515T170000
DTSTAMP:20260425T085852
CREATED:20210504T011923Z
LAST-MODIFIED:20210504T011923Z
UID:1989-1621065600-1621098000@newflorenceborough.org
SUMMARY:Tubmill Trout Club Annual Kid’s Fishing Day #1
DESCRIPTION:The Tubmill Trout Club will be holding their Annual Kid’s Fishing Day.  All kids in the area are welcome to attend.  Registration opens at 8 am and fishing starts at 9 am on Saturday and Sunday.  Participants do not need to be members of the club.  For more information\, please check out the club’s Facebook page\,  Tubmill Trout Club Unlimited.  Families can also participate in the stocking process that will be held Friday evening starting at 6 pm.  It will be a lot of fun for everyone.
URL:https://newflorenceborough.org/event/tubmill-trout-club-annual-kids-fishing-day-1/
LOCATION:Tubmill Trout Club Unlimited\, 108 Altimus Drive\, Bolivar\, PA\, 15923\, United States
ATTACH;FMTTYPE=image/png:https://newflorenceborough.org/wp-content/uploads/2017/11/photo.png
END:VEVENT
BEGIN:VEVENT
DTSTART;TZID=America/New_York:20210428T180000
DTEND;TZID=America/New_York:20210428T190000
DTSTAMP:20260425T085852
CREATED:20210423T120355Z
LAST-MODIFIED:20210423T120355Z
UID:1942-1619632800-1619636400@newflorenceborough.org
SUMMARY:Laurel Valley Area Historical Society (LVAHS) Meeting
DESCRIPTION:After a long hiatus the LVAHS group is getting back together.  The meeting will be an open discussion to catch up on things and Doug Hull will bring some arrowheads for a small presentation.  Masks will be required\, and social distancing will be followed.  Please come out and join us as we get try and get back to normal life. \nContact Kathy Mack to reserve a spot at 724-235-2688\, fkmack@verizon.net\, or text 814-241-5007. \nPlease print out the attached agenda and bring it with you.  Laurel Valley Area Historical Society Meeting 28 April 2021 Agenda \nThank you\,\nKathy Mack\, President
URL:https://newflorenceborough.org/event/laurel-valley-area-historical-society-lvahs-meeting-9/
LOCATION:Old Yellow Brick School Building\, N. Ligonier St. and 8th St.\, New Florence\, PA
ATTACH;FMTTYPE=image/png:https://newflorenceborough.org/wp-content/uploads/2017/11/photo.png
END:VEVENT
BEGIN:VEVENT
DTSTART;TZID=America/New_York:20210420T183000
DTEND;TZID=America/New_York:20210420T193000
DTSTAMP:20260425T085852
CREATED:20210103T202305Z
LAST-MODIFIED:20210103T202305Z
UID:1648-1618943400-1618947000@newflorenceborough.org
SUMMARY:Borough Council Meeting
DESCRIPTION:The borough council meets monthly on the third Tuesday of each month at the borough building located at 119 Franklin Street in New Florence at 6:30 p.m.  However\, because of the COVID-19 virus and the need for social distancing the 2021 meetings will be held in the basement of the old yellow school until further notice.  The meetings are open to the public and all are encouraged to attend.
URL:https://newflorenceborough.org/event/borough-council-meeting-33/
LOCATION:Old Yellow Brick School Building\, N. Ligonier St. and 8th St.\, New Florence\, PA
ATTACH;FMTTYPE=image/png:https://newflorenceborough.org/wp-content/uploads/2017/11/photo.png
END:VEVENT
BEGIN:VEVENT
DTSTART;TZID=America/New_York:20210316T183000
DTEND;TZID=America/New_York:20210316T193000
DTSTAMP:20260425T085852
CREATED:20210103T201918Z
LAST-MODIFIED:20210316T193220Z
UID:1646-1615919400-1615923000@newflorenceborough.org
SUMMARY:Borough Council Meeting
DESCRIPTION:The borough council meets monthly on the third Tuesday of each month at the borough building located at 119 Franklin Street in New Florence at 6:30 p.m.  However\, because of the COVID-19 virus and the need for social distancing the 2021 meetings will be held in the basement of the old yellow school until further notice.  The meetings are open to the public and all are encouraged to attend. \nHere is the agenda for the meeting.  AGENDA 03-16-21
URL:https://newflorenceborough.org/event/borough-council-meeting-32/
LOCATION:Old Yellow Brick School Building\, N. Ligonier St. and 8th St.\, New Florence\, PA
ATTACH;FMTTYPE=image/png:https://newflorenceborough.org/wp-content/uploads/2017/11/photo.png
END:VEVENT
BEGIN:VEVENT
DTSTART;TZID=America/New_York:20210216T183000
DTEND;TZID=America/New_York:20210216T193000
DTSTAMP:20260425T085852
CREATED:20210103T201825Z
LAST-MODIFIED:20210213T013520Z
UID:1644-1613500200-1613503800@newflorenceborough.org
SUMMARY:Borough Council Meeting
DESCRIPTION:The borough council meets monthly on the third Tuesday of each month at the borough building located at 119 Franklin Street in New Florence at 6:30 p.m.  However\, because of the COVID-19 virus and the need for social distancing the 2021 meetings will be held in the basement of the old yellow school until further notice.  The meetings are open to the public and all are encouraged to attend. \nHere is the agenda for the meeting.  AGENDA 02-16-21
URL:https://newflorenceborough.org/event/borough-council-meeting-31/
LOCATION:Old Yellow Brick School Building\, N. Ligonier St. and 8th St.\, New Florence\, PA
ATTACH;FMTTYPE=image/png:https://newflorenceborough.org/wp-content/uploads/2017/11/photo.png
END:VEVENT
BEGIN:VEVENT
DTSTART;TZID=America/New_York:20210210T190000
DTEND;TZID=America/New_York:20210210T200000
DTSTAMP:20260425T085852
CREATED:20210119T224747Z
LAST-MODIFIED:20210122T215642Z
UID:1708-1612983600-1612987200@newflorenceborough.org
SUMMARY:New Florence Community Library Adult Book Club
DESCRIPTION:The New Florence Community Library is starting an Adult Book Club.  The event will be online only and free for everyone.  For more information please contact the library and they’ll explain how you can participate online through your computer.  Thanks.
URL:https://newflorenceborough.org/event/new-florence-community-library-adult-book-club/
LOCATION:New Florence Community Library\, 122 N Ligonier St.\, New Florence\, PA\, 15944
ATTACH;FMTTYPE=image/png:https://newflorenceborough.org/wp-content/uploads/2017/11/photo.png
END:VEVENT
BEGIN:VEVENT
DTSTART;TZID=America/New_York:20210131T230000
DTEND;TZID=America/New_York:20210131T233000
DTSTAMP:20260425T085852
CREATED:20210112T151418Z
LAST-MODIFIED:20210112T151418Z
UID:1689-1612134000-1612135800@newflorenceborough.org
SUMMARY:Final Order Take 2 Deadline: New Florence Sesquicentennial Yearbook.
DESCRIPTION:One last time… I have had even more requests for more New Florence Sesquicentennial Yearbooks so I will make one FINAL order. I will take orders until the end of the month\, January 31\, 2021 at 11:59 p.m.  Books are normally $25.00 each but I may need to adjust the price a little if it is a small order to cover the shipping\, handling\, etc. costs. I won’t know the final price until the order is placed but I expect it to remain pretty close to the $25. Who still wants to order one?  Please\, if you order books\, I need your contact information.  A cell phone number to text you when the book arrives would be helpful.  Also\, a street address so I know where to drop it off (obviously if you’re local).  My contact information is below.  Thank you\, Doug. \nDouglas C. Hull\n1134 Bethel Cemetery Rd\nNew Florence\, PA 15944 \nEmail:            doughull88@gmail.com\nTelephone:    724-719-8390 after 6 p.m. \n \nNote: The date was fixed on all the reorders.
URL:https://newflorenceborough.org/event/final-order-take-2-deadline-new-florence-sesquicentennial-yearbook/
LOCATION:New Florence\, PA: Multiple Locations\, New Florence\, PA\, 15944
ATTACH;FMTTYPE=image/png:https://newflorenceborough.org/wp-content/uploads/2017/11/photo.png
END:VEVENT
BEGIN:VEVENT
DTSTART;TZID=America/New_York:20210119T183000
DTEND;TZID=America/New_York:20210119T193000
DTSTAMP:20260425T085852
CREATED:20210103T201717Z
LAST-MODIFIED:20210119T223156Z
UID:1642-1611081000-1611084600@newflorenceborough.org
SUMMARY:Borough Council Meeting
DESCRIPTION:The borough council meets monthly on the third Tuesday of each month at the borough building located at 119 Franklin Street in New Florence at 6:30 p.m.  However\, because of the COVID-19 virus and the need for social distancing the 2021 meetings will be held in the basement of the old yellow school until further notice.  The meetings are open to the public and all are encouraged to attend. \nHere is the agenda for the meeting.  AGENDA 01-19-21
URL:https://newflorenceborough.org/event/borough-council-meeting-30/
LOCATION:Old Yellow Brick School Building\, N. Ligonier St. and 8th St.\, New Florence\, PA
ATTACH;FMTTYPE=image/png:https://newflorenceborough.org/wp-content/uploads/2017/11/photo.png
END:VEVENT
BEGIN:VEVENT
DTSTART;TZID=America/New_York:20201224T130000
DTEND;TZID=America/New_York:20201224T160000
DTSTAMP:20260425T085852
CREATED:20201222T142940Z
LAST-MODIFIED:20201222T142940Z
UID:1625-1608814800-1608825600@newflorenceborough.org
SUMMARY:2020 Santa Express
DESCRIPTION:The New Florence Volunteer Fire Department will be helping with the Santa Express.  Santa will be visiting New Florence on Christmas eve while his sleigh is in for a last-minute tune-up.  Santa has asked the Fire company to help. Of course\, the firefighters volunteered to drive their truck all around New Florence to give the good little boys and girls their treats. Santa says Merry Christmas to everyone.
URL:https://newflorenceborough.org/event/2020-santa-express/
LOCATION:New Florence\, PA: Multiple Locations\, New Florence\, PA\, 15944
ATTACH;FMTTYPE=image/png:https://newflorenceborough.org/wp-content/uploads/2017/11/photo.png
END:VEVENT
BEGIN:VEVENT
DTSTART;TZID=America/New_York:20201215T183000
DTEND;TZID=America/New_York:20201215T193000
DTSTAMP:20260425T085852
CREATED:20200113T003907Z
LAST-MODIFIED:20201215T001749Z
UID:1146-1608057000-1608060600@newflorenceborough.org
SUMMARY:Borough Council Meeting
DESCRIPTION:The borough council meets monthly on the third Tuesday of each month at the borough building located at 119 Franklin Street in New Florence.  In past years council meetings were at 7 p.m.  However\, starting with the 21 January 2020 borough council meeting the new starting time will 6:30 p.m.  The meetings are open to the public and all are encouraged to attend. \nBecause of the COVID-19 pandemic the borough meeting will be held in the basement on the old yellow school building across the street.  Social distancing and masks will be required. \nHere is the agenda for the meeting: Agenda 12-15-20
URL:https://newflorenceborough.org/event/borough-council-meeting-29/
LOCATION:Borough Building\, 119 Franklin Street\, New Florence\, PA\, 15944
ATTACH;FMTTYPE=image/png:https://newflorenceborough.org/wp-content/uploads/2017/11/photo.png
END:VEVENT
BEGIN:VEVENT
DTSTART;TZID=America/New_York:20201213T180000
DTEND;TZID=America/New_York:20201213T190000
DTSTAMP:20260425T085852
CREATED:20201204T163735Z
LAST-MODIFIED:20201204T163735Z
UID:1600-1607882400-1607886000@newflorenceborough.org
SUMMARY:Annual Tree Lighting Event - 2020
DESCRIPTION:Please join the town in the lighting of the Christmas tree.   See the flyer below for more information. \n  \n \nPlease wear a mask and practice social distancing.  Thank you.
URL:https://newflorenceborough.org/event/annual-tree-lighting-event-2020/
LOCATION:New Florence Volunteer Fire Department\, 177 13th Street\, New Florence\, PA\, 15944
ATTACH;FMTTYPE=image/png:https://newflorenceborough.org/wp-content/uploads/2017/11/photo.png
END:VEVENT
BEGIN:VEVENT
DTSTART;TZID=America/New_York:20201117T183000
DTEND;TZID=America/New_York:20201117T193000
DTSTAMP:20260425T085852
CREATED:20200113T003812Z
LAST-MODIFIED:20200113T003812Z
UID:1144-1605637800-1605641400@newflorenceborough.org
SUMMARY:Borough Council Meeting
DESCRIPTION:The borough council meets monthly on the third Tuesday of each month at the borough building located at 119 Franklin Street in New Florence.  In past years council meetings were at 7 p.m.  However\, starting with the 21 January 2020 borough council meeting the new starting time will 6:30 p.m.  The meetings are open to the public and all are encouraged to attend.
URL:https://newflorenceborough.org/event/borough-council-meeting-28/
LOCATION:Borough Building\, 119 Franklin Street\, New Florence\, PA\, 15944
ATTACH;FMTTYPE=image/png:https://newflorenceborough.org/wp-content/uploads/2017/11/photo.png
END:VEVENT
BEGIN:VEVENT
DTSTART;TZID=America/New_York:20201104T183000
DTEND;TZID=America/New_York:20201104T200000
DTSTAMP:20260425T085852
CREATED:20201031T003714Z
LAST-MODIFIED:20201031T003714Z
UID:1568-1604514600-1604520000@newflorenceborough.org
SUMMARY:Proposed Contracting of Police Services from St. Clair Township
DESCRIPTION:St. Clair Township has approached New Florence and Seward boroughs about the possibility of purchasing police services.  They have scheduled a tri-community public meeting to discuss their proposal.  Please attend the meeting to learn more. \nHere is a flyer describing the meeting.  Proposed Contracting of Police Services
URL:https://newflorenceborough.org/event/proposed-contracting-of-police-services-from-st-clair-township/
LOCATION:Seward Volunteer Fire Company\, 1230 10th St\, Seward\, PA\, 15954\, United States
ATTACH;FMTTYPE=image/png:https://newflorenceborough.org/wp-content/uploads/2017/11/photo.png
END:VEVENT
BEGIN:VEVENT
DTSTART;TZID=America/New_York:20201103T080000
DTEND;TZID=America/New_York:20201103T160000
DTSTAMP:20260425T085852
CREATED:20201021T022235Z
LAST-MODIFIED:20201021T022327Z
UID:1559-1604390400-1604419200@newflorenceborough.org
SUMMARY:Library Election Day Bake Sale
DESCRIPTION:The New Florence Community Library will be holding a bake sale on election day.  Please check out the attached flyer for more information.   New Florence Library 2020 Election Day Bake Sale \nPlease come out and support the library by purchasing some delicious baked goods or lunch to go.  Thank you.
URL:https://newflorenceborough.org/event/library-election-day-bake-sale/
LOCATION:New Florence Volunteer Fire Department\, 177 13th Street\, New Florence\, PA\, 15944
ATTACH;FMTTYPE=image/png:https://newflorenceborough.org/wp-content/uploads/2017/11/photo.png
END:VEVENT
END:VCALENDAR