BEGIN:VCALENDAR
VERSION:2.0
PRODID:-//New Florence Borough - ECPv6.15.20//NONSGML v1.0//EN
CALSCALE:GREGORIAN
METHOD:PUBLISH
X-WR-CALNAME:New Florence Borough
X-ORIGINAL-URL:https://newflorenceborough.org
X-WR-CALDESC:Events for New Florence Borough
REFRESH-INTERVAL;VALUE=DURATION:PT1H
X-Robots-Tag:noindex
X-PUBLISHED-TTL:PT1H
BEGIN:VTIMEZONE
TZID:America/New_York
BEGIN:DAYLIGHT
TZOFFSETFROM:-0500
TZOFFSETTO:-0400
TZNAME:EDT
DTSTART:20210314T070000
END:DAYLIGHT
BEGIN:STANDARD
TZOFFSETFROM:-0400
TZOFFSETTO:-0500
TZNAME:EST
DTSTART:20211107T060000
END:STANDARD
BEGIN:DAYLIGHT
TZOFFSETFROM:-0500
TZOFFSETTO:-0400
TZNAME:EDT
DTSTART:20220313T070000
END:DAYLIGHT
BEGIN:STANDARD
TZOFFSETFROM:-0400
TZOFFSETTO:-0500
TZNAME:EST
DTSTART:20221106T060000
END:STANDARD
BEGIN:DAYLIGHT
TZOFFSETFROM:-0500
TZOFFSETTO:-0400
TZNAME:EDT
DTSTART:20230312T070000
END:DAYLIGHT
BEGIN:STANDARD
TZOFFSETFROM:-0400
TZOFFSETTO:-0500
TZNAME:EST
DTSTART:20231105T060000
END:STANDARD
BEGIN:DAYLIGHT
TZOFFSETFROM:-0500
TZOFFSETTO:-0400
TZNAME:EDT
DTSTART:20240310T070000
END:DAYLIGHT
BEGIN:STANDARD
TZOFFSETFROM:-0400
TZOFFSETTO:-0500
TZNAME:EST
DTSTART:20241103T060000
END:STANDARD
END:VTIMEZONE
BEGIN:VEVENT
DTSTART;TZID=America/New_York:20230319T120000
DTEND;TZID=America/New_York:20230319T150000
DTSTAMP:20260425T090855
CREATED:20230227T003506Z
LAST-MODIFIED:20230227T003506Z
UID:3889-1679227200-1679238000@newflorenceborough.org
SUMMARY:NF VFD Basket Party - March 2023
DESCRIPTION:The New Florence VFD will be holding a Basket Party on March 19th.  The VFD is looking for businesses\, organizations\, or individuals to make and donate a basket for the Basket Party to promote your business or venture. Gift Cards are also welcomed. Please call Amber at 814-270-1786 with any questions or if you want to donate a basket for the fundraiser. Projected pick up date will be March 16th for donated items.  Please see the flyer below.
URL:https://newflorenceborough.org/event/nf-vfd-basket-party-march-2023/
LOCATION:New Florence Volunteer Fire Department\, 177 13th Street\, New Florence\, PA\, 15944
ATTACH;FMTTYPE=image/png:https://newflorenceborough.org/wp-content/uploads/2017/11/photo.png
END:VEVENT
BEGIN:VEVENT
DTSTART;TZID=America/New_York:20230314T100000
DTEND;TZID=America/New_York:20230314T150000
DTSTAMP:20260425T090855
CREATED:20230201T044237Z
LAST-MODIFIED:20230201T044237Z
UID:3825-1678788000-1678806000@newflorenceborough.org
SUMMARY:New Florence Senior Center St. Patrick's Day Bingo and Musical Show
DESCRIPTION:Please join the senior center for this fun event.
URL:https://newflorenceborough.org/event/new-florence-senior-center-st-patricks-day-bingo-and-musical-show/
LOCATION:New Florence Senior Center\, 216 Ligonier Street\, New Florence\, PA\, 15944\, United States
ATTACH;FMTTYPE=image/png:https://newflorenceborough.org/wp-content/uploads/2017/11/photo.png
END:VEVENT
BEGIN:VEVENT
DTSTART;TZID=America/New_York:20230309T110000
DTEND;TZID=America/New_York:20230309T150000
DTSTAMP:20260425T090855
CREATED:20230201T044603Z
LAST-MODIFIED:20230201T044603Z
UID:3827-1678359600-1678374000@newflorenceborough.org
SUMMARY:New Florence Senior Center Westmoreland County 250th Anniversary Party
DESCRIPTION:Please join the senior center for this wonderful activity celebrating our county.
URL:https://newflorenceborough.org/event/new-florence-senior-center-westmoreland-county-250th-anniversary-party/
LOCATION:New Florence Senior Center\, 216 Ligonier Street\, New Florence\, PA\, 15944\, United States
ATTACH;FMTTYPE=image/png:https://newflorenceborough.org/wp-content/uploads/2017/11/photo.png
END:VEVENT
BEGIN:VEVENT
DTSTART;TZID=America/New_York:20230305T120000
DTEND;TZID=America/New_York:20230305T170000
DTSTAMP:20260425T090855
CREATED:20230104T040537Z
LAST-MODIFIED:20230206T180308Z
UID:3762-1678017600-1678035600@newflorenceborough.org
SUMMARY:New Florence Community Library Annual Basket Party
DESCRIPTION:Here is an updated flyer for the basket party. \n \nThe save the date notice.
URL:https://newflorenceborough.org/event/new-florence-community-library-annual-basket-party-3/
LOCATION:Antiochian Village Conference Center\, 140 Church Camp Trail\, Bolivar\, PA\, 15923
ATTACH;FMTTYPE=image/png:https://newflorenceborough.org/wp-content/uploads/2017/11/photo.png
END:VEVENT
BEGIN:VEVENT
DTSTART;TZID=America/New_York:20230304T173000
DTEND;TZID=America/New_York:20230304T203000
DTSTAMP:20260425T090856
CREATED:20230227T002933Z
LAST-MODIFIED:20230227T002933Z
UID:3887-1677951000-1677961800@newflorenceborough.org
SUMMARY:New Florence VFD Rippie Night
DESCRIPTION:The New Florence Volunteer Fire Department will be holding their next rippie fundraiser. Please see the flyer below or contact the fire department for more information.
URL:https://newflorenceborough.org/event/new-florence-vfd-rippie-night-15/
LOCATION:New Florence Volunteer Fire Department\, 177 13th Street\, New Florence\, PA\, 15944
ATTACH;FMTTYPE=image/png:https://newflorenceborough.org/wp-content/uploads/2017/11/photo.png
END:VEVENT
BEGIN:VEVENT
DTSTART;TZID=America/New_York:20230304T100000
DTEND;TZID=America/New_York:20230304T140000
DTSTAMP:20260425T090856
CREATED:20230227T002653Z
LAST-MODIFIED:20230227T002653Z
UID:3882-1677924000-1677938400@newflorenceborough.org
SUMMARY:New Florence VFD Sub Sale
DESCRIPTION:The New Florence Volunteer Fire Department will be holding another sub sale fundraiser. Subs will be available from 10 am until they are sold out. If you need more information\, contact the fire department. Thank you. \n \n  \n 
URL:https://newflorenceborough.org/event/new-florence-vfd-sub-sale-8/
LOCATION:New Florence Volunteer Fire Department\, 177 13th Street\, New Florence\, PA\, 15944
ATTACH;FMTTYPE=image/png:https://newflorenceborough.org/wp-content/uploads/2017/11/photo.png
END:VEVENT
BEGIN:VEVENT
DTSTART;TZID=America/New_York:20230302T183000
DTEND;TZID=America/New_York:20230302T200000
DTSTAMP:20260425T090856
CREATED:20230201T043058Z
LAST-MODIFIED:20230201T043058Z
UID:3819-1677781800-1677787200@newflorenceborough.org
SUMMARY:New Florence/St Clair Sanitation Authority Meeting
DESCRIPTION:The New Florence/St. Clair Township Sanitation Authority meetings are open to the public.  Any changes to the schedule are published in the Johnstown Tribune Democrat newspaper.
URL:https://newflorenceborough.org/event/new-florence-st-clair-sanitation-authority-meeting-11/
LOCATION:New Florence/St. Clair Township Sanitation Authority\, 117 Franklin Street\, New Florence\, PA\, 15944\, United States
ATTACH;FMTTYPE=image/png:https://newflorenceborough.org/wp-content/uploads/2017/11/photo.png
END:VEVENT
BEGIN:VEVENT
DTSTART;TZID=America/New_York:20230228T173000
DTEND;TZID=America/New_York:20230228T183000
DTSTAMP:20260425T090856
CREATED:20230130T044606Z
LAST-MODIFIED:20230228T172519Z
UID:3804-1677605400-1677609000@newflorenceborough.org
SUMMARY:New Florence Community Library "Winter #Readers" Group - CANCELLED
DESCRIPTION:Sorry but the library had to cancel this group tonight. \n \nPlease check out this fun book chat and craft book club group for 13- to 18-year-old young people.  This is a great after school program.  If you need more information\, please give the library a call.  Thanks.
URL:https://newflorenceborough.org/event/new-florence-community-library-winter-readers-group/
LOCATION:New Florence Community Library\, 122 N Ligonier St.\, New Florence\, PA\, 15944
ATTACH;FMTTYPE=image/png:https://newflorenceborough.org/wp-content/uploads/2017/11/photo.png
END:VEVENT
BEGIN:VEVENT
DTSTART;TZID=America/New_York:20230221T183000
DTEND;TZID=America/New_York:20230221T193000
DTSTAMP:20260425T090856
CREATED:20230101T185908Z
LAST-MODIFIED:20230101T185908Z
UID:3708-1677004200-1677007800@newflorenceborough.org
SUMMARY:Borough Council Meeting
DESCRIPTION:The borough council meets monthly on the third Tuesday of each month at the borough building located at 119 Franklin Street in New Florence at 6:30 p.m.  The meetings are open to the public and all are encouraged to attend. \nHere is the agenda for the meeting.  PENDING
URL:https://newflorenceborough.org/event/borough-council-meeting-55/
LOCATION:Borough Building\, 119 Franklin Street\, New Florence\, PA\, 15944
ATTACH;FMTTYPE=image/png:https://newflorenceborough.org/wp-content/uploads/2017/11/photo.png
END:VEVENT
BEGIN:VEVENT
DTSTART;TZID=America/New_York:20230221T173000
DTEND;TZID=America/New_York:20230221T183000
DTSTAMP:20260425T090856
CREATED:20230115T032250Z
LAST-MODIFIED:20230115T032250Z
UID:3783-1677000600-1677004200@newflorenceborough.org
SUMMARY:New Florence Community Library "Page Turners" Group
DESCRIPTION:Please check out this fun book chat and craft book club group for 6- to 12-year-old young people.  This is a great after school program.  If you need more information\, please give the library a call.  Thanks.
URL:https://newflorenceborough.org/event/new-florence-community-library-page-turners-group-8/
LOCATION:New Florence Community Library\, 122 N Ligonier St.\, New Florence\, PA\, 15944
ATTACH;FMTTYPE=image/png:https://newflorenceborough.org/wp-content/uploads/2017/11/photo.png
END:VEVENT
BEGIN:VEVENT
DTSTART;TZID=America/New_York:20230221T100000
DTEND;TZID=America/New_York:20230221T150000
DTSTAMP:20260425T090856
CREATED:20230201T043954Z
LAST-MODIFIED:20230201T043954Z
UID:3823-1676973600-1676991600@newflorenceborough.org
SUMMARY:New Florence Senior Center Mardi Gras Bingo and Magic Show
DESCRIPTION:Please join the senior center for this fun event.
URL:https://newflorenceborough.org/event/new-florence-senior-center-mardi-gras-bingo-and-magic-show/
LOCATION:New Florence Senior Center\, 216 Ligonier Street\, New Florence\, PA\, 15944\, United States
ATTACH;FMTTYPE=image/png:https://newflorenceborough.org/wp-content/uploads/2017/11/photo.png
END:VEVENT
BEGIN:VEVENT
DTSTART;TZID=America/New_York:20230218T190000
DTEND;TZID=America/New_York:20230218T220000
DTSTAMP:20260425T090856
CREATED:20230217T000951Z
LAST-MODIFIED:20230217T000951Z
UID:3867-1676746800-1676757600@newflorenceborough.org
SUMMARY:New Florence VFW Karaoke Party
DESCRIPTION:Check out this event the VFW is having.  Give them a call if you need more information.
URL:https://newflorenceborough.org/event/new-florence-vfw-karaoke-party/
LOCATION:New Florence VFW\, 6215 Route 711\, New Florence\, PA\, 15944
ATTACH;FMTTYPE=image/png:https://newflorenceborough.org/wp-content/uploads/2017/11/photo.png
END:VEVENT
BEGIN:VEVENT
DTSTART;TZID=America/New_York:20230214T100000
DTEND;TZID=America/New_York:20230214T150000
DTSTAMP:20260425T090856
CREATED:20230201T043631Z
LAST-MODIFIED:20230201T043631Z
UID:3821-1676368800-1676386800@newflorenceborough.org
SUMMARY:New Florence Senior Center Valentine's Day Bingo and Musical Performance
DESCRIPTION:Please join the senior center for this fun event.
URL:https://newflorenceborough.org/event/new-florence-senior-center-valentines-day-bingo-and-musical-performance/
LOCATION:New Florence Senior Center\, 216 Ligonier Street\, New Florence\, PA\, 15944\, United States
ATTACH;FMTTYPE=image/png:https://newflorenceborough.org/wp-content/uploads/2017/11/photo.png
END:VEVENT
BEGIN:VEVENT
DTSTART;TZID=America/New_York:20230212T183000
DTEND;TZID=America/New_York:20230212T220000
DTSTAMP:20260425T090856
CREATED:20230206T180636Z
LAST-MODIFIED:20230206T180636Z
UID:3858-1676226600-1676239200@newflorenceborough.org
SUMMARY:New Florence VFW Super Bowl Party 2023
DESCRIPTION:New Florence VFW Post 7622 will be having a Super Bowl party to watch the Eagles and Chiefs face off in the big game.  Please bring a dish to share.  For more information please give the club a call.
URL:https://newflorenceborough.org/event/new-florence-vfw-super-bowl-party-2023/
LOCATION:New Florence VFW\, 6215 Route 711\, New Florence\, PA\, 15944
ATTACH;FMTTYPE=image/png:https://newflorenceborough.org/wp-content/uploads/2017/11/photo.png
END:VEVENT
BEGIN:VEVENT
DTSTART;TZID=America/New_York:20230204T173000
DTEND;TZID=America/New_York:20230204T210000
DTSTAMP:20260425T090856
CREATED:20230130T043828Z
LAST-MODIFIED:20230130T043828Z
UID:3800-1675531800-1675544400@newflorenceborough.org
SUMMARY:New Florence VFD Rippie Night
DESCRIPTION:The New Florence Volunteer Fire Department will be holding their next rippie fundraiser. Please see the flyer below or contact the fire department for more information.
URL:https://newflorenceborough.org/event/new-florence-vfd-rippie-night-14/
LOCATION:New Florence Volunteer Fire Department\, 177 13th Street\, New Florence\, PA\, 15944
ATTACH;FMTTYPE=image/png:https://newflorenceborough.org/wp-content/uploads/2017/11/photo.png
END:VEVENT
BEGIN:VEVENT
DTSTART;TZID=America/New_York:20230204T100000
DTEND;TZID=America/New_York:20230204T140000
DTSTAMP:20260425T090856
CREATED:20230130T044043Z
LAST-MODIFIED:20230130T044043Z
UID:3802-1675504800-1675519200@newflorenceborough.org
SUMMARY:New Florence VFD Sub Sale
DESCRIPTION:The New Florence Volunteer Fire Department will be holding another sub sale fundraiser. Subs will be available from 10 am until they are sold out. If you need more information\, contact the fire department. Thank you.
URL:https://newflorenceborough.org/event/new-florence-vfd-sub-sale-7/
LOCATION:New Florence Volunteer Fire Department\, 177 13th Street\, New Florence\, PA\, 15944
ATTACH;FMTTYPE=image/png:https://newflorenceborough.org/wp-content/uploads/2017/11/photo.png
END:VEVENT
BEGIN:VEVENT
DTSTART;TZID=America/New_York:20230202T183000
DTEND;TZID=America/New_York:20230202T200000
DTSTAMP:20260425T090856
CREATED:20230201T042644Z
LAST-MODIFIED:20230201T042644Z
UID:3816-1675362600-1675368000@newflorenceborough.org
SUMMARY:New Florence/St Clair Sanitation Authority Meeting
DESCRIPTION:The New Florence/St. Clair Township Sanitation Authority meetings are open to the public.  Any changes to the schedule are published in the Johnstown Tribune Democrat newspaper.
URL:https://newflorenceborough.org/event/new-florence-st-clair-sanitation-authority-meeting-10/
LOCATION:New Florence/St. Clair Township Sanitation Authority\, 117 Franklin Street\, New Florence\, PA\, 15944\, United States
ATTACH;FMTTYPE=image/png:https://newflorenceborough.org/wp-content/uploads/2017/11/photo.png
END:VEVENT
BEGIN:VEVENT
DTSTART;TZID=America/New_York:20230128T100000
DTEND;TZID=America/New_York:20230128T150000
DTSTAMP:20260425T090856
CREATED:20230101T194801Z
LAST-MODIFIED:20230101T194801Z
UID:3737-1674900000-1674918000@newflorenceborough.org
SUMMARY:Gob Day 2023
DESCRIPTION:Though it’s not a New Florence specific event\, Gob Day 2023 will be held at the Johnstown Galleria Mall on Saturday\, January 28th starting at 10am.  Gobs are a unique Pennsylvania tradition that helps promote our heritage.  They also taste great.  Every year the events gets bigger and folks have lots of fun.  Enjoy.  Note: The end time is just a guess.  When they run out of gobs the event is over.
URL:https://newflorenceborough.org/event/gob-day-2023/
LOCATION:Johnstown Galleria Mall\, 500 Galleria Drive\, Johnstown\, PA\, 15904\, United States
ATTACH;FMTTYPE=image/png:https://newflorenceborough.org/wp-content/uploads/2017/11/photo.png
END:VEVENT
BEGIN:VEVENT
DTSTART;TZID=America/New_York:20230126T183000
DTEND;TZID=America/New_York:20230126T200000
DTSTAMP:20260425T090856
CREATED:20230115T031613Z
LAST-MODIFIED:20230115T031613Z
UID:3777-1674757800-1674763200@newflorenceborough.org
SUMMARY:New Florence Community Library "Essential Oils" Seminar
DESCRIPTION:The library is having Kim Greene do a talk on Essential Oils on Thursday January 26th.  The program is free but there may be a make and take session for $10 (payable at the event).  More information on the talk will be posted if becomes available.
URL:https://newflorenceborough.org/event/new-florence-community-library-essential-oils-seminar/
LOCATION:New Florence Community Library\, 122 N Ligonier St.\, New Florence\, PA\, 15944
ATTACH;FMTTYPE=image/png:https://newflorenceborough.org/wp-content/uploads/2017/11/photo.png
END:VEVENT
BEGIN:VEVENT
DTSTART;TZID=America/New_York:20230117T183000
DTEND;TZID=America/New_York:20230117T193000
DTSTAMP:20260425T090856
CREATED:20230101T185753Z
LAST-MODIFIED:20230101T185753Z
UID:3706-1673980200-1673983800@newflorenceborough.org
SUMMARY:Borough Council Meeting
DESCRIPTION:The borough council meets monthly on the third Tuesday of each month at the borough building located at 119 Franklin Street in New Florence at 6:30 p.m.  The meetings are open to the public and all are encouraged to attend. \nHere is the agenda for the meeting.  PENDING
URL:https://newflorenceborough.org/event/borough-council-meeting-54/
LOCATION:Borough Building\, 119 Franklin Street\, New Florence\, PA\, 15944
ATTACH;FMTTYPE=image/png:https://newflorenceborough.org/wp-content/uploads/2017/11/photo.png
END:VEVENT
BEGIN:VEVENT
DTSTART;TZID=America/New_York:20230117T173000
DTEND;TZID=America/New_York:20230117T183000
DTSTAMP:20260425T090856
CREATED:20230115T032124Z
LAST-MODIFIED:20230115T032124Z
UID:3781-1673976600-1673980200@newflorenceborough.org
SUMMARY:New Florence Community Library "Page Turners" Group
DESCRIPTION:Please check out this fun book chat and craft book club group for 6- to 12-year-old young people.  This is a great after school program.  If you need more information\, please give the library a call.  Thanks.
URL:https://newflorenceborough.org/event/new-florence-community-library-page-turners-group-7/
LOCATION:New Florence Community Library\, 122 N Ligonier St.\, New Florence\, PA\, 15944
ATTACH;FMTTYPE=image/png:https://newflorenceborough.org/wp-content/uploads/2017/11/photo.png
END:VEVENT
BEGIN:VEVENT
DTSTART;VALUE=DATE:20230116
DTEND;VALUE=DATE:20230117
DTSTAMP:20260425T090856
CREATED:20230115T031218Z
LAST-MODIFIED:20230115T031218Z
UID:3775-1673827200-1673913599@newflorenceborough.org
SUMMARY:New Florence Community Library - Closed for MLK Day
DESCRIPTION:
URL:https://newflorenceborough.org/event/new-florence-community-library-closed-for-mlk-day/
LOCATION:New Florence Community Library\, 122 N Ligonier St.\, New Florence\, PA\, 15944
ATTACH;FMTTYPE=image/png:https://newflorenceborough.org/wp-content/uploads/2017/11/photo.png
END:VEVENT
BEGIN:VEVENT
DTSTART;TZID=America/New_York:20230107T173000
DTEND;TZID=America/New_York:20230107T210000
DTSTAMP:20260425T090856
CREATED:20230101T193525Z
LAST-MODIFIED:20230101T193525Z
UID:3730-1673112600-1673125200@newflorenceborough.org
SUMMARY:New Florence VFD Rippie Night
DESCRIPTION:The New Florence Volunteer Fire Department will be holding their next rippie fundraiser. Please see the flyer below or contact the fire department for more information.
URL:https://newflorenceborough.org/event/new-florence-vfd-rippie-night-13/
LOCATION:New Florence Volunteer Fire Department\, 177 13th Street\, New Florence\, PA\, 15944
ATTACH;FMTTYPE=image/png:https://newflorenceborough.org/wp-content/uploads/2017/11/photo.png
END:VEVENT
BEGIN:VEVENT
DTSTART;TZID=America/New_York:20230107T100000
DTEND;TZID=America/New_York:20230107T140000
DTSTAMP:20260425T090856
CREATED:20230101T193758Z
LAST-MODIFIED:20230101T193758Z
UID:3732-1673085600-1673100000@newflorenceborough.org
SUMMARY:New Florence VFD Sub Sale
DESCRIPTION:The New Florence Volunteer Fire Department will be holding another sub sale fundraiser. Subs will be available from 10 am until they are sold out. If you need more information\, contact the fire department. Thank you.
URL:https://newflorenceborough.org/event/new-florence-vfd-sub-sale-6/
LOCATION:New Florence Volunteer Fire Department\, 177 13th Street\, New Florence\, PA\, 15944
ATTACH;FMTTYPE=image/png:https://newflorenceborough.org/wp-content/uploads/2017/11/photo.png
END:VEVENT
BEGIN:VEVENT
DTSTART;TZID=America/New_York:20221231T200000
DTEND;TZID=America/New_York:20221231T235900
DTSTAMP:20260425T090856
CREATED:20221229T142655Z
LAST-MODIFIED:20221229T142655Z
UID:3691-1672516800-1672531140@newflorenceborough.org
SUMMARY:New Florence United Methodist Church New Year's Eve Prayer Watch
DESCRIPTION:The New Florence Methodist Church is having a continuous prayer watch on New Year’s Eve.  Everyone is welcome to come into the church to pray anytime between 8:00 a.m. and 12:00 a.m. New Year’s Eve.  Come in and sit in the house of the LORD for a few moments to be in silence or to pray.  There will prayer guides to help you focus on what to pray for or to get you started.  There will also be communion items available for those who wish to partake of the Last Supper as the new year approaches.  This is open to all. You do not have to be a member of the church.  If you are nearby and just feel the need to pray…..come.
URL:https://newflorenceborough.org/event/new-florence-united-methodist-church-new-years-eve-prayer-watch/
LOCATION:New Florence United Methodist Church\, 200 9th St.\, New Florence\, PA\, 15944\, United States
ATTACH;FMTTYPE=image/png:https://newflorenceborough.org/wp-content/uploads/2017/11/photo.png
END:VEVENT
BEGIN:VEVENT
DTSTART;TZID=America/New_York:20221227T173000
DTEND;TZID=America/New_York:20221227T183000
DTSTAMP:20260425T090856
CREATED:20220907T185502Z
LAST-MODIFIED:20221223T200156Z
UID:3431-1672162200-1672165800@newflorenceborough.org
SUMMARY:New Florence Community Library #READERS Group - CANCELLED
DESCRIPTION:Sorry\, but the library has to cancel this group. \nPlease check out this fun reading event for young teenagers.  If you need more information\, please give the library a call.  Thanks.
URL:https://newflorenceborough.org/event/new-florence-community-library-readers-group-9/
LOCATION:New Florence Community Library\, 122 N Ligonier St.\, New Florence\, PA\, 15944
ATTACH;FMTTYPE=image/png:https://newflorenceborough.org/wp-content/uploads/2017/11/photo.png
END:VEVENT
BEGIN:VEVENT
DTSTART;TZID=America/New_York:20221224T110000
DTEND;TZID=America/New_York:20221224T150000
DTSTAMP:20260425T090856
CREATED:20221127T190006Z
LAST-MODIFIED:20221204T212324Z
UID:3629-1671879600-1671894000@newflorenceborough.org
SUMMARY:2022 Santa Express
DESCRIPTION:The New Florence Volunteer Fire Department will be helping with the Santa Express.  Santa will be visiting New Florence on Christmas eve while his sleigh is in for a last-minute tune-up.  Santa has asked the fire department to help out. Of course\, the firefighters volunteered to drive their truck all around New Florence to give Santa a chance to see all the good little boys and girls.  Merry Christmas everyone.
URL:https://newflorenceborough.org/event/2022-santa-express/
LOCATION:New Florence\, PA: Multiple Locations\, New Florence\, PA\, 15944
ATTACH;FMTTYPE=image/png:https://newflorenceborough.org/wp-content/uploads/2017/11/photo.png
END:VEVENT
BEGIN:VEVENT
DTSTART;TZID=America/New_York:20221220T183000
DTEND;TZID=America/New_York:20221220T193000
DTSTAMP:20260425T090856
CREATED:20220109T032009Z
LAST-MODIFIED:20220109T032009Z
UID:2606-1671561000-1671564600@newflorenceborough.org
SUMMARY:Borough Council Meeting
DESCRIPTION:The borough council meets monthly on the third Tuesday of each month at the borough building located at 119 Franklin Street in New Florence at 6:30 p.m.  The meetings are open to the public and all are encouraged to attend. \nHere is the agenda for the meeting.  PENDING
URL:https://newflorenceborough.org/event/borough-council-meeting-53/
LOCATION:Borough Building\, 119 Franklin Street\, New Florence\, PA\, 15944
ATTACH;FMTTYPE=image/png:https://newflorenceborough.org/wp-content/uploads/2017/11/photo.png
END:VEVENT
BEGIN:VEVENT
DTSTART;TZID=America/New_York:20221220T173000
DTEND;TZID=America/New_York:20221220T183000
DTSTAMP:20260425T090856
CREATED:20220907T184659Z
LAST-MODIFIED:20220907T184659Z
UID:3423-1671557400-1671561000@newflorenceborough.org
SUMMARY:New Florence Community Library "Page Turners" Group
DESCRIPTION:Please check out this fun book chat and craft book club group for 8- to 12-year-old young people.  This is a great after school program.  If you need more information\, please give the library a call.  Thanks.
URL:https://newflorenceborough.org/event/new-florence-community-library-page-turners-group-6/
LOCATION:New Florence Community Library\, 122 N Ligonier St.\, New Florence\, PA\, 15944
ATTACH;FMTTYPE=image/png:https://newflorenceborough.org/wp-content/uploads/2017/11/photo.png
END:VEVENT
BEGIN:VEVENT
DTSTART;TZID=America/New_York:20221219T160000
DTEND;TZID=America/New_York:20221219T200000
DTSTAMP:20260425T090856
CREATED:20221127T191334Z
LAST-MODIFIED:20221127T191334Z
UID:3638-1671465600-1671480000@newflorenceborough.org
SUMMARY:Christmas House Decorating Contest - 2022
DESCRIPTION:Please see the flyer below for more information on the house decorating contest.  Judging will start after the sun has gone down.  Thanks all.
URL:https://newflorenceborough.org/event/christmas-house-decorating-contest-2022/
LOCATION:New Florence\, PA: Multiple Locations\, New Florence\, PA\, 15944
ATTACH;FMTTYPE=image/png:https://newflorenceborough.org/wp-content/uploads/2017/11/photo.png
END:VEVENT
END:VCALENDAR