BEGIN:VCALENDAR
VERSION:2.0
PRODID:-//New Florence Borough - ECPv6.15.20//NONSGML v1.0//EN
CALSCALE:GREGORIAN
METHOD:PUBLISH
X-WR-CALNAME:New Florence Borough
X-ORIGINAL-URL:https://newflorenceborough.org
X-WR-CALDESC:Events for New Florence Borough
REFRESH-INTERVAL;VALUE=DURATION:PT1H
X-Robots-Tag:noindex
X-PUBLISHED-TTL:PT1H
BEGIN:VTIMEZONE
TZID:America/New_York
BEGIN:DAYLIGHT
TZOFFSETFROM:-0500
TZOFFSETTO:-0400
TZNAME:EDT
DTSTART:20210314T070000
END:DAYLIGHT
BEGIN:STANDARD
TZOFFSETFROM:-0400
TZOFFSETTO:-0500
TZNAME:EST
DTSTART:20211107T060000
END:STANDARD
BEGIN:DAYLIGHT
TZOFFSETFROM:-0500
TZOFFSETTO:-0400
TZNAME:EDT
DTSTART:20220313T070000
END:DAYLIGHT
BEGIN:STANDARD
TZOFFSETFROM:-0400
TZOFFSETTO:-0500
TZNAME:EST
DTSTART:20221106T060000
END:STANDARD
BEGIN:DAYLIGHT
TZOFFSETFROM:-0500
TZOFFSETTO:-0400
TZNAME:EDT
DTSTART:20230312T070000
END:DAYLIGHT
BEGIN:STANDARD
TZOFFSETFROM:-0400
TZOFFSETTO:-0500
TZNAME:EST
DTSTART:20231105T060000
END:STANDARD
END:VTIMEZONE
BEGIN:VEVENT
DTSTART;TZID=America/New_York:20220507T173000
DTEND;TZID=America/New_York:20220507T210000
DTSTAMP:20260425T074524
CREATED:20220414T214123Z
LAST-MODIFIED:20220414T214123Z
UID:2982-1651944600-1651957200@newflorenceborough.org
SUMMARY:New Florence VFD Rippie Night
DESCRIPTION:The New Florence Volunteer Fire Department will be holding their next rippie fundraiser.  Please see the flyer below or contact the fire department for more information.
URL:https://newflorenceborough.org/event/new-florence-vfd-rippie-night-6/
LOCATION:New Florence Volunteer Fire Department\, 177 13th Street\, New Florence\, PA\, 15944
ATTACH;FMTTYPE=image/png:https://newflorenceborough.org/wp-content/uploads/2017/11/photo.png
END:VEVENT
BEGIN:VEVENT
DTSTART;TZID=America/New_York:20220507T110000
DTEND;TZID=America/New_York:20220507T140000
DTSTAMP:20260425T074524
CREATED:20220414T213815Z
LAST-MODIFIED:20220414T213815Z
UID:2980-1651921200-1651932000@newflorenceborough.org
SUMMARY:New Florence VFD Chicken BBQ
DESCRIPTION:The New Florence VFD will be holding their next Chicken BBQ fundraiser of the year on May 7th.  They will start at 11 am and go till sold out.  Preorders are welcome.  Lots of folks are saying great things about how good the meals are.  The BBQ sales are the first Saturday on the month till late fall.  Please come out and support the fire department.  Thanks.
URL:https://newflorenceborough.org/event/new-florence-vfd-chicken-bbq-5/
LOCATION:New Florence Volunteer Fire Department\, 177 13th Street\, New Florence\, PA\, 15944
ATTACH;FMTTYPE=image/png:https://newflorenceborough.org/wp-content/uploads/2017/11/photo.png
END:VEVENT
BEGIN:VEVENT
DTSTART;TZID=America/New_York:20220502T110000
DTEND;TZID=America/New_York:20220604T170000
DTSTAMP:20260425T074524
CREATED:20220504T170418Z
LAST-MODIFIED:20220506T231040Z
UID:3038-1651489200-1654362000@newflorenceborough.org
SUMMARY:New Florence Community Library Spring Book Sale 2022
DESCRIPTION:The New Florence Community Library will be having their yearly book sale.  However\, this year the sale is a little bit different because of upcoming June activities.  The book sale will run from May 2nd to June 4th (Yard Sale Day).  Please see the flyer below for more information or give the library a call. \n \nPlease check out the pricing for this event.
URL:https://newflorenceborough.org/event/new-florence-community-library-spring-book-sale-2022/
LOCATION:New Florence Community Library\, 122 N Ligonier St.\, New Florence\, PA\, 15944
ATTACH;FMTTYPE=image/png:https://newflorenceborough.org/wp-content/uploads/2017/11/photo.png
END:VEVENT
BEGIN:VEVENT
DTSTART;TZID=America/New_York:20220501T100000
DTEND;TZID=America/New_York:20220501T160000
DTSTAMP:20260425T074524
CREATED:20220414T214950Z
LAST-MODIFIED:20220419T121848Z
UID:2986-1651399200-1651420800@newflorenceborough.org
SUMMARY:Museums of the Ligonier Valley - Free Museum Day 2022
DESCRIPTION:Please check out this free event at six of our local museums.  To learn more please call the museum you are interested in. \nHere are the various telephone numbers: \nCompass Inn Museum\, 724-238-6818\nFort Ligonier\, 724-238-9701\nAntiochian Heritage Museum\, 724-238-3677\nLincoln Highway Heritage Corridor\, 724-879-4241\nLigonier Valley Rail Road Museum\, 724-238-7819\nSouthern Alleghenies Museum of Art\, 724-238-6015 \nHere are two updated images to replace the original one I had posted.  The back page with the map is included.  Thanks\, the webmaster. \n \n \nOriginal posted image below.
URL:https://newflorenceborough.org/event/museums-of-the-ligonier-valley-free-museum-day-2022/
LOCATION:PA
ATTACH;FMTTYPE=image/png:https://newflorenceborough.org/wp-content/uploads/2017/11/photo.png
END:VEVENT
BEGIN:VEVENT
DTSTART;TZID=America/New_York:20220426T173000
DTEND;TZID=America/New_York:20220426T183000
DTSTAMP:20260425T074524
CREATED:20220102T234513Z
LAST-MODIFIED:20220102T234513Z
UID:2549-1650994200-1650997800@newflorenceborough.org
SUMMARY:New Florence Community Library #READERS Group
DESCRIPTION:Please check out this fun reading event for young teenagers.  If you need more information\, please give the library a call.  Thanks.
URL:https://newflorenceborough.org/event/new-florence-community-library-readers-group-4/
LOCATION:New Florence Community Library\, 122 N Ligonier St.\, New Florence\, PA\, 15944
ATTACH;FMTTYPE=image/png:https://newflorenceborough.org/wp-content/uploads/2017/11/photo.png
END:VEVENT
BEGIN:VEVENT
DTSTART;TZID=America/New_York:20220422T180000
DTEND;TZID=America/New_York:20220422T210000
DTSTAMP:20260425T074524
CREATED:20220327T130517Z
LAST-MODIFIED:20220327T130517Z
UID:2885-1650650400-1650661200@newflorenceborough.org
SUMMARY:Squirrel Hill Hunting Club Rippie Party April 2022
DESCRIPTION:The Squirrel Hill Hunting Club has an upcoming fundraiser.  They will be holding a Rippie Party at the Blairsville VFW on April 22nd.  There will be free food\, 50/50\, and raffle tickets.  The VFW has a free pool table and a jukebox for use that night.  The Squirrel Hill Hunting Club fundraisers are used to provide hunting activities for severely ill children.  Please contact Sue Buckles at 724-600-9734 for tickets or more information.
URL:https://newflorenceborough.org/event/squirrel-hill-hunting-club-rippie-party-april-2022/
LOCATION:Blairsville VFW\, 9626 Rt. 22 West\, Blairsville\, PA\, 15717\, United States
ATTACH;FMTTYPE=image/png:https://newflorenceborough.org/wp-content/uploads/2017/11/photo.png
END:VEVENT
BEGIN:VEVENT
DTSTART;TZID=America/New_York:20220419T183000
DTEND;TZID=America/New_York:20220419T193000
DTSTAMP:20260425T074524
CREATED:20220109T031022Z
LAST-MODIFIED:20220109T031022Z
UID:2590-1650393000-1650396600@newflorenceborough.org
SUMMARY:Borough Council Meeting
DESCRIPTION:The borough council meets monthly on the third Tuesday of each month at the borough building located at 119 Franklin Street in New Florence at 6:30 p.m.  The meetings are open to the public and all are encouraged to attend. \nHere is the agenda for the meeting.  PENDING
URL:https://newflorenceborough.org/event/borough-council-meeting-45/
LOCATION:Borough Building\, 119 Franklin Street\, New Florence\, PA\, 15944
ATTACH;FMTTYPE=image/png:https://newflorenceborough.org/wp-content/uploads/2017/11/photo.png
END:VEVENT
BEGIN:VEVENT
DTSTART;TZID=America/New_York:20220419T173000
DTEND;TZID=America/New_York:20220419T183000
DTSTAMP:20260425T074524
CREATED:20220403T131803Z
LAST-MODIFIED:20220403T131803Z
UID:2925-1650389400-1650393000@newflorenceborough.org
SUMMARY:New Florence Community Library "Page Turners" Group
DESCRIPTION:Please check out this fun reading event for 9- to 12-year-old young people.  This is a great after school program.  If you need more information\, please give the library a call.  Thanks.
URL:https://newflorenceborough.org/event/new-florence-community-library-page-turners-group/
LOCATION:New Florence Community Library\, 122 N Ligonier St.\, New Florence\, PA\, 15944
ATTACH;FMTTYPE=image/png:https://newflorenceborough.org/wp-content/uploads/2017/11/photo.png
END:VEVENT
BEGIN:VEVENT
DTSTART;TZID=America/New_York:20220416T110000
DTEND;TZID=America/New_York:20220416T130000
DTSTAMP:20260425T074524
CREATED:20220208T154305Z
LAST-MODIFIED:20220414T213252Z
UID:2687-1650106800-1650114000@newflorenceborough.org
SUMMARY:New Florence VFW Post 7622 Easter Egg Hunt
DESCRIPTION:Please come out and join us for our annual Easter Egg Hunt.  It will start at 11 a.m. so please show up a little earlier.  If you have questions please call the club.  Please check out the flyer below. \n \nHere’s a few photos of the club getting ready for the Easter Egg Hunt.
URL:https://newflorenceborough.org/event/new-florence-vfw-post-7622-easter-egg-hunt-3/
LOCATION:New Florence VFW\, 6215 Route 711\, New Florence\, PA\, 15944
ATTACH;FMTTYPE=image/png:https://newflorenceborough.org/wp-content/uploads/2017/11/photo.png
END:VEVENT
BEGIN:VEVENT
DTSTART;TZID=America/New_York:20220415T190000
DTEND;TZID=America/New_York:20220415T190000
DTSTAMP:20260425T074524
CREATED:20220218T005900Z
LAST-MODIFIED:20220218T005900Z
UID:2732-1650049200-1650049200@newflorenceborough.org
SUMMARY:New Florence Community Library $$ Tax Relief $$ Raffle Day 5
DESCRIPTION:Please check out this exciting 5-day raffle the library is holding as a fundraiser.  If you need more information\, please give the library a call.
URL:https://newflorenceborough.org/event/new-florence-community-library-tax-relief-raffle-day-5/
LOCATION:New Florence Community Library\, 122 N Ligonier St.\, New Florence\, PA\, 15944
ATTACH;FMTTYPE=image/png:https://newflorenceborough.org/wp-content/uploads/2017/11/photo.png
END:VEVENT
BEGIN:VEVENT
DTSTART;TZID=America/New_York:20220414T190000
DTEND;TZID=America/New_York:20220414T190000
DTSTAMP:20260425T074524
CREATED:20220218T005721Z
LAST-MODIFIED:20220218T005721Z
UID:2730-1649962800-1649962800@newflorenceborough.org
SUMMARY:New Florence Community Library $$ Tax Relief $$ Raffle Day 4
DESCRIPTION:Please check out this exciting 5-day raffle the library is holding as a fundraiser.  If you need more information\, please give the library a call.
URL:https://newflorenceborough.org/event/new-florence-community-library-tax-relief-raffle-day-4/
LOCATION:New Florence Community Library\, 122 N Ligonier St.\, New Florence\, PA\, 15944
ATTACH;FMTTYPE=image/png:https://newflorenceborough.org/wp-content/uploads/2017/11/photo.png
END:VEVENT
BEGIN:VEVENT
DTSTART;TZID=America/New_York:20220413T190000
DTEND;TZID=America/New_York:20220413T190000
DTSTAMP:20260425T074524
CREATED:20220218T005531Z
LAST-MODIFIED:20220218T005531Z
UID:2728-1649876400-1649876400@newflorenceborough.org
SUMMARY:New Florence Community Library $$ Tax Relief $$ Raffle Day 3
DESCRIPTION:Please check out this exciting 5-day raffle the library is holding as a fundraiser.  If you need more information\, please give the library a call.
URL:https://newflorenceborough.org/event/new-florence-community-library-tax-relief-raffle-day-3/
LOCATION:New Florence Community Library\, 122 N Ligonier St.\, New Florence\, PA\, 15944
ATTACH;FMTTYPE=image/png:https://newflorenceborough.org/wp-content/uploads/2017/11/photo.png
END:VEVENT
BEGIN:VEVENT
DTSTART;TZID=America/New_York:20220413T183000
DTEND;TZID=America/New_York:20220413T193000
DTSTAMP:20260425T074524
CREATED:20220403T132647Z
LAST-MODIFIED:20220403T132647Z
UID:2929-1649874600-1649878200@newflorenceborough.org
SUMMARY:New Florence Community Library Adult Book Club
DESCRIPTION:The New Florence Community Library has an Adult Book Club.  The meetings are held online and free for everyone.  For more information\, please contact the library and they’ll explain how you can participate through your computer.  Thanks.
URL:https://newflorenceborough.org/event/new-florence-community-library-adult-book-club-2/
LOCATION:New Florence Community Library\, 122 N Ligonier St.\, New Florence\, PA\, 15944
ATTACH;FMTTYPE=image/png:https://newflorenceborough.org/wp-content/uploads/2017/11/photo.png
END:VEVENT
BEGIN:VEVENT
DTSTART;TZID=America/New_York:20220412T190000
DTEND;TZID=America/New_York:20220412T190000
DTSTAMP:20260425T074524
CREATED:20220218T005333Z
LAST-MODIFIED:20220218T005333Z
UID:2726-1649790000-1649790000@newflorenceborough.org
SUMMARY:New Florence Community Library $$ Tax Relief $$ Raffle Day 2
DESCRIPTION:Please check out this exciting 5-day raffle the library is holding as a fundraiser.  If you need more information\, please give the library a call.
URL:https://newflorenceborough.org/event/new-florence-community-library-tax-relief-raffle-day-2/
LOCATION:New Florence Community Library\, 122 N Ligonier St.\, New Florence\, PA\, 15944
ATTACH;FMTTYPE=image/png:https://newflorenceborough.org/wp-content/uploads/2017/11/photo.png
END:VEVENT
BEGIN:VEVENT
DTSTART;TZID=America/New_York:20220412T180000
DTEND;TZID=America/New_York:20220412T190000
DTSTAMP:20260425T074524
CREATED:20220407T162822Z
LAST-MODIFIED:20220407T162822Z
UID:2957-1649786400-1649790000@newflorenceborough.org
SUMMARY:Laurel Valley Area Historical Society (LVAHS) Meeting
DESCRIPTION:Please join us for the next meeting of the Laurel Valley Area Historical Society .  We have a lot to discuss! Please print a copy of the attached agenda and bring it with you.  LVAHS Meeting Agenda 12 April 2022 \nAlso note that the group has a new Gmail address. It is lvahs2022@gmail.com. Please make a note of this for future reference. \nIf you have any questions\, please contact Kathy Mack for more information. \nThank you\,\nKathy Mack\, President\nLaurel Valley Historical Society\n724-235-2688
URL:https://newflorenceborough.org/event/laurel-valley-area-historical-society-lvahs-meeting-17/
LOCATION:Borough Building\, 119 Franklin Street\, New Florence\, PA\, 15944
ATTACH;FMTTYPE=image/png:https://newflorenceborough.org/wp-content/uploads/2017/11/photo.png
END:VEVENT
BEGIN:VEVENT
DTSTART;TZID=America/New_York:20220412T173000
DTEND;TZID=America/New_York:20220412T183000
DTSTAMP:20260425T074524
CREATED:20220102T233434Z
LAST-MODIFIED:20220102T233434Z
UID:2538-1649784600-1649788200@newflorenceborough.org
SUMMARY:New Florence Community Library Book Bunch
DESCRIPTION:Please check out this fun reading event for young children.  If you need more information\, please give the library a call.  Thanks.
URL:https://newflorenceborough.org/event/new-florence-community-library-book-bunch-4/
LOCATION:New Florence Community Library\, 122 N Ligonier St.\, New Florence\, PA\, 15944
ATTACH;FMTTYPE=image/png:https://newflorenceborough.org/wp-content/uploads/2017/11/photo.png
END:VEVENT
BEGIN:VEVENT
DTSTART;TZID=America/New_York:20220411T190000
DTEND;TZID=America/New_York:20220411T190000
DTSTAMP:20260425T074524
CREATED:20220218T005126Z
LAST-MODIFIED:20220218T005126Z
UID:2723-1649703600-1649703600@newflorenceborough.org
SUMMARY:New Florence Community Library $$ Tax Relief $$ Raffle Day 1
DESCRIPTION:Please check out this exciting 5-day raffle the library is holding as a fundraiser.  If you need more information\, please give the library a call.
URL:https://newflorenceborough.org/event/new-florence-community-library-tax-relief-raffle-day-1/
LOCATION:New Florence Community Library\, 122 N Ligonier St.\, New Florence\, PA\, 15944
ATTACH;FMTTYPE=image/png:https://newflorenceborough.org/wp-content/uploads/2017/11/photo.png
END:VEVENT
BEGIN:VEVENT
DTSTART;TZID=America/New_York:20220409T150000
DTEND;TZID=America/New_York:20220409T210000
DTSTAMP:20260425T074524
CREATED:20220208T152843Z
LAST-MODIFIED:20220407T161522Z
UID:2681-1649516400-1649538000@newflorenceborough.org
SUMMARY:NF VFD Gun Bash - April 2022
DESCRIPTION:The NF VFD will be holding a gun bash fundraiser.  Please see the image below for more information.  Thanks. \n \nThe VFD posted on Facebook that there will be lots of good food to partake in\, including fried chicken\, Italian sweet sausage\, pulled pork\, greens beans\, pork & beans\, parsley potatoes\, macaroni salad\, potato salad\, and buffalo chicken dip.  There will also be some desserts.  Sounds like a good eating to me.
URL:https://newflorenceborough.org/event/nf-vfd-gun-bash-april-2022/
LOCATION:New Florence Volunteer Fire Department\, 177 13th Street\, New Florence\, PA\, 15944
ATTACH;FMTTYPE=image/png:https://newflorenceborough.org/wp-content/uploads/2017/11/photo.png
END:VEVENT
BEGIN:VEVENT
DTSTART;TZID=America/New_York:20220405T180000
DTEND;TZID=America/New_York:20220405T200000
DTSTAMP:20260425T074524
CREATED:20220329T001159Z
LAST-MODIFIED:20220329T001159Z
UID:2908-1649181600-1649188800@newflorenceborough.org
SUMMARY:New Florence Community Library Easter Mesh Wreath Class with Sue Buckles - 2nd Class
DESCRIPTION:Please check out this additional crafting class the library is holding.  The library had such a great response to their Crafting with Sue class on Easter Mesh Wreaths that a second class was added for April 5th.  Sign up at the library or give them a call.  Thanks.
URL:https://newflorenceborough.org/event/new-florence-community-library-easter-mesh-wreath-class-with-sue-buckles-2nd-class/
LOCATION:New Florence Community Library\, 122 N Ligonier St.\, New Florence\, PA\, 15944
ATTACH;FMTTYPE=image/png:https://newflorenceborough.org/wp-content/uploads/2017/11/photo.png
END:VEVENT
BEGIN:VEVENT
DTSTART;TZID=America/New_York:20220404T110000
DTEND;TZID=America/New_York:20220418T160000
DTSTAMP:20260425T074524
CREATED:20220403T130813Z
LAST-MODIFIED:20220403T130813Z
UID:2921-1649070000-1650297600@newflorenceborough.org
SUMMARY:New Florence Community Library & Children's Bookstore Fair
DESCRIPTION:The library is teaming up with the Children’s Bookstore for a 2-week online Book Fair from April 4th to the 18th.  The library earns a portion of every sale.  Please check out the flyer below if you’d like to participate.  The link to the bookstore can be found here.  Children’s Bookstore Link
URL:https://newflorenceborough.org/event/new-florence-community-library-childrens-bookstore-fair-2/
LOCATION:New Florence Community Library\, 122 N Ligonier St.\, New Florence\, PA\, 15944
ATTACH;FMTTYPE=image/png:https://newflorenceborough.org/wp-content/uploads/2017/11/photo.png
END:VEVENT
BEGIN:VEVENT
DTSTART;TZID=America/New_York:20220402T110000
DTEND;TZID=America/New_York:20220402T140000
DTSTAMP:20260425T074524
CREATED:20220208T152456Z
LAST-MODIFIED:20220329T000647Z
UID:2679-1648897200-1648908000@newflorenceborough.org
SUMMARY:New Florence VFD Chicken BBQ
DESCRIPTION:The New Florence VFD will be holding their first Chicken BBQ fundraiser of the year on April 2nd.  They will start at 11 am and go till sold out.  Preorders are welcome.  Lots of folks are saying great things about how good the meals were last year.  The BBQ sales will be the first Saturday on the month till late fall.  Please come out and support the fire department.  Thanks.
URL:https://newflorenceborough.org/event/new-florence-vfd-chicken-bbq-4/
LOCATION:New Florence Volunteer Fire Department\, 177 13th Street\, New Florence\, PA\, 15944
ATTACH;FMTTYPE=image/png:https://newflorenceborough.org/wp-content/uploads/2017/11/photo.png
END:VEVENT
BEGIN:VEVENT
DTSTART;TZID=America/New_York:20220331T180000
DTEND;TZID=America/New_York:20220331T200000
DTSTAMP:20260425T074524
CREATED:20220311T214815Z
LAST-MODIFIED:20220329T001401Z
UID:2852-1648749600-1648756800@newflorenceborough.org
SUMMARY:New Florence Community Library Easter Mesh Wreath Class with Sue Buckles
DESCRIPTION:Please check out the next craft class the library is holding.  This is another class Sue will be doing with the library.  Pictures from previous classes show everyone has a great time.  Sign up at the library or give them a call.  Thanks. \nNOTE: This first class sold out.  The library had such a great response to their Crafting with Sue class on Easter Mesh Wreaths that a second class was added for April 5th.   Please call the library to sign up for this second class.
URL:https://newflorenceborough.org/event/new-florence-community-library-easter-mesh-wreath-class-with-sue-buckles/
LOCATION:New Florence Community Library\, 122 N Ligonier St.\, New Florence\, PA\, 15944
ATTACH;FMTTYPE=image/png:https://newflorenceborough.org/wp-content/uploads/2017/11/photo.png
END:VEVENT
BEGIN:VEVENT
DTSTART;TZID=America/New_York:20220322T183000
DTEND;TZID=America/New_York:20220322T200000
DTSTAMP:20260425T074524
CREATED:20220221T022025Z
LAST-MODIFIED:20220221T022025Z
UID:2739-1647973800-1647979200@newflorenceborough.org
SUMMARY:New Florence/St Clair Sanitation Authority Meeting
DESCRIPTION:This meeting is open to the public.  If you would like more information you can contact the authority at 724-541-0030.  The authority also had this notice posted to the borough website.
URL:https://newflorenceborough.org/event/new-florence-st-clair-sanitation-authority-meeting-6/
LOCATION:Borough Building\, 119 Franklin Street\, New Florence\, PA\, 15944
ATTACH;FMTTYPE=image/png:https://newflorenceborough.org/wp-content/uploads/2017/11/photo.png
END:VEVENT
BEGIN:VEVENT
DTSTART;TZID=America/New_York:20220322T173000
DTEND;TZID=America/New_York:20220322T183000
DTSTAMP:20260425T074524
CREATED:20220102T234335Z
LAST-MODIFIED:20220102T234335Z
UID:2547-1647970200-1647973800@newflorenceborough.org
SUMMARY:New Florence Community Library #READERS Group
DESCRIPTION:Please check out this fun reading event for young teenagers.  If you need more information\, please give the library a call.  Thanks.
URL:https://newflorenceborough.org/event/new-florence-community-library-readers-group-3/
LOCATION:New Florence Community Library\, 122 N Ligonier St.\, New Florence\, PA\, 15944
ATTACH;FMTTYPE=image/png:https://newflorenceborough.org/wp-content/uploads/2017/11/photo.png
END:VEVENT
BEGIN:VEVENT
DTSTART;TZID=America/New_York:20220321T180000
DTEND;TZID=America/New_York:20220321T193000
DTSTAMP:20260425T074524
CREATED:20220224T221837Z
LAST-MODIFIED:20220224T221837Z
UID:2790-1647885600-1647891000@newflorenceborough.org
SUMMARY:New Florence Community Library Legal Questions Seminar
DESCRIPTION:As part of the library’s Speaker Series 2022\, they will be hosting a seminar to discuss legal questions with Attorney Richard Boyle.  Please see the flyer below for more information.  Thank you.
URL:https://newflorenceborough.org/event/new-florence-community-library-legal-questions-seminar/
LOCATION:New Florence Community Library\, 122 N Ligonier St.\, New Florence\, PA\, 15944
ATTACH;FMTTYPE=image/png:https://newflorenceborough.org/wp-content/uploads/2017/11/photo.png
END:VEVENT
BEGIN:VEVENT
DTSTART;TZID=America/New_York:20220320T130000
DTEND;TZID=America/New_York:20220320T150000
DTSTAMP:20260425T074524
CREATED:20220127T031355Z
LAST-MODIFIED:20220127T031355Z
UID:2647-1647781200-1647788400@newflorenceborough.org
SUMMARY:NF VFD Basket Party - March 2022
DESCRIPTION:Please check out the flyer for this fire department fundraiser.
URL:https://newflorenceborough.org/event/nf-vfd-basket-party-march-2022/
LOCATION:New Florence Volunteer Fire Department\, 177 13th Street\, New Florence\, PA\, 15944
ATTACH;FMTTYPE=image/png:https://newflorenceborough.org/wp-content/uploads/2017/11/photo.png
END:VEVENT
BEGIN:VEVENT
DTSTART;TZID=America/New_York:20220319T200000
DTEND;TZID=America/New_York:20220319T230000
DTSTAMP:20260425T074524
CREATED:20220311T220025Z
LAST-MODIFIED:20220311T220025Z
UID:2856-1647720000-1647730800@newflorenceborough.org
SUMMARY:New Florence VFW St. Patrick's Day Celebration 2022
DESCRIPTION:Celebrate St. Patrick’s weekend with us at the VFW.  DJ Tom Hoover will be leading the party with all your favorite party tunes!  Come dance and watch your favorite videos on the big screen!  The event is open to the public.  There is a $5 cover charge and participants must be 21 to attend.  Call the club if you need more information.
URL:https://newflorenceborough.org/event/new-florence-vfw-st-patricks-day-celebration-2022/
LOCATION:New Florence VFW\, 6215 Route 711\, New Florence\, PA\, 15944
ATTACH;FMTTYPE=image/png:https://newflorenceborough.org/wp-content/uploads/2017/11/photo.png
END:VEVENT
BEGIN:VEVENT
DTSTART;TZID=America/New_York:20220317T180000
DTEND;TZID=America/New_York:20220317T193000
DTSTAMP:20260425T074524
CREATED:20220311T215357Z
LAST-MODIFIED:20220311T215357Z
UID:2854-1647540000-1647545400@newflorenceborough.org
SUMMARY:New Florence Community Library "Who Are You?" Ancestry Seminar
DESCRIPTION:Please check out this next seminar in the library’s speaker series.  If you have questions\, give the library a call.  Thanks.
URL:https://newflorenceborough.org/event/new-florence-community-library-who-are-you-ancestry-seminar/
LOCATION:New Florence Community Library\, 122 N Ligonier St.\, New Florence\, PA\, 15944
ATTACH;FMTTYPE=image/png:https://newflorenceborough.org/wp-content/uploads/2017/11/photo.png
END:VEVENT
BEGIN:VEVENT
DTSTART;TZID=America/New_York:20220315T183000
DTEND;TZID=America/New_York:20220315T193000
DTSTAMP:20260425T074524
CREATED:20220109T030838Z
LAST-MODIFIED:20220314T032333Z
UID:2588-1647369000-1647372600@newflorenceborough.org
SUMMARY:Borough Council Meeting
DESCRIPTION:The borough council meets monthly on the third Tuesday of each month at the borough building located at 119 Franklin Street in New Florence at 6:30 p.m.  The meetings are open to the public and all are encouraged to attend. \nHere is the agenda for the meeting.  AGENDA 03-15-22
URL:https://newflorenceborough.org/event/borough-council-meeting-44/
LOCATION:Borough Building\, 119 Franklin Street\, New Florence\, PA\, 15944
ATTACH;FMTTYPE=image/png:https://newflorenceborough.org/wp-content/uploads/2017/11/photo.png
END:VEVENT
BEGIN:VEVENT
DTSTART;TZID=America/New_York:20220312T100000
DTEND;TZID=America/New_York:20220312T140000
DTSTAMP:20260425T074524
CREATED:20220208T153805Z
LAST-MODIFIED:20220208T153805Z
UID:2685-1647079200-1647093600@newflorenceborough.org
SUMMARY:New Florence Senior Center Conzatti's Sub Sale
DESCRIPTION:The Senior Center will be having a sub sale fundraiser.  Please see the flyer below for more information or give the center a call.  Thanks.
URL:https://newflorenceborough.org/event/new-florence-senior-center-conzattis-sub-sale/
LOCATION:New Florence Senior Center\, 216 Ligonier Street\, New Florence\, PA\, 15944\, United States
ATTACH;FMTTYPE=image/png:https://newflorenceborough.org/wp-content/uploads/2017/11/photo.png
END:VEVENT
END:VCALENDAR