BEGIN:VCALENDAR
VERSION:2.0
PRODID:-//New Florence Borough - ECPv6.15.20//NONSGML v1.0//EN
CALSCALE:GREGORIAN
METHOD:PUBLISH
X-WR-CALNAME:New Florence Borough
X-ORIGINAL-URL:https://newflorenceborough.org
X-WR-CALDESC:Events for New Florence Borough
REFRESH-INTERVAL;VALUE=DURATION:PT1H
X-Robots-Tag:noindex
X-PUBLISHED-TTL:PT1H
BEGIN:VTIMEZONE
TZID:America/New_York
BEGIN:DAYLIGHT
TZOFFSETFROM:-0500
TZOFFSETTO:-0400
TZNAME:EDT
DTSTART:20200308T070000
END:DAYLIGHT
BEGIN:STANDARD
TZOFFSETFROM:-0400
TZOFFSETTO:-0500
TZNAME:EST
DTSTART:20201101T060000
END:STANDARD
BEGIN:DAYLIGHT
TZOFFSETFROM:-0500
TZOFFSETTO:-0400
TZNAME:EDT
DTSTART:20210314T070000
END:DAYLIGHT
BEGIN:STANDARD
TZOFFSETFROM:-0400
TZOFFSETTO:-0500
TZNAME:EST
DTSTART:20211107T060000
END:STANDARD
BEGIN:DAYLIGHT
TZOFFSETFROM:-0500
TZOFFSETTO:-0400
TZNAME:EDT
DTSTART:20220313T070000
END:DAYLIGHT
BEGIN:STANDARD
TZOFFSETFROM:-0400
TZOFFSETTO:-0500
TZNAME:EST
DTSTART:20221106T060000
END:STANDARD
BEGIN:DAYLIGHT
TZOFFSETFROM:-0500
TZOFFSETTO:-0400
TZNAME:EDT
DTSTART:20230312T070000
END:DAYLIGHT
BEGIN:STANDARD
TZOFFSETFROM:-0400
TZOFFSETTO:-0500
TZNAME:EST
DTSTART:20231105T060000
END:STANDARD
END:VTIMEZONE
BEGIN:VEVENT
DTSTART;TZID=America/New_York:20220310T183000
DTEND;TZID=America/New_York:20220310T200000
DTSTAMP:20260425T114715
CREATED:20220306T181120Z
LAST-MODIFIED:20220306T181120Z
UID:2816-1646937000-1646942400@newflorenceborough.org
SUMMARY:Laurel Valley Area Historical Society (LVAHS) Meeting
DESCRIPTION:We will be having a meeting next Thursday – March 10th – 6:30 pm – at the West Fairfield Auction Barn. This is a short-notice meeting and is scheduled a half hour later than normal because we need Doug there and he cannot make it until sometime around 7 or 7:30. I was thinking that we could have a general discussion until Doug gets there. (If Travis comes\, maybe he can bring some more artifacts for us to look at). I do not have time to type an agenda\, so this will be very informal. \nEarly meeting – 6:30 until Doug’s arrival:\nGeneral discussion \nDoug’s arrival\, until closing:\nOur bank account\nOur 501c3 being approved!  Exempt Status IRS Letter\nWhat else do we want to file? \nKathy Mack\, President\nLaurel Valley Area Historical Society\nEmail: fkmack@verizon.net\nPhone: 724-235-2688
URL:https://newflorenceborough.org/event/laurel-valley-area-historical-society-lvahs-meeting-16/
LOCATION:West Fairfield Auction Barn\, 135 Fairfield Road\, New Florence\, PA\, 15944
ATTACH;FMTTYPE=image/png:https://newflorenceborough.org/wp-content/uploads/2017/11/photo.png
END:VEVENT
BEGIN:VEVENT
DTSTART;TZID=America/New_York:20220308T173000
DTEND;TZID=America/New_York:20220308T183000
DTSTAMP:20260425T114715
CREATED:20220102T233249Z
LAST-MODIFIED:20220102T233249Z
UID:2536-1646760600-1646764200@newflorenceborough.org
SUMMARY:New Florence Community Library Book Bunch
DESCRIPTION:Please check out this fun reading event for young children.  If you need more information\, please give the library a call.  Thanks.
URL:https://newflorenceborough.org/event/new-florence-community-library-book-bunch-3/
LOCATION:New Florence Community Library\, 122 N Ligonier St.\, New Florence\, PA\, 15944
ATTACH;FMTTYPE=image/png:https://newflorenceborough.org/wp-content/uploads/2017/11/photo.png
END:VEVENT
BEGIN:VEVENT
DTSTART;TZID=America/New_York:20220305T120000
DTEND;TZID=America/New_York:20220305T150000
DTSTAMP:20260425T114715
CREATED:20220208T153341Z
LAST-MODIFIED:20220208T153341Z
UID:2683-1646481600-1646492400@newflorenceborough.org
SUMMARY:New Florence Senior Center Shamrock'in Bingo
DESCRIPTION:The New Florence Senior Center will be hosting a Shamrock’in Bingo.  Lunch will be served at 12:00 noon.  The bingo starts at 1:00 pm.  There will be 20 games.  For more information\, please give the center a call.
URL:https://newflorenceborough.org/event/new-florence-senior-center-shamrockin-bingo/
LOCATION:New Florence Senior Center\, 216 Ligonier Street\, New Florence\, PA\, 15944\, United States
ATTACH;FMTTYPE=image/png:https://newflorenceborough.org/wp-content/uploads/2017/11/photo.png
END:VEVENT
BEGIN:VEVENT
DTSTART;TZID=America/New_York:20220305T100000
DTEND;TZID=America/New_York:20220305T140000
DTSTAMP:20260425T114715
CREATED:20220110T024622Z
LAST-MODIFIED:20220224T221420Z
UID:2614-1646474400-1646488800@newflorenceborough.org
SUMMARY:New Florence VFD Sub Sale
DESCRIPTION:The New Florence Volunteer Fire Department will be holding another sub sale fundraiser.  Subs will be available from 10 am until they are sold out.  If you need more information\, contact the fire department.  Thank you.
URL:https://newflorenceborough.org/event/new-florence-vfd-sub-sale-3/
LOCATION:New Florence Volunteer Fire Department\, 177 13th Street\, New Florence\, PA\, 15944
ATTACH;FMTTYPE=image/png:https://newflorenceborough.org/wp-content/uploads/2017/11/photo.png
END:VEVENT
BEGIN:VEVENT
DTSTART;TZID=America/New_York:20220303T180000
DTEND;TZID=America/New_York:20220303T200000
DTSTAMP:20260425T114715
CREATED:20220208T151411Z
LAST-MODIFIED:20220208T151411Z
UID:2675-1646330400-1646337600@newflorenceborough.org
SUMMARY:New Florence Community Library Scrabble Tile Art Class with Sue Buckles
DESCRIPTION:Please check out this crafting class the library is holding.  Sign up at the library or give them a call.  Thanks.
URL:https://newflorenceborough.org/event/new-florence-community-library-scrabble-tile-art-class-with-sue-buckles/
LOCATION:New Florence Community Library\, 122 N Ligonier St.\, New Florence\, PA\, 15944
ATTACH;FMTTYPE=image/png:https://newflorenceborough.org/wp-content/uploads/2017/11/photo.png
END:VEVENT
BEGIN:VEVENT
DTSTART;TZID=America/New_York:20220228T180000
DTEND;TZID=America/New_York:20220228T180000
DTSTAMP:20260425T114715
CREATED:20220213T220619Z
LAST-MODIFIED:20220213T220619Z
UID:2713-1646071200-1646071200@newflorenceborough.org
SUMMARY:Joshua Hamley - Eagle Scout Project Support
DESCRIPTION:Please see the flyer below for one of our local scouts who is working on his Eagle Scout Project.  Please try and help him out.
URL:https://newflorenceborough.org/event/joshua-hamley-eagle-scout-project-support/
LOCATION:New Florence United Methodist Church\, 200 9th St.\, New Florence\, PA\, 15944\, United States
ATTACH;FMTTYPE=image/png:https://newflorenceborough.org/wp-content/uploads/2017/11/photo.png
END:VEVENT
BEGIN:VEVENT
DTSTART;TZID=America/New_York:20220222T173000
DTEND;TZID=America/New_York:20220222T183000
DTSTAMP:20260425T114715
CREATED:20220102T234211Z
LAST-MODIFIED:20220102T234211Z
UID:2545-1645551000-1645554600@newflorenceborough.org
SUMMARY:New Florence Community Library #READERS Group
DESCRIPTION:Please check out this fun reading event for young teenagers.  If you need more information\, please give the library a call.  Thanks.
URL:https://newflorenceborough.org/event/new-florence-community-library-readers-group-2/
LOCATION:New Florence Community Library\, 122 N Ligonier St.\, New Florence\, PA\, 15944
ATTACH;FMTTYPE=image/png:https://newflorenceborough.org/wp-content/uploads/2017/11/photo.png
END:VEVENT
BEGIN:VEVENT
DTSTART;TZID=America/New_York:20220221T180000
DTEND;TZID=America/New_York:20220221T190000
DTSTAMP:20260425T114715
CREATED:20220208T151826Z
LAST-MODIFIED:20220208T151826Z
UID:2677-1645466400-1645470000@newflorenceborough.org
SUMMARY:New Florence Community Library Homeowners Insurance Seminar
DESCRIPTION:As part of the library’s Speaker Series 2022\, they will be hosting a seminar to discuss homeowners insurance.  Please see the flyer below for more information.  Thank you.
URL:https://newflorenceborough.org/event/new-florence-community-library-homeowners-insurance-seminar/
LOCATION:New Florence Community Library\, 122 N Ligonier St.\, New Florence\, PA\, 15944
ATTACH;FMTTYPE=image/png:https://newflorenceborough.org/wp-content/uploads/2017/11/photo.png
END:VEVENT
BEGIN:VEVENT
DTSTART;TZID=America/New_York:20220219T140000
DTEND;TZID=America/New_York:20220219T160000
DTSTAMP:20260425T114715
CREATED:20220213T220219Z
LAST-MODIFIED:20220213T220219Z
UID:2711-1645279200-1645286400@newflorenceborough.org
SUMMARY:New Florence Community Library "Winter Read-In"
DESCRIPTION:Please check out this fun event at the library.
URL:https://newflorenceborough.org/event/new-florence-community-library-winter-read-in/
LOCATION:New Florence Community Library\, 122 N Ligonier St.\, New Florence\, PA\, 15944
ATTACH;FMTTYPE=image/png:https://newflorenceborough.org/wp-content/uploads/2017/11/photo.png
END:VEVENT
BEGIN:VEVENT
DTSTART;TZID=America/New_York:20220215T183000
DTEND;TZID=America/New_York:20220215T193000
DTSTAMP:20260425T114715
CREATED:20220109T030716Z
LAST-MODIFIED:20220215T010245Z
UID:2586-1644949800-1644953400@newflorenceborough.org
SUMMARY:Borough Council Meeting
DESCRIPTION:The borough council meets monthly on the third Tuesday of each month at the borough building located at 119 Franklin Street in New Florence at 6:30 p.m.  The meetings are open to the public and all are encouraged to attend. \nHere is the agenda for the meeting.  AGENDA 02-15-22
URL:https://newflorenceborough.org/event/borough-council-meeting-43/
LOCATION:Borough Building\, 119 Franklin Street\, New Florence\, PA\, 15944
ATTACH;FMTTYPE=image/png:https://newflorenceborough.org/wp-content/uploads/2017/11/photo.png
END:VEVENT
BEGIN:VEVENT
DTSTART;TZID=America/New_York:20220214T190000
DTEND;TZID=America/New_York:20220214T190000
DTSTAMP:20260425T114715
CREATED:20211210T015125Z
LAST-MODIFIED:20211210T015125Z
UID:2475-1644865200-1644865200@newflorenceborough.org
SUMMARY:New Florence Senior Center Cash Fundraiser
DESCRIPTION:The senior center is selling raffle tickets as a fundraiser.  Please see the example ticket below. \n \nFor more information\, please contact the New Florence Senior Center at either 724-235-2800 or 724-235-9303.
URL:https://newflorenceborough.org/event/new-florence-senior-center-cash-fundraiser/
LOCATION:New Florence Senior Center\, 216 Ligonier Street\, New Florence\, PA\, 15944\, United States
ATTACH;FMTTYPE=image/png:https://newflorenceborough.org/wp-content/uploads/2017/11/photo.png
END:VEVENT
BEGIN:VEVENT
DTSTART;TZID=America/New_York:20220213T130000
DTEND;TZID=America/New_York:20220213T150000
DTSTAMP:20260425T114715
CREATED:20220212T005918Z
LAST-MODIFIED:20220212T005918Z
UID:2698-1644757200-1644764400@newflorenceborough.org
SUMMARY:District 27 VFW Motorcycle Riders Group
DESCRIPTION:Please see the flyer below for more information. \n \n 
URL:https://newflorenceborough.org/event/district-27-vfw-motorcycle-riders-group/
LOCATION:Herminie Memorial Post VFW Post 8427\, 501 Church St.\, Herminie\, PA\, 15637\, United States
ATTACH;FMTTYPE=image/png:https://newflorenceborough.org/wp-content/uploads/2017/11/photo.png
END:VEVENT
BEGIN:VEVENT
DTSTART;TZID=America/New_York:20220212T170000
DTEND;TZID=America/New_York:20220212T220000
DTSTAMP:20260425T114715
CREATED:20220101T154134Z
LAST-MODIFIED:20220127T030926Z
UID:2508-1644685200-1644703200@newflorenceborough.org
SUMMARY:NF VFD Drag Queen Bingo
DESCRIPTION:Please check out the flyer below for a fundraiser the fire department will holding.  Thank you. \n \nHere is another flyer the fire department put together.  Enjoy.
URL:https://newflorenceborough.org/event/nf-vfd-drag-queen-bingo/
LOCATION:New Florence Volunteer Fire Department\, 177 13th Street\, New Florence\, PA\, 15944
ATTACH;FMTTYPE=image/png:https://newflorenceborough.org/wp-content/uploads/2017/11/photo.png
END:VEVENT
BEGIN:VEVENT
DTSTART;TZID=America/New_York:20220208T173000
DTEND;TZID=America/New_York:20220208T183000
DTSTAMP:20260425T114715
CREATED:20220102T233053Z
LAST-MODIFIED:20220208T221724Z
UID:2534-1644341400-1644345000@newflorenceborough.org
SUMMARY:New Florence Community Library Book Bunch - Cancelled
DESCRIPTION:Sorry for the late notice but this event has been cancelled.  Please check out this fun reading event for young children.  If you need more information\, please give the library a call.  Thanks.
URL:https://newflorenceborough.org/event/new-florence-community-library-book-bunch-2/
LOCATION:New Florence Community Library\, 122 N Ligonier St.\, New Florence\, PA\, 15944
ATTACH;FMTTYPE=image/png:https://newflorenceborough.org/wp-content/uploads/2017/11/photo.png
END:VEVENT
BEGIN:VEVENT
DTSTART;TZID=America/New_York:20220205T100000
DTEND;TZID=America/New_York:20220205T140000
DTSTAMP:20260425T114715
CREATED:20220110T024352Z
LAST-MODIFIED:20220127T030711Z
UID:2608-1644055200-1644069600@newflorenceborough.org
SUMMARY:New Florence VFD Sub Sale
DESCRIPTION:The New Florence Volunteer Fire Department will be holding another sub sale fundraiser.  Subs will be available from 10 am until they are sold out.  If you need more information\, contact the fire department.  Thank you.
URL:https://newflorenceborough.org/event/new-florence-vfd-sub-sale-2/
LOCATION:New Florence Volunteer Fire Department\, 177 13th Street\, New Florence\, PA\, 15944
ATTACH;FMTTYPE=image/png:https://newflorenceborough.org/wp-content/uploads/2017/11/photo.png
END:VEVENT
BEGIN:VEVENT
DTSTART;TZID=America/New_York:20220127T180000
DTEND;TZID=America/New_York:20220127T200000
DTSTAMP:20260425T114715
CREATED:20220101T154916Z
LAST-MODIFIED:20220101T154916Z
UID:2510-1643306400-1643313600@newflorenceborough.org
SUMMARY:New Florence Community Library Valentine's Day Burlap Wreath Class with Sue Buckles
DESCRIPTION:Please check out this craft class the library is holding.  This is the third class Sue will be doing with the library.  Pictures from previous classes show everyone having a good time.  Sign up at the library or give them a call.  Thanks.
URL:https://newflorenceborough.org/event/new-florence-community-library-valentines-day-burlap-wreath-class-with-sue-buckles/
LOCATION:New Florence Community Library\, 122 N Ligonier St.\, New Florence\, PA\, 15944
ATTACH;FMTTYPE=image/png:https://newflorenceborough.org/wp-content/uploads/2017/11/photo.png
END:VEVENT
BEGIN:VEVENT
DTSTART;TZID=America/New_York:20220125T183000
DTEND;TZID=America/New_York:20220125T193000
DTSTAMP:20260425T114715
CREATED:20211130T053609Z
LAST-MODIFIED:20211130T053609Z
UID:2457-1643135400-1643139000@newflorenceborough.org
SUMMARY:New Florence/St Clair Sanitation Authority Meeting
DESCRIPTION:This meeting is open to the public.  Any changes to the schedule will be published in the Johnstown Tribune Democrat.  Anyone who would like more information can contact the authority at 724-541-0030. \nTo help spread the word please see this update on the authority announced in November of 2021. \nThe New Florence/St. Clair Township Sewage Authority has updates for residents.  They have a new email address for the authority.  It is NFSCTSA@outlook.com.  The authority also moved into the old New Florence Police Department section of the borough building at 117 Franklin Street.  They are in the process of getting a sign made for the door.  People will also be able to drop off payments in the slot of their door.  Lastly\, their next meeting will be January 25th\, 2022\, at 6:30 pm at the borough building.  This posting is that event.
URL:https://newflorenceborough.org/event/new-florence-st-clair-sanitation-authority-meeting-4/
LOCATION:Borough Building\, 119 Franklin Street\, New Florence\, PA\, 15944
ATTACH;FMTTYPE=image/png:https://newflorenceborough.org/wp-content/uploads/2017/11/photo.png
END:VEVENT
BEGIN:VEVENT
DTSTART;TZID=America/New_York:20220125T173000
DTEND;TZID=America/New_York:20220125T183000
DTSTAMP:20260425T114715
CREATED:20220102T234031Z
LAST-MODIFIED:20220102T234031Z
UID:2543-1643131800-1643135400@newflorenceborough.org
SUMMARY:New Florence Community Library #READERS Group
DESCRIPTION:Please check out this fun reading event for young teenagers.  If you need more information\, please give the library a call.  Thanks.
URL:https://newflorenceborough.org/event/new-florence-community-library-readers-group/
LOCATION:New Florence Community Library\, 122 N Ligonier St.\, New Florence\, PA\, 15944
ATTACH;FMTTYPE=image/png:https://newflorenceborough.org/wp-content/uploads/2017/11/photo.png
END:VEVENT
BEGIN:VEVENT
DTSTART;TZID=America/New_York:20220122T113000
DTEND;TZID=America/New_York:20220122T160000
DTSTAMP:20260425T114715
CREATED:20220114T012457Z
LAST-MODIFIED:20220114T012457Z
UID:2618-1642851000-1642867200@newflorenceborough.org
SUMMARY:New Florence Senior Center Ugly Socks Super Bingo
DESCRIPTION:The New Florence Senior Center will be hosting an Ugly Socks Super Bingo.  The doors open at 11:30 am.  Lunch will be served at 12:00 noon.  The bingo starts at 1:00 pm.  There will be 20 games.  There will also be a 50/50\, a basket raffle\, and rippie tickets available for purchase.  For more information\, please give the center a call.
URL:https://newflorenceborough.org/event/new-florence-senior-center-ugly-socks-super-bingo/
LOCATION:New Florence Senior Center\, 216 Ligonier Street\, New Florence\, PA\, 15944\, United States
ATTACH;FMTTYPE=image/png:https://newflorenceborough.org/wp-content/uploads/2017/11/photo.png
END:VEVENT
BEGIN:VEVENT
DTSTART;TZID=America/New_York:20220118T183000
DTEND;TZID=America/New_York:20220118T193000
DTSTAMP:20260425T114715
CREATED:20220109T030550Z
LAST-MODIFIED:20220118T154423Z
UID:2584-1642530600-1642534200@newflorenceborough.org
SUMMARY:Borough Council Meeting
DESCRIPTION:The borough council meets monthly on the third Tuesday of each month at the borough building located at 119 Franklin Street in New Florence at 6:30 p.m.  The meetings are open to the public and all are encouraged to attend. \nHere is the agenda for the meeting.  AGENDA 01-18-22 \nHere’s a revised agenda for tonight’s meeting.  The committee members were not updated on the first one.  Sorry.  AGENDA 01-18-22 V2
URL:https://newflorenceborough.org/event/borough-council-meeting-42/
LOCATION:Borough Building\, 119 Franklin Street\, New Florence\, PA\, 15944
ATTACH;FMTTYPE=image/png:https://newflorenceborough.org/wp-content/uploads/2017/11/photo.png
END:VEVENT
BEGIN:VEVENT
DTSTART;TZID=America/New_York:20220111T173000
DTEND;TZID=America/New_York:20220111T183000
DTSTAMP:20260425T114715
CREATED:20220102T232902Z
LAST-MODIFIED:20220102T232902Z
UID:2531-1641922200-1641925800@newflorenceborough.org
SUMMARY:New Florence Community Library Book Bunch
DESCRIPTION:Please check out this fun reading event for young children.  If you need more information\, please give the library a call.  Thanks.
URL:https://newflorenceborough.org/event/new-florence-community-library-book-bunch/
LOCATION:New Florence Community Library\, 122 N Ligonier St.\, New Florence\, PA\, 15944
ATTACH;FMTTYPE=image/png:https://newflorenceborough.org/wp-content/uploads/2017/11/photo.png
END:VEVENT
BEGIN:VEVENT
DTSTART;TZID=America/New_York:20220108T173000
DTEND;TZID=America/New_York:20220108T210000
DTSTAMP:20260425T114715
CREATED:20220101T030415Z
LAST-MODIFIED:20220101T030415Z
UID:2501-1641663000-1641675600@newflorenceborough.org
SUMMARY:New Florence VFD Rippie Night
DESCRIPTION:The New Florence Volunteer Fire Department will be holding their next rippie fundraiser.  Please contact the fire department for more information.  Please see the flyer below.
URL:https://newflorenceborough.org/event/new-florence-vfd-rippie-night-5/
LOCATION:New Florence Volunteer Fire Department\, 177 13th Street\, New Florence\, PA\, 15944
ATTACH;FMTTYPE=image/png:https://newflorenceborough.org/wp-content/uploads/2017/11/photo.png
END:VEVENT
BEGIN:VEVENT
DTSTART;TZID=America/New_York:20220108T090000
DTEND;TZID=America/New_York:20220108T130000
DTSTAMP:20260425T114715
CREATED:20220101T030940Z
LAST-MODIFIED:20220101T030940Z
UID:2503-1641632400-1641646800@newflorenceborough.org
SUMMARY:New Florence VFD Sub Sale
DESCRIPTION:The New Florence Volunteer Fire Department will be holding another sub sale.  Please see the flyer below.  If you need more information contact the fire department.  Thank you.
URL:https://newflorenceborough.org/event/new-florence-vfd-sub-sale/
LOCATION:New Florence Volunteer Fire Department\, 177 13th Street\, New Florence\, PA\, 15944
ATTACH;FMTTYPE=image/png:https://newflorenceborough.org/wp-content/uploads/2017/11/photo.png
END:VEVENT
BEGIN:VEVENT
DTSTART;TZID=America/New_York:20220103T183000
DTEND;TZID=America/New_York:20220103T193000
DTSTAMP:20260425T114715
CREATED:20211220T162935Z
LAST-MODIFIED:20220102T150111Z
UID:2490-1641234600-1641238200@newflorenceborough.org
SUMMARY:Borough Council Meeting - Reorganization
DESCRIPTION:This will be a special borough council meeting to establish the borough government for the 2022 year and forward. Here is the AGENDA 01-03-22 for the special meeting.
URL:https://newflorenceborough.org/event/borough-council-meeting-reorganization-2/
LOCATION:Borough Building\, 119 Franklin Street\, New Florence\, PA\, 15944
ATTACH;FMTTYPE=image/png:https://newflorenceborough.org/wp-content/uploads/2017/11/photo.png
END:VEVENT
BEGIN:VEVENT
DTSTART;TZID=America/New_York:20211224T110000
DTEND;TZID=America/New_York:20211224T150000
DTSTAMP:20260425T114715
CREATED:20211220T162352Z
LAST-MODIFIED:20211220T162352Z
UID:2487-1640343600-1640358000@newflorenceborough.org
SUMMARY:2021 Santa Express
DESCRIPTION:The New Florence Volunteer Fire Department will be helping with the Santa Express.  Santa will be visiting New Florence on Christmas eve while his sleigh is in for a last-minute tune-up.  Santa has asked the fire department to help out. Of course\, the firefighters volunteered to drive their truck all around New Florence to give Santa a chance to see all the good little boys and girls.  Merry Christmas everyone.
URL:https://newflorenceborough.org/event/2021-santa-express/
LOCATION:New Florence\, PA: Multiple Locations\, New Florence\, PA\, 15944
ATTACH;FMTTYPE=image/png:https://newflorenceborough.org/wp-content/uploads/2017/11/photo.png
END:VEVENT
BEGIN:VEVENT
DTSTART;TZID=America/New_York:20211221T183000
DTEND;TZID=America/New_York:20211221T193000
DTSTAMP:20260425T114715
CREATED:20210103T204422Z
LAST-MODIFIED:20211220T161657Z
UID:1664-1640111400-1640115000@newflorenceborough.org
SUMMARY:Borough Council Meeting
DESCRIPTION:The borough council meets monthly on the third Tuesday of each month at the borough building located at 119 Franklin Street in New Florence at 6:30 p.m.  The meetings are open to the public and all are encouraged to attend. \nHere is the agenda for the meeting.  AGENDA 12-21-21
URL:https://newflorenceborough.org/event/borough-council-meeting-41/
LOCATION:Old Yellow Brick School Building\, N. Ligonier St. and 8th St.\, New Florence\, PA
ATTACH;FMTTYPE=image/png:https://newflorenceborough.org/wp-content/uploads/2017/11/photo.png
END:VEVENT
BEGIN:VEVENT
DTSTART;TZID=America/New_York:20211220T180000
DTEND;TZID=America/New_York:20211220T200000
DTSTAMP:20260425T114715
CREATED:20211210T015656Z
LAST-MODIFIED:20211210T015656Z
UID:2477-1640023200-1640030400@newflorenceborough.org
SUMMARY:New Florence Community Library Painting Wooden Mittens Class with Sue Buckles
DESCRIPTION:Please check out this painting class the library is holding.  Sign up at the library or give them a call.  Thanks.
URL:https://newflorenceborough.org/event/new-florence-community-library-painting-wooden-mittens-class-with-sue-buckles/
LOCATION:New Florence Community Library\, 122 N Ligonier St.\, New Florence\, PA\, 15944
ATTACH;FMTTYPE=image/png:https://newflorenceborough.org/wp-content/uploads/2017/11/photo.png
END:VEVENT
BEGIN:VEVENT
DTSTART;TZID=America/New_York:20211219T090000
DTEND;TZID=America/New_York:20211219T113000
DTSTAMP:20260425T114715
CREATED:20211130T050032Z
LAST-MODIFIED:20211130T050032Z
UID:2452-1639904400-1639913400@newflorenceborough.org
SUMMARY:Festivus For The Rest Of Us 5K Race 2021
DESCRIPTION:Please check out the flyer below for information on this 5K race.
URL:https://newflorenceborough.org/event/festivus-for-the-rest-of-us-5k-race-2021/
LOCATION:New Florence Volunteer Fire Department\, 177 13th Street\, New Florence\, PA\, 15944
ATTACH;FMTTYPE=image/png:https://newflorenceborough.org/wp-content/uploads/2017/11/photo.png
END:VEVENT
BEGIN:VEVENT
DTSTART;TZID=America/New_York:20211215T190000
DTEND;TZID=America/New_York:20211215T190000
DTSTAMP:20260425T114715
CREATED:20210902T120235Z
LAST-MODIFIED:20211003T230735Z
UID:2221-1639594800-1639594800@newflorenceborough.org
SUMMARY:New Florence Community Library PA Scratch-off Tickets Raffle
DESCRIPTION:Please help the New Florence Community Library with their fundraiser.  You can stop by the library\, look at the flyer below\, or give the library call at 724-235-2249 to learn more.  Thank you.
URL:https://newflorenceborough.org/event/new-florence-community-library-pa-scratch-off-tickets-raffle/
LOCATION:New Florence Community Library\, 122 N Ligonier St.\, New Florence\, PA\, 15944
ATTACH;FMTTYPE=image/png:https://newflorenceborough.org/wp-content/uploads/2017/11/photo.png
END:VEVENT
BEGIN:VEVENT
DTSTART;TZID=America/New_York:20211215T180000
DTEND;TZID=America/New_York:20211215T210000
DTSTAMP:20260425T114715
CREATED:20211108T025104Z
LAST-MODIFIED:20211108T025104Z
UID:2414-1639591200-1639602000@newflorenceborough.org
SUMMARY:Visit Santa at the New Florence VFW
DESCRIPTION:Santa will be at the New Florence VFW 7622 Wednesday evening.  Please bring the kids out to visit with him.  For more information give the club a call at 724-235-9904.
URL:https://newflorenceborough.org/event/visit-santa-at-the-new-florence-vfw-2/
LOCATION:New Florence VFW\, 6215 Route 711\, New Florence\, PA\, 15944
ATTACH;FMTTYPE=image/png:https://newflorenceborough.org/wp-content/uploads/2017/11/photo.png
END:VEVENT
END:VCALENDAR