BEGIN:VCALENDAR
VERSION:2.0
PRODID:-//New Florence Borough - ECPv6.15.20//NONSGML v1.0//EN
CALSCALE:GREGORIAN
METHOD:PUBLISH
X-WR-CALNAME:New Florence Borough
X-ORIGINAL-URL:https://newflorenceborough.org
X-WR-CALDESC:Events for New Florence Borough
REFRESH-INTERVAL;VALUE=DURATION:PT1H
X-Robots-Tag:noindex
X-PUBLISHED-TTL:PT1H
BEGIN:VTIMEZONE
TZID:America/New_York
BEGIN:DAYLIGHT
TZOFFSETFROM:-0500
TZOFFSETTO:-0400
TZNAME:EDT
DTSTART:20210314T070000
END:DAYLIGHT
BEGIN:STANDARD
TZOFFSETFROM:-0400
TZOFFSETTO:-0500
TZNAME:EST
DTSTART:20211107T060000
END:STANDARD
BEGIN:DAYLIGHT
TZOFFSETFROM:-0500
TZOFFSETTO:-0400
TZNAME:EDT
DTSTART:20220313T070000
END:DAYLIGHT
BEGIN:STANDARD
TZOFFSETFROM:-0400
TZOFFSETTO:-0500
TZNAME:EST
DTSTART:20221106T060000
END:STANDARD
BEGIN:DAYLIGHT
TZOFFSETFROM:-0500
TZOFFSETTO:-0400
TZNAME:EDT
DTSTART:20230312T070000
END:DAYLIGHT
BEGIN:STANDARD
TZOFFSETFROM:-0400
TZOFFSETTO:-0500
TZNAME:EST
DTSTART:20231105T060000
END:STANDARD
BEGIN:DAYLIGHT
TZOFFSETFROM:-0500
TZOFFSETTO:-0400
TZNAME:EDT
DTSTART:20240310T070000
END:DAYLIGHT
BEGIN:STANDARD
TZOFFSETFROM:-0400
TZOFFSETTO:-0500
TZNAME:EST
DTSTART:20241103T060000
END:STANDARD
END:VTIMEZONE
BEGIN:VEVENT
DTSTART;TZID=America/New_York:20221231T200000
DTEND;TZID=America/New_York:20221231T235900
DTSTAMP:20260425T100745
CREATED:20221229T142655Z
LAST-MODIFIED:20221229T142655Z
UID:3691-1672516800-1672531140@newflorenceborough.org
SUMMARY:New Florence United Methodist Church New Year's Eve Prayer Watch
DESCRIPTION:The New Florence Methodist Church is having a continuous prayer watch on New Year’s Eve.  Everyone is welcome to come into the church to pray anytime between 8:00 a.m. and 12:00 a.m. New Year’s Eve.  Come in and sit in the house of the LORD for a few moments to be in silence or to pray.  There will prayer guides to help you focus on what to pray for or to get you started.  There will also be communion items available for those who wish to partake of the Last Supper as the new year approaches.  This is open to all. You do not have to be a member of the church.  If you are nearby and just feel the need to pray…..come.
URL:https://newflorenceborough.org/event/new-florence-united-methodist-church-new-years-eve-prayer-watch/
LOCATION:New Florence United Methodist Church\, 200 9th St.\, New Florence\, PA\, 15944\, United States
ATTACH;FMTTYPE=image/png:https://newflorenceborough.org/wp-content/uploads/2017/11/photo.png
END:VEVENT
BEGIN:VEVENT
DTSTART;TZID=America/New_York:20221227T173000
DTEND;TZID=America/New_York:20221227T183000
DTSTAMP:20260425T100745
CREATED:20220907T185502Z
LAST-MODIFIED:20221223T200156Z
UID:3431-1672162200-1672165800@newflorenceborough.org
SUMMARY:New Florence Community Library #READERS Group - CANCELLED
DESCRIPTION:Sorry\, but the library has to cancel this group. \nPlease check out this fun reading event for young teenagers.  If you need more information\, please give the library a call.  Thanks.
URL:https://newflorenceborough.org/event/new-florence-community-library-readers-group-9/
LOCATION:New Florence Community Library\, 122 N Ligonier St.\, New Florence\, PA\, 15944
ATTACH;FMTTYPE=image/png:https://newflorenceborough.org/wp-content/uploads/2017/11/photo.png
END:VEVENT
BEGIN:VEVENT
DTSTART;TZID=America/New_York:20221224T110000
DTEND;TZID=America/New_York:20221224T150000
DTSTAMP:20260425T100745
CREATED:20221127T190006Z
LAST-MODIFIED:20221204T212324Z
UID:3629-1671879600-1671894000@newflorenceborough.org
SUMMARY:2022 Santa Express
DESCRIPTION:The New Florence Volunteer Fire Department will be helping with the Santa Express.  Santa will be visiting New Florence on Christmas eve while his sleigh is in for a last-minute tune-up.  Santa has asked the fire department to help out. Of course\, the firefighters volunteered to drive their truck all around New Florence to give Santa a chance to see all the good little boys and girls.  Merry Christmas everyone.
URL:https://newflorenceborough.org/event/2022-santa-express/
LOCATION:New Florence\, PA: Multiple Locations\, New Florence\, PA\, 15944
ATTACH;FMTTYPE=image/png:https://newflorenceborough.org/wp-content/uploads/2017/11/photo.png
END:VEVENT
BEGIN:VEVENT
DTSTART;TZID=America/New_York:20221220T183000
DTEND;TZID=America/New_York:20221220T193000
DTSTAMP:20260425T100745
CREATED:20220109T032009Z
LAST-MODIFIED:20220109T032009Z
UID:2606-1671561000-1671564600@newflorenceborough.org
SUMMARY:Borough Council Meeting
DESCRIPTION:The borough council meets monthly on the third Tuesday of each month at the borough building located at 119 Franklin Street in New Florence at 6:30 p.m.  The meetings are open to the public and all are encouraged to attend. \nHere is the agenda for the meeting.  PENDING
URL:https://newflorenceborough.org/event/borough-council-meeting-53/
LOCATION:Borough Building\, 119 Franklin Street\, New Florence\, PA\, 15944
ATTACH;FMTTYPE=image/png:https://newflorenceborough.org/wp-content/uploads/2017/11/photo.png
END:VEVENT
BEGIN:VEVENT
DTSTART;TZID=America/New_York:20221220T173000
DTEND;TZID=America/New_York:20221220T183000
DTSTAMP:20260425T100745
CREATED:20220907T184659Z
LAST-MODIFIED:20220907T184659Z
UID:3423-1671557400-1671561000@newflorenceborough.org
SUMMARY:New Florence Community Library "Page Turners" Group
DESCRIPTION:Please check out this fun book chat and craft book club group for 8- to 12-year-old young people.  This is a great after school program.  If you need more information\, please give the library a call.  Thanks.
URL:https://newflorenceborough.org/event/new-florence-community-library-page-turners-group-6/
LOCATION:New Florence Community Library\, 122 N Ligonier St.\, New Florence\, PA\, 15944
ATTACH;FMTTYPE=image/png:https://newflorenceborough.org/wp-content/uploads/2017/11/photo.png
END:VEVENT
BEGIN:VEVENT
DTSTART;TZID=America/New_York:20221219T160000
DTEND;TZID=America/New_York:20221219T200000
DTSTAMP:20260425T100745
CREATED:20221127T191334Z
LAST-MODIFIED:20221127T191334Z
UID:3638-1671465600-1671480000@newflorenceborough.org
SUMMARY:Christmas House Decorating Contest - 2022
DESCRIPTION:Please see the flyer below for more information on the house decorating contest.  Judging will start after the sun has gone down.  Thanks all.
URL:https://newflorenceborough.org/event/christmas-house-decorating-contest-2022/
LOCATION:New Florence\, PA: Multiple Locations\, New Florence\, PA\, 15944
ATTACH;FMTTYPE=image/png:https://newflorenceborough.org/wp-content/uploads/2017/11/photo.png
END:VEVENT
BEGIN:VEVENT
DTSTART;TZID=America/New_York:20221218T100000
DTEND;TZID=America/New_York:20221218T120000
DTSTAMP:20260425T100745
CREATED:20221127T190431Z
LAST-MODIFIED:20221127T190431Z
UID:3631-1671357600-1671364800@newflorenceborough.org
SUMMARY:Festivus For The Rest Of Us 5K Race 2022
DESCRIPTION:Please check out the flyer below for information on this 5K race.
URL:https://newflorenceborough.org/event/festivus-for-the-rest-of-us-5k-race-2022/
LOCATION:New Florence Volunteer Fire Department\, 177 13th Street\, New Florence\, PA\, 15944
ATTACH;FMTTYPE=image/png:https://newflorenceborough.org/wp-content/uploads/2017/11/photo.png
END:VEVENT
BEGIN:VEVENT
DTSTART;TZID=America/New_York:20221217T170000
DTEND;TZID=America/New_York:20221217T170000
DTSTAMP:20260425T100745
CREATED:20221127T192205Z
LAST-MODIFIED:20221127T192205Z
UID:3641-1671296400-1671296400@newflorenceborough.org
SUMMARY:Deadline for Christmas House Decorating Contest Participation - 2022
DESCRIPTION:Please see the flyer below for more information on the house decorating contest.  Judging will start after the sun has gone down.  Thanks all. \n \n 
URL:https://newflorenceborough.org/event/deadline-for-christmas-house-decorating-contest-participation-2022/
LOCATION:New Florence Community Library\, 122 N Ligonier St.\, New Florence\, PA\, 15944
ATTACH;FMTTYPE=image/png:https://newflorenceborough.org/wp-content/uploads/2017/11/photo.png
END:VEVENT
BEGIN:VEVENT
DTSTART;TZID=America/New_York:20221214T180000
DTEND;TZID=America/New_York:20221214T200000
DTSTAMP:20260425T100745
CREATED:20221204T212906Z
LAST-MODIFIED:20221204T212906Z
UID:3653-1671040800-1671048000@newflorenceborough.org
SUMMARY:Visit Santa at the New Florence VFW
DESCRIPTION:Santa will be at the New Florence VFW 7622 Wednesday evening.  Please bring the kids out to visit with him and get their picture taken.  For more information give the club a call at 724-235-9904.
URL:https://newflorenceborough.org/event/visit-santa-at-the-new-florence-vfw-3/
LOCATION:New Florence VFW\, 6215 Route 711\, New Florence\, PA\, 15944
ATTACH;FMTTYPE=image/png:https://newflorenceborough.org/wp-content/uploads/2017/11/photo.png
END:VEVENT
BEGIN:VEVENT
DTSTART;TZID=America/New_York:20221213T173000
DTEND;TZID=America/New_York:20221213T183000
DTSTAMP:20260425T100745
CREATED:20220907T132623Z
LAST-MODIFIED:20221211T222903Z
UID:3405-1670952600-1670956200@newflorenceborough.org
SUMMARY:New Florence Community Library Book Bunch - Cancelled
DESCRIPTION:Sorry but the library had to cancel this meeting of the group.  Please check out this fun story time book club for young children ages 3 to 7.  If you need more information\, please give the library a call.  Thanks. \n \n 
URL:https://newflorenceborough.org/event/new-florence-community-library-book-bunch-9/
LOCATION:New Florence Community Library\, 122 N Ligonier St.\, New Florence\, PA\, 15944
ATTACH;FMTTYPE=image/png:https://newflorenceborough.org/wp-content/uploads/2017/11/photo.png
END:VEVENT
BEGIN:VEVENT
DTSTART;TZID=America/New_York:20221206T100000
DTEND;TZID=America/New_York:20221219T160000
DTSTAMP:20260425T100745
CREATED:20221204T213723Z
LAST-MODIFIED:20221204T213723Z
UID:3655-1670320800-1671465600@newflorenceborough.org
SUMMARY:New Florence Community Library Online Book Fair - December 2022
DESCRIPTION:The library is teaming up with BookFair.org for a 2-week online Book Fair from December 6th to the 19th.  The library earns a portion of every sale.  Please check out the flyer below if you’d like to participate.  The link to the bookstore can be found here.  BookFair.org Link
URL:https://newflorenceborough.org/event/new-florence-community-library-online-book-fair-december-2022/
LOCATION:New Florence Community Library\, 122 N Ligonier St.\, New Florence\, PA\, 15944
ATTACH;FMTTYPE=image/png:https://newflorenceborough.org/wp-content/uploads/2017/11/photo.png
END:VEVENT
BEGIN:VEVENT
DTSTART;TZID=America/New_York:20221204T170000
DTEND;TZID=America/New_York:20221204T183000
DTSTAMP:20260425T100745
CREATED:20221127T190956Z
LAST-MODIFIED:20221127T190956Z
UID:3635-1670173200-1670178600@newflorenceborough.org
SUMMARY:Annual Tree Lighting Event - 2022
DESCRIPTION:Please join the town in the lighting of the Christmas tree.   See the flyer below for more information.
URL:https://newflorenceborough.org/event/annual-tree-lighting-event-2022/
LOCATION:New Florence Volunteer Fire Department\, 177 13th Street\, New Florence\, PA\, 15944
ATTACH;FMTTYPE=image/png:https://newflorenceborough.org/wp-content/uploads/2017/11/photo.png
END:VEVENT
BEGIN:VEVENT
DTSTART;TZID=America/New_York:20221201T235900
DTEND;TZID=America/New_York:20221201T235900
DTSTAMP:20260425T100745
CREATED:20221127T190705Z
LAST-MODIFIED:20221127T190705Z
UID:3633-1669939140-1669939140@newflorenceborough.org
SUMMARY:Festivus For The Rest Of Us 5K Race 2022 - Donation Deadline for T-shirt Inclusion
DESCRIPTION:Please check out the flyer below for information on this 5K race.  The donation particulars are spelled out in the flyer.
URL:https://newflorenceborough.org/event/festivus-for-the-rest-of-us-5k-race-2022-donation-deadline-for-t-shirt-inclusion/
LOCATION:New Florence Volunteer Fire Department\, 177 13th Street\, New Florence\, PA\, 15944
ATTACH;FMTTYPE=image/png:https://newflorenceborough.org/wp-content/uploads/2017/11/photo.png
END:VEVENT
BEGIN:VEVENT
DTSTART;TZID=America/New_York:20221126T140000
DTEND;TZID=America/New_York:20221126T163000
DTSTAMP:20260425T100745
CREATED:20221112T132022Z
LAST-MODIFIED:20221112T132022Z
UID:3594-1669471200-1669480200@newflorenceborough.org
SUMMARY:New Florence VFW Gina Yingling Basket Party Fundraiser
DESCRIPTION:Please see the flyer below for important information on this benefit fundraiser to support Gina Yingling and her family.  Any help would be appreciated.  Thank you.
URL:https://newflorenceborough.org/event/new-florence-vfw-gina-yingling-basket-party-fundraiser/
LOCATION:New Florence VFW\, 6215 Route 711\, New Florence\, PA\, 15944
ATTACH;FMTTYPE=image/png:https://newflorenceborough.org/wp-content/uploads/2017/11/photo.png
END:VEVENT
BEGIN:VEVENT
DTSTART;TZID=America/New_York:20221122T173000
DTEND;TZID=America/New_York:20221122T183000
DTSTAMP:20260425T100745
CREATED:20220907T185347Z
LAST-MODIFIED:20220907T185347Z
UID:3429-1669138200-1669141800@newflorenceborough.org
SUMMARY:New Florence Community Library #READERS Group
DESCRIPTION:Please check out this fun reading event for young teenagers.  If you need more information\, please give the library a call.  Thanks.
URL:https://newflorenceborough.org/event/new-florence-community-library-readers-group-8/
LOCATION:New Florence Community Library\, 122 N Ligonier St.\, New Florence\, PA\, 15944
ATTACH;FMTTYPE=image/png:https://newflorenceborough.org/wp-content/uploads/2017/11/photo.png
END:VEVENT
BEGIN:VEVENT
DTSTART;TZID=America/New_York:20221119T130000
DTEND;TZID=America/New_York:20221119T143000
DTSTAMP:20260425T100745
CREATED:20221118T231624Z
LAST-MODIFIED:20221118T231624Z
UID:3613-1668862800-1668868200@newflorenceborough.org
SUMMARY:New Florence Community Library Holiday Story Time
DESCRIPTION:Check out this fun activity at the library.
URL:https://newflorenceborough.org/event/new-florence-community-library-holiday-story-time/
LOCATION:New Florence Community Library\, 122 N Ligonier St.\, New Florence\, PA\, 15944
ATTACH;FMTTYPE=image/png:https://newflorenceborough.org/wp-content/uploads/2017/11/photo.png
END:VEVENT
BEGIN:VEVENT
DTSTART;TZID=America/New_York:20221117T180000
DTEND;TZID=America/New_York:20221117T200000
DTSTAMP:20260425T100745
CREATED:20221024T014955Z
LAST-MODIFIED:20221024T014955Z
UID:3566-1668708000-1668715200@newflorenceborough.org
SUMMARY:New Florence VFW Turkey Raffle Fundraiser
DESCRIPTION:The New Florence Veterans of Foreign Wars (VFW Post 7622) will be hosting a turkey raffle fundraiser.  Please come out and support the club by participating in the fundraiser.  The club does lots of great things for the local community.  For more information give the club a call at 724-235-9904.  Thank you.
URL:https://newflorenceborough.org/event/new-florence-vfw-turkey-raffle-fundraiser-2/
LOCATION:New Florence VFW\, 6215 Route 711\, New Florence\, PA\, 15944
ATTACH;FMTTYPE=image/png:https://newflorenceborough.org/wp-content/uploads/2017/11/photo.png
END:VEVENT
BEGIN:VEVENT
DTSTART;TZID=America/New_York:20221116T180000
DTEND;TZID=America/New_York:20221116T200000
DTSTAMP:20260425T100745
CREATED:20221024T014452Z
LAST-MODIFIED:20221024T014452Z
UID:3564-1668621600-1668628800@newflorenceborough.org
SUMMARY:New Florence Community Library Cake Decorating Class with Lizzy Nanni
DESCRIPTION:Please check out this fun class the library is hosting.  See the flyer below for more information.  Thanks.
URL:https://newflorenceborough.org/event/new-florence-community-library-cake-decorating-class-with-lizzy-nanni/
LOCATION:New Florence Community Library\, 122 N Ligonier St.\, New Florence\, PA\, 15944
ATTACH;FMTTYPE=image/png:https://newflorenceborough.org/wp-content/uploads/2017/11/photo.png
END:VEVENT
BEGIN:VEVENT
DTSTART;TZID=America/New_York:20221116T180000
DTEND;TZID=America/New_York:20221116T190000
DTSTAMP:20260425T100745
CREATED:20221113T234426Z
LAST-MODIFIED:20221115T233314Z
UID:3602-1668621600-1668625200@newflorenceborough.org
SUMMARY:Laurel Valley Area Historical Society (LVAHS) Meeting - CANCELLED
DESCRIPTION:Just a quick update.  Based on the predicted weather\, Kathy has decided to cancel the meeting.  Everyone\, please be safe. \nHello\, \nI apologize for the late notice. (I have been very busy with my auction business). We will have a meeting for the Laurel Valley Historical Society this coming week. I have not had time to prepare an agenda\, it will be an open discussion meeting. If you have anything of interest\, please bring it to the meeting. \nThank you\, \nKathy Mack\, President\nLaurel Valley Area Historical Society\n724-235-2688
URL:https://newflorenceborough.org/event/laurel-valley-area-historical-society-lvahs-meeting-23/
LOCATION:West Fairfield Auction Barn\, 135 Fairfield Road\, New Florence\, PA\, 15944
ATTACH;FMTTYPE=image/png:https://newflorenceborough.org/wp-content/uploads/2017/11/photo.png
END:VEVENT
BEGIN:VEVENT
DTSTART;TZID=America/New_York:20221115T183000
DTEND;TZID=America/New_York:20221115T193000
DTSTAMP:20260425T100745
CREATED:20220109T031855Z
LAST-MODIFIED:20220109T031855Z
UID:2604-1668537000-1668540600@newflorenceborough.org
SUMMARY:Borough Council Meeting
DESCRIPTION:The borough council meets monthly on the third Tuesday of each month at the borough building located at 119 Franklin Street in New Florence at 6:30 p.m.  The meetings are open to the public and all are encouraged to attend. \nHere is the agenda for the meeting.  PENDING
URL:https://newflorenceborough.org/event/borough-council-meeting-52/
LOCATION:Borough Building\, 119 Franklin Street\, New Florence\, PA\, 15944
ATTACH;FMTTYPE=image/png:https://newflorenceborough.org/wp-content/uploads/2017/11/photo.png
END:VEVENT
BEGIN:VEVENT
DTSTART;TZID=America/New_York:20221115T173000
DTEND;TZID=America/New_York:20221115T183000
DTSTAMP:20260425T100745
CREATED:20220907T184530Z
LAST-MODIFIED:20220907T184530Z
UID:3421-1668533400-1668537000@newflorenceborough.org
SUMMARY:New Florence Community Library "Page Turners" Group
DESCRIPTION:Please check out this fun book chat and craft book club group for 8- to 12-year-old young people.  This is a great after school program.  If you need more information\, please give the library a call.  Thanks.
URL:https://newflorenceborough.org/event/new-florence-community-library-page-turners-group-5/
LOCATION:New Florence Community Library\, 122 N Ligonier St.\, New Florence\, PA\, 15944
ATTACH;FMTTYPE=image/png:https://newflorenceborough.org/wp-content/uploads/2017/11/photo.png
END:VEVENT
BEGIN:VEVENT
DTSTART;TZID=America/New_York:20221113T120000
DTEND;TZID=America/New_York:20221113T153000
DTSTAMP:20260425T100745
CREATED:20221009T010918Z
LAST-MODIFIED:20221009T010918Z
UID:3520-1668340800-1668353400@newflorenceborough.org
SUMMARY:NF VFD Basket Party - November 2022
DESCRIPTION:The New Florence VFD will be holding a Basket Party on November 13th.  The VFD is looking for businesses\, organizations\, or individuals to make and donate a basket for the Basket Party to promote your business or venture. Gift Cards are also welcomed. Please call Amber at 814-270-1786 with any questions or if you want to donate a basket for the fundraiser. The Basket Party is dedicated to our Support Members that died last fall from Covid. Projected pick up date will be November 11th for donated items.  Please see the flyer below.
URL:https://newflorenceborough.org/event/nf-vfd-basket-party-november-2022/
LOCATION:New Florence Volunteer Fire Department\, 177 13th Street\, New Florence\, PA\, 15944
ATTACH;FMTTYPE=image/png:https://newflorenceborough.org/wp-content/uploads/2017/11/photo.png
END:VEVENT
BEGIN:VEVENT
DTSTART;TZID=America/New_York:20221112T140000
DTEND;TZID=America/New_York:20221112T160000
DTSTAMP:20260425T100745
CREATED:20221104T124612Z
LAST-MODIFIED:20221104T124612Z
UID:3586-1668261600-1668268800@newflorenceborough.org
SUMMARY:New Florence Community Library "Read for Recycling" Children's Program
DESCRIPTION:Please check out this fun event for kids the library will be hosting.
URL:https://newflorenceborough.org/event/new-florence-community-library-read-for-recycling-childrens-program/
LOCATION:New Florence Community Library\, 122 N Ligonier St.\, New Florence\, PA\, 15944
ATTACH;FMTTYPE=image/png:https://newflorenceborough.org/wp-content/uploads/2017/11/photo.png
END:VEVENT
BEGIN:VEVENT
DTSTART;TZID=America/New_York:20221110T180000
DTEND;TZID=America/New_York:20221110T200000
DTSTAMP:20260425T100745
CREATED:20221024T014023Z
LAST-MODIFIED:20221024T014023Z
UID:3561-1668103200-1668110400@newflorenceborough.org
SUMMARY:New Florence Community Library "Santa Hat" Class with Sue Buckles
DESCRIPTION:Please check out this new crafting class the library is holding.  For more details\, see the flyer below.  Thanks.
URL:https://newflorenceborough.org/event/new-florence-community-library-santa-hat-class-with-sue-buckles/
LOCATION:New Florence Community Library\, 122 N Ligonier St.\, New Florence\, PA\, 15944
ATTACH;FMTTYPE=image/png:https://newflorenceborough.org/wp-content/uploads/2017/11/photo.png
END:VEVENT
BEGIN:VEVENT
DTSTART;TZID=America/New_York:20221108T173000
DTEND;TZID=America/New_York:20221108T183000
DTSTAMP:20260425T100745
CREATED:20220907T132454Z
LAST-MODIFIED:20220907T132454Z
UID:3403-1667928600-1667932200@newflorenceborough.org
SUMMARY:New Florence Community Library Book Bunch
DESCRIPTION:Please check out this fun story time book club for young children ages 3 to 7.  If you need more information\, please give the library a call.  Thanks.
URL:https://newflorenceborough.org/event/new-florence-community-library-book-bunch-8/
LOCATION:New Florence Community Library\, 122 N Ligonier St.\, New Florence\, PA\, 15944
ATTACH;FMTTYPE=image/png:https://newflorenceborough.org/wp-content/uploads/2017/11/photo.png
END:VEVENT
BEGIN:VEVENT
DTSTART;TZID=America/New_York:20221108T080000
DTEND;TZID=America/New_York:20221108T160000
DTSTAMP:20260425T100745
CREATED:20221024T013152Z
LAST-MODIFIED:20221024T013152Z
UID:3557-1667894400-1667923200@newflorenceborough.org
SUMMARY:Library Election Day Bake Sale
DESCRIPTION:The New Florence Community Library will be holding a bake sale on election day at the fire hall.  Please come out and support the library by purchasing some delicious baked goods.  The sale starts at 8 am and goes until they are sold out.  Thank you.
URL:https://newflorenceborough.org/event/library-election-day-bake-sale-3/
LOCATION:New Florence Volunteer Fire Department\, 177 13th Street\, New Florence\, PA\, 15944
ATTACH;FMTTYPE=image/png:https://newflorenceborough.org/wp-content/uploads/2017/11/photo.png
END:VEVENT
BEGIN:VEVENT
DTSTART;TZID=America/New_York:20221108T070000
DTEND;TZID=America/New_York:20221108T200000
DTSTAMP:20260425T100745
CREATED:20221024T012808Z
LAST-MODIFIED:20221024T012808Z
UID:3555-1667890800-1667937600@newflorenceborough.org
SUMMARY:2022 General Election
DESCRIPTION:The 2022 General Election is on Tuesday\, November 8th\, 2022.  Polls will be open from 7 am to 8 pm.  The New Florence polling location is the fire department building. \n \n \n 
URL:https://newflorenceborough.org/event/2022-general-election/
LOCATION:New Florence Volunteer Fire Department\, 177 13th Street\, New Florence\, PA\, 15944
ATTACH;FMTTYPE=image/png:https://newflorenceborough.org/wp-content/uploads/2017/11/photo.png
END:VEVENT
BEGIN:VEVENT
DTSTART;TZID=America/New_York:20221105T173000
DTEND;TZID=America/New_York:20221105T210000
DTSTAMP:20260425T100745
CREATED:20221016T131725Z
LAST-MODIFIED:20221016T131725Z
UID:3538-1667669400-1667682000@newflorenceborough.org
SUMMARY:New Florence VFD Rippie Night
DESCRIPTION:The New Florence Volunteer Fire Department will be holding their next rippie fundraiser. Please see the flyer below or contact the fire department for more information.
URL:https://newflorenceborough.org/event/new-florence-vfd-rippie-night-12/
LOCATION:New Florence Volunteer Fire Department\, 177 13th Street\, New Florence\, PA\, 15944
ATTACH;FMTTYPE=image/png:https://newflorenceborough.org/wp-content/uploads/2017/11/photo.png
END:VEVENT
BEGIN:VEVENT
DTSTART;TZID=America/New_York:20221105T100000
DTEND;TZID=America/New_York:20221105T140000
DTSTAMP:20260425T100745
CREATED:20221016T131426Z
LAST-MODIFIED:20221016T131426Z
UID:3536-1667642400-1667656800@newflorenceborough.org
SUMMARY:New Florence VFD Sub Sale
DESCRIPTION:The New Florence Volunteer Fire Department will be holding another sub sale fundraiser. Subs will be available from 10 am until they are sold out. If you need more information\, contact the fire department. Thank you.
URL:https://newflorenceborough.org/event/new-florence-vfd-sub-sale-5/
LOCATION:New Florence Volunteer Fire Department\, 177 13th Street\, New Florence\, PA\, 15944
ATTACH;FMTTYPE=image/png:https://newflorenceborough.org/wp-content/uploads/2017/11/photo.png
END:VEVENT
BEGIN:VEVENT
DTSTART;TZID=America/New_York:20221101T080000
DTEND;TZID=America/New_York:20230105T160000
DTSTAMP:20260425T100745
CREATED:20221024T020436Z
LAST-MODIFIED:20221024T020436Z
UID:3571-1667289600-1672934400@newflorenceborough.org
SUMMARY:Squirrel Hill Hunting Club Year Long Gift Card Ticket 2023
DESCRIPTION:The Squirrel Hill Hunting Club does a hunt every year for a terminally ill or handicapped child. Various fundraisers help cover the expenses of the Lifetime Hunt for Kids program.  The club is doing a special fundraiser for 2023.  It is the Year Long Gift Card Ticket 2023.  Every week there is a gift card prize awarded.  Please contact any club member to purchase tickets.  You can also contact Sue or Gary Buckles through the club’s Facebook page Squirrel Hill Hunting Club Lifetime Hunts for more information.  Sue can also be reached at 724-600-9734 for tickets.  Thank you.
URL:https://newflorenceborough.org/event/squirrel-hill-hunting-club-year-long-gift-card-ticket-2023/
LOCATION:New Florence\, PA: Multiple Locations\, New Florence\, PA\, 15944
ATTACH;FMTTYPE=image/png:https://newflorenceborough.org/wp-content/uploads/2017/11/photo.png
END:VEVENT
END:VCALENDAR