BEGIN:VCALENDAR
VERSION:2.0
PRODID:-//New Florence Borough - ECPv6.15.20//NONSGML v1.0//EN
CALSCALE:GREGORIAN
METHOD:PUBLISH
X-WR-CALNAME:New Florence Borough
X-ORIGINAL-URL:https://newflorenceborough.org
X-WR-CALDESC:Events for New Florence Borough
REFRESH-INTERVAL;VALUE=DURATION:PT1H
X-Robots-Tag:noindex
X-PUBLISHED-TTL:PT1H
BEGIN:VTIMEZONE
TZID:America/New_York
BEGIN:DAYLIGHT
TZOFFSETFROM:-0500
TZOFFSETTO:-0400
TZNAME:EDT
DTSTART:20250309T070000
END:DAYLIGHT
BEGIN:STANDARD
TZOFFSETFROM:-0400
TZOFFSETTO:-0500
TZNAME:EST
DTSTART:20251102T060000
END:STANDARD
BEGIN:DAYLIGHT
TZOFFSETFROM:-0500
TZOFFSETTO:-0400
TZNAME:EDT
DTSTART:20260308T070000
END:DAYLIGHT
BEGIN:STANDARD
TZOFFSETFROM:-0400
TZOFFSETTO:-0500
TZNAME:EST
DTSTART:20261101T060000
END:STANDARD
BEGIN:DAYLIGHT
TZOFFSETFROM:-0500
TZOFFSETTO:-0400
TZNAME:EDT
DTSTART:20270314T070000
END:DAYLIGHT
BEGIN:STANDARD
TZOFFSETFROM:-0400
TZOFFSETTO:-0500
TZNAME:EST
DTSTART:20271107T060000
END:STANDARD
END:VTIMEZONE
BEGIN:VEVENT
DTSTART;TZID=America/New_York:20261105T183000
DTEND;TZID=America/New_York:20261105T193000
DTSTAMP:20260425T101858
CREATED:20260106T193745Z
LAST-MODIFIED:20260106T193745Z
UID:6753-1793903400-1793907000@newflorenceborough.org
SUMMARY:New Florence/St Clair Sanitation Authority Meeting
DESCRIPTION:The New Florence/St. Clair Township Sanitation Authority holds their regularly scheduled meetings at the New Florence Sewage Authority office at 117 Franklin St.\, New Florence\, PA 15944 at 6:30 pm on the first Thursday of every other month starting in January.  The meetings are open to the public.  Any changes to the schedule are published in the Johnstown Tribune Democrat newspaper.
URL:https://newflorenceborough.org/event/new-florence-st-clair-sanitation-authority-meeting-43/
LOCATION:New Florence/St. Clair Township Sanitation Authority\, 117 Franklin Street\, New Florence\, PA\, 15944\, United States
ATTACH;FMTTYPE=image/png:https://newflorenceborough.org/wp-content/uploads/2017/11/photo.png
END:VEVENT
BEGIN:VEVENT
DTSTART;VALUE=DATE:20261111
DTEND;VALUE=DATE:20261112
DTSTAMP:20260425T101858
CREATED:20260106T204744Z
LAST-MODIFIED:20260106T204744Z
UID:6789-1794355200-1794441599@newflorenceborough.org
SUMMARY:Federal Holiday - Veterans Day
DESCRIPTION:Today is a federal holiday.  Governments and many businesses are closed.  Enjoy the day!
URL:https://newflorenceborough.org/event/federal-holiday-veterans-day/
LOCATION:New Florence\, PA: Multiple Locations\, New Florence\, PA\, 15944
ATTACH;FMTTYPE=image/png:https://newflorenceborough.org/wp-content/uploads/2017/11/photo.png
END:VEVENT
BEGIN:VEVENT
DTSTART;TZID=America/New_York:20261117T183000
DTEND;TZID=America/New_York:20261117T193000
DTSTAMP:20260425T101858
CREATED:20260106T200549Z
LAST-MODIFIED:20260106T200549Z
UID:6771-1794940200-1794943800@newflorenceborough.org
SUMMARY:Borough Council Meeting
DESCRIPTION:The borough council meets monthly on the third Tuesday of each month at the borough building located at 119 Franklin Street in New Florence at 6:30 p.m. The meetings are open to the public and all are encouraged to attend. \nHere is the agenda for the meeting.  PENDING
URL:https://newflorenceborough.org/event/borough-council-meeting-100/
LOCATION:Borough Building\, 119 Franklin Street\, New Florence\, PA\, 15944
ATTACH;FMTTYPE=image/png:https://newflorenceborough.org/wp-content/uploads/2017/11/photo.png
END:VEVENT
BEGIN:VEVENT
DTSTART;VALUE=DATE:20261126
DTEND;VALUE=DATE:20261127
DTSTAMP:20260425T101858
CREATED:20260106T204932Z
LAST-MODIFIED:20260106T204932Z
UID:6791-1795651200-1795737599@newflorenceborough.org
SUMMARY:Federal Holiday - Thanksgiving Day
DESCRIPTION:Today is a federal holiday.  Governments and many businesses are closed.  Enjoy the day!
URL:https://newflorenceborough.org/event/federal-holiday-thanksgiving-day/
LOCATION:New Florence\, PA: Multiple Locations\, New Florence\, PA\, 15944
ATTACH;FMTTYPE=image/png:https://newflorenceborough.org/wp-content/uploads/2017/11/photo.png
END:VEVENT
BEGIN:VEVENT
DTSTART;TZID=America/New_York:20261215T183000
DTEND;TZID=America/New_York:20261215T193000
DTSTAMP:20260425T101858
CREATED:20260106T200701Z
LAST-MODIFIED:20260106T200701Z
UID:6773-1797359400-1797363000@newflorenceborough.org
SUMMARY:Borough Council Meeting
DESCRIPTION:The borough council meets monthly on the third Tuesday of each month at the borough building located at 119 Franklin Street in New Florence at 6:30 p.m. The meetings are open to the public and all are encouraged to attend. \nHere is the agenda for the meeting.  PENDING
URL:https://newflorenceborough.org/event/borough-council-meeting-101/
LOCATION:Borough Building\, 119 Franklin Street\, New Florence\, PA\, 15944
ATTACH;FMTTYPE=image/png:https://newflorenceborough.org/wp-content/uploads/2017/11/photo.png
END:VEVENT
BEGIN:VEVENT
DTSTART;VALUE=DATE:20261225
DTEND;VALUE=DATE:20261226
DTSTAMP:20260425T101858
CREATED:20260106T205100Z
LAST-MODIFIED:20260106T205100Z
UID:6793-1798156800-1798243199@newflorenceborough.org
SUMMARY:Federal Holiday - Christmas Day
DESCRIPTION:Today is a federal holiday.  Governments and many businesses are closed.  Enjoy the day!
URL:https://newflorenceborough.org/event/federal-holiday-christmas-day/
LOCATION:New Florence\, PA: Multiple Locations\, New Florence\, PA\, 15944
ATTACH;FMTTYPE=image/png:https://newflorenceborough.org/wp-content/uploads/2017/11/photo.png
END:VEVENT
END:VCALENDAR