BEGIN:VCALENDAR
VERSION:2.0
PRODID:-//New Florence Borough - ECPv6.15.20//NONSGML v1.0//EN
CALSCALE:GREGORIAN
METHOD:PUBLISH
X-WR-CALNAME:New Florence Borough
X-ORIGINAL-URL:https://newflorenceborough.org
X-WR-CALDESC:Events for New Florence Borough
REFRESH-INTERVAL;VALUE=DURATION:PT1H
X-Robots-Tag:noindex
X-PUBLISHED-TTL:PT1H
BEGIN:VTIMEZONE
TZID:America/New_York
BEGIN:DAYLIGHT
TZOFFSETFROM:-0500
TZOFFSETTO:-0400
TZNAME:EDT
DTSTART:20220313T070000
END:DAYLIGHT
BEGIN:STANDARD
TZOFFSETFROM:-0400
TZOFFSETTO:-0500
TZNAME:EST
DTSTART:20221106T060000
END:STANDARD
BEGIN:DAYLIGHT
TZOFFSETFROM:-0500
TZOFFSETTO:-0400
TZNAME:EDT
DTSTART:20230312T070000
END:DAYLIGHT
BEGIN:STANDARD
TZOFFSETFROM:-0400
TZOFFSETTO:-0500
TZNAME:EST
DTSTART:20231105T060000
END:STANDARD
BEGIN:DAYLIGHT
TZOFFSETFROM:-0500
TZOFFSETTO:-0400
TZNAME:EDT
DTSTART:20240310T070000
END:DAYLIGHT
BEGIN:STANDARD
TZOFFSETFROM:-0400
TZOFFSETTO:-0500
TZNAME:EST
DTSTART:20241103T060000
END:STANDARD
BEGIN:DAYLIGHT
TZOFFSETFROM:-0500
TZOFFSETTO:-0400
TZNAME:EDT
DTSTART:20250309T070000
END:DAYLIGHT
BEGIN:STANDARD
TZOFFSETFROM:-0400
TZOFFSETTO:-0500
TZNAME:EST
DTSTART:20251102T060000
END:STANDARD
END:VTIMEZONE
BEGIN:VEVENT
DTSTART;TZID=America/New_York:20240120T200000
DTEND;TZID=America/New_York:20240120T230000
DTSTAMP:20260425T063053
CREATED:20240112T143904Z
LAST-MODIFIED:20240112T143904Z
UID:4768-1705780800-1705791600@newflorenceborough.org
SUMMARY:New Florence VFW Post 7622 3rd Annual Keith Boring Dance
DESCRIPTION:On January 20th the New Florence VFW Post 7622 will be hosting the 3rd Annual Keith Boring Dance.  The group K-4 Kountry will be playing from 8:00 to 11:00 pm.  You must be 21 or over to attend the event.  There is no cover charge\, but donations will be accepted at the door.   Give the club a call if you have questions.  Thanks.
URL:https://newflorenceborough.org/event/new-florence-vfw-post-7622-3rd-annual-keith-boring-dance/
LOCATION:New Florence VFW\, 6215 Route 711\, New Florence\, PA\, 15944
ATTACH;FMTTYPE=image/png:https://newflorenceborough.org/wp-content/uploads/2017/11/photo.png
END:VEVENT
BEGIN:VEVENT
DTSTART;TZID=America/New_York:20240116T183000
DTEND;TZID=America/New_York:20240116T193000
DTSTAMP:20260425T063053
CREATED:20240104T153429Z
LAST-MODIFIED:20240115T001207Z
UID:4695-1705429800-1705433400@newflorenceborough.org
SUMMARY:Borough Council Meeting
DESCRIPTION:The borough council meets monthly on the third Tuesday of each month at the borough building located at 119 Franklin Street in New Florence at 6:30 p.m. The meetings are open to the public and all are encouraged to attend. \nHere is the agenda for the meeting. AGENDA 01-16-24
URL:https://newflorenceborough.org/event/borough-council-meeting-66/
LOCATION:Borough Building\, 119 Franklin Street\, New Florence\, PA\, 15944
ATTACH;FMTTYPE=image/png:https://newflorenceborough.org/wp-content/uploads/2017/11/photo.png
END:VEVENT
BEGIN:VEVENT
DTSTART;TZID=America/New_York:20240106T173000
DTEND;TZID=America/New_York:20240106T210000
DTSTAMP:20260425T063053
CREATED:20240104T151948Z
LAST-MODIFIED:20240106T185756Z
UID:4689-1704562200-1704574800@newflorenceborough.org
SUMMARY:New Florence VFD Rippie Night - Cancelled!
DESCRIPTION:The New Florence VFD has cancelled the Rippie Party for tonight due to weather. Be safe everyone. \n \nThe New Florence Volunteer Fire Department will be holding their next rippie fundraiser.  If you need more information\, please contact the fire department.  Thanks.
URL:https://newflorenceborough.org/event/new-florence-vfd-rippie-night-23/
LOCATION:New Florence Volunteer Fire Department\, 177 13th Street\, New Florence\, PA\, 15944
ATTACH;FMTTYPE=image/png:https://newflorenceborough.org/wp-content/uploads/2017/11/photo.png
END:VEVENT
BEGIN:VEVENT
DTSTART;TZID=America/New_York:20240106T090000
DTEND;TZID=America/New_York:20240106T140000
DTSTAMP:20260425T063053
CREATED:20240104T151741Z
LAST-MODIFIED:20240104T151741Z
UID:4687-1704531600-1704549600@newflorenceborough.org
SUMMARY:New Florence VFD Sub Sale
DESCRIPTION:The New Florence Volunteer Fire Department will be holding another sub sale fundraiser. Subs will be available from 9 am until they are sold out.  If you need more information\, contact the fire department. Thank you.
URL:https://newflorenceborough.org/event/new-florence-vfd-sub-sale-14/
LOCATION:New Florence Volunteer Fire Department\, 177 13th Street\, New Florence\, PA\, 15944
ATTACH;FMTTYPE=image/png:https://newflorenceborough.org/wp-content/uploads/2017/11/photo.png
END:VEVENT
BEGIN:VEVENT
DTSTART;TZID=America/New_York:20240104T183000
DTEND;TZID=America/New_York:20240104T193000
DTSTAMP:20260425T063053
CREATED:20240107T002347Z
LAST-MODIFIED:20240107T002347Z
UID:4729-1704393000-1704396600@newflorenceborough.org
SUMMARY:New Florence/St Clair Sanitation Authority Meeting
DESCRIPTION:The New Florence/St. Clair Township Sanitation Authority holds their regularly scheduled meetings at the New Florence Sewage Authority office at 117 Franklin St.\, New Florence\, PA 15944 at 6:30 pm on the first Thursday of every month.  The meetings are open to the public.  Any changes to the schedule are published in the Johnstown Tribune Democrat newspaper.
URL:https://newflorenceborough.org/event/new-florence-st-clair-sanitation-authority-meeting-21/
LOCATION:New Florence/St. Clair Township Sanitation Authority\, 117 Franklin Street\, New Florence\, PA\, 15944\, United States
ATTACH;FMTTYPE=image/png:https://newflorenceborough.org/wp-content/uploads/2017/11/photo.png
END:VEVENT
BEGIN:VEVENT
DTSTART;TZID=America/New_York:20240102T183000
DTEND;TZID=America/New_York:20240102T193000
DTSTAMP:20260425T063053
CREATED:20231213T135135Z
LAST-MODIFIED:20240101T005737Z
UID:4638-1704220200-1704223800@newflorenceborough.org
SUMMARY:Borough Council Meeting - Special Meeting
DESCRIPTION:There will be a special New Florence borough council meeting on January 2nd.  This meeting will be to appoint new members to the council.  The meeting will be at the borough building located at 119 Franklin Street in New Florence at 6:30 p.m. The meetings are open to the public and all are encouraged to attend. \nHere is the agenda for the meeting: \nThe election results are shown below.  The final makeup of the council has not been determined yet as of 13 December 2023.
URL:https://newflorenceborough.org/event/borough-council-meeting-special-meeting-2/
LOCATION:Borough Building\, 119 Franklin Street\, New Florence\, PA\, 15944
ATTACH;FMTTYPE=image/png:https://newflorenceborough.org/wp-content/uploads/2017/11/photo.png
END:VEVENT
BEGIN:VEVENT
DTSTART;TZID=America/New_York:20240102T170000
DTEND;TZID=America/New_York:20240102T170000
DTSTAMP:20260425T063053
CREATED:20231213T133951Z
LAST-MODIFIED:20231213T133951Z
UID:4633-1704214800-1704214800@newflorenceborough.org
SUMMARY:Cub Scout Pack 123 Winter Canned/Dry Food Drive
DESCRIPTION:Please see the flyer below for this wonderful event the Scouts are doing.
URL:https://newflorenceborough.org/event/cub-scout-pack-123-winter-canned-dry-food-drive/
LOCATION:New Florence\, PA: Multiple Locations\, New Florence\, PA\, 15944
ATTACH;FMTTYPE=image/png:https://newflorenceborough.org/wp-content/uploads/2017/11/photo.png
END:VEVENT
BEGIN:VEVENT
DTSTART;TZID=America/New_York:20231226T190000
DTEND;TZID=America/New_York:20231226T190000
DTSTAMP:20260425T063053
CREATED:20231031T002126Z
LAST-MODIFIED:20231031T002126Z
UID:4557-1703617200-1703617200@newflorenceborough.org
SUMMARY:New Florence Community "Pay Off Christmas" Fundraiser
DESCRIPTION:Please check out this fundraiser the library is having.  Good luck.  Cheers.
URL:https://newflorenceborough.org/event/new-florence-community-pay-off-christmas-fundraiser/
LOCATION:New Florence Community Library\, 122 N Ligonier St.\, New Florence\, PA\, 15944
ATTACH;FMTTYPE=image/png:https://newflorenceborough.org/wp-content/uploads/2017/11/photo.png
END:VEVENT
BEGIN:VEVENT
DTSTART;TZID=America/New_York:20231224T110000
DTEND;TZID=America/New_York:20231224T140000
DTSTAMP:20260425T063053
CREATED:20231128T025255Z
LAST-MODIFIED:20231128T025255Z
UID:4609-1703415600-1703426400@newflorenceborough.org
SUMMARY:2023 Santa Express
DESCRIPTION:The New Florence Volunteer Fire Department will be helping with the Santa Express.  Santa will be visiting New Florence on Christmas eve while his sleigh is in for a last-minute tune-up.  Santa has asked the fire department to help out. Of course\, the firefighters volunteered to drive their truck all around New Florence to give Santa a chance to see all the good little boys and girls.  Merry Christmas everyone.
URL:https://newflorenceborough.org/event/2023-santa-express/
LOCATION:New Florence\, PA: Multiple Locations\, New Florence\, PA\, 15944
ATTACH;FMTTYPE=image/png:https://newflorenceborough.org/wp-content/uploads/2017/11/photo.png
END:VEVENT
BEGIN:VEVENT
DTSTART;TZID=America/New_York:20231219T183000
DTEND;TZID=America/New_York:20231219T193000
DTSTAMP:20260425T063053
CREATED:20230101T193025Z
LAST-MODIFIED:20230101T193025Z
UID:3728-1703010600-1703014200@newflorenceborough.org
SUMMARY:Borough Council Meeting
DESCRIPTION:The borough council meets monthly on the third Tuesday of each month at the borough building located at 119 Franklin Street in New Florence at 6:30 p.m.  The meetings are open to the public and all are encouraged to attend. \nHere is the agenda for the meeting.  PENDING
URL:https://newflorenceborough.org/event/borough-council-meeting-65/
LOCATION:Borough Building\, 119 Franklin Street\, New Florence\, PA\, 15944
ATTACH;FMTTYPE=image/png:https://newflorenceborough.org/wp-content/uploads/2017/11/photo.png
END:VEVENT
BEGIN:VEVENT
DTSTART;TZID=America/New_York:20231219T180000
DTEND;TZID=America/New_York:20231219T180000
DTSTAMP:20260425T063053
CREATED:20231115T022906Z
LAST-MODIFIED:20231115T022906Z
UID:4593-1703008800-1703008800@newflorenceborough.org
SUMMARY:Christmas House Decorating Contest - 2023
DESCRIPTION:Please see the flyer below for more information on the house decorating contest.  Judging will start after the sun has gone down.  Thanks all.
URL:https://newflorenceborough.org/event/christmas-house-decorating-contest-2023/
LOCATION:New Florence\, PA: Multiple Locations\, New Florence\, PA\, 15944
ATTACH;FMTTYPE=image/png:https://newflorenceborough.org/wp-content/uploads/2017/11/photo.png
END:VEVENT
BEGIN:VEVENT
DTSTART;TZID=America/New_York:20231217T170000
DTEND;TZID=America/New_York:20231217T170000
DTSTAMP:20260425T063053
CREATED:20231203T144158Z
LAST-MODIFIED:20231203T144158Z
UID:4615-1702832400-1702832400@newflorenceborough.org
SUMMARY:Squirrel Hill Hunting Club Christmas Drive - 2023
DESCRIPTION:The Squirrel Hill Hunting Club is collecting donations for two local shelters.  The Union Mission in Latrobe and The Veterans Homeless Shelter in Indiana. They are asking for donations of nice new or used men’s clothes\, hygiene products\, canned goods\, blankets\, etc.  You can call Susan Buckles at 724-600-9734 or Gary Buckles at 724-600-9984 to schedule a pickup or drop off at the club’s meeting room. Please share this event!  Thank you.
URL:https://newflorenceborough.org/event/squirrel-hill-hunting-club-christmas-drive-2023/
LOCATION:New Florence\, PA: Multiple Locations\, New Florence\, PA\, 15944
ATTACH;FMTTYPE=image/png:https://newflorenceborough.org/wp-content/uploads/2017/11/photo.png
END:VEVENT
BEGIN:VEVENT
DTSTART;TZID=America/New_York:20231217T090000
DTEND;TZID=America/New_York:20231217T113000
DTSTAMP:20260425T063053
CREATED:20231128T024936Z
LAST-MODIFIED:20231217T001909Z
UID:4606-1702803600-1702812600@newflorenceborough.org
SUMMARY:Festivus For The Rest Of Us 5K Race 2023
DESCRIPTION:Come celebrate Festivus with the rest of us while completing an awesome 5k course. \nWe are back for the 3rd year. We had a outstanding turnout last year. Tons of fun was had by all. We look forward to making the experience even better this year. \nAll proceeds go directly to the New Florence Volunteer Fire Company. \nFestivus 5k packet pickup will be at the New Florence Firehall morning of the race starting at 9am (possibly little earlier). Registration will close at 9:50 am to allow Smiley Miles Timing to put names into the system without delaying the start of the race of those who sign up day of. \nPlease check out these links for a lot more great information. \nPromo link:\n\nhttps://youtu.be/R6sr7XaHxIM\n\n\n\nRegistration link:\nhttps://runsignup.com/…/NewFlorence/NewFlorenceFestivus5k\n\n\n\n\n\n\nHere is the route map for the race.
URL:https://newflorenceborough.org/event/festivus-for-the-rest-of-us-5k-race-2023/
LOCATION:New Florence Volunteer Fire Department\, 177 13th Street\, New Florence\, PA\, 15944
ATTACH;FMTTYPE=image/png:https://newflorenceborough.org/wp-content/uploads/2017/11/photo.png
END:VEVENT
BEGIN:VEVENT
DTSTART;TZID=America/New_York:20231216T170000
DTEND;TZID=America/New_York:20231216T170000
DTSTAMP:20260425T063053
CREATED:20231115T023153Z
LAST-MODIFIED:20231115T023153Z
UID:4595-1702746000-1702746000@newflorenceborough.org
SUMMARY:Deadline for Christmas House Decorating Contest Participation - 2023
DESCRIPTION:Please see the flyer below for more information on the house decorating contest.  Judging will start after the sun has gone down.  Thanks all.
URL:https://newflorenceborough.org/event/deadline-for-christmas-house-decorating-contest-participation-2023/
LOCATION:New Florence Community Library\, 122 N Ligonier St.\, New Florence\, PA\, 15944
ATTACH;FMTTYPE=image/png:https://newflorenceborough.org/wp-content/uploads/2017/11/photo.png
END:VEVENT
BEGIN:VEVENT
DTSTART;TZID=America/New_York:20231207T183000
DTEND;TZID=America/New_York:20231207T200000
DTSTAMP:20260425T063053
CREATED:20230203T022552Z
LAST-MODIFIED:20230203T022552Z
UID:3849-1701973800-1701979200@newflorenceborough.org
SUMMARY:New Florence/St Clair Sanitation Authority Meeting
DESCRIPTION:The New Florence/St. Clair Township Sanitation Authority meetings are open to the public.  Any changes to the schedule are published in the Johnstown Tribune Democrat newspaper.
URL:https://newflorenceborough.org/event/new-florence-st-clair-sanitation-authority-meeting-20/
LOCATION:New Florence/St. Clair Township Sanitation Authority\, 117 Franklin Street\, New Florence\, PA\, 15944\, United States
ATTACH;FMTTYPE=image/png:https://newflorenceborough.org/wp-content/uploads/2017/11/photo.png
END:VEVENT
BEGIN:VEVENT
DTSTART;TZID=America/New_York:20231207T180000
DTEND;TZID=America/New_York:20231207T200000
DTSTAMP:20260425T063053
CREATED:20231115T021748Z
LAST-MODIFIED:20231115T021748Z
UID:4585-1701972000-1701979200@newflorenceborough.org
SUMMARY:New Florence Community Library "Make Your Own Yuletide Ball Ornament" Crafting with Sue Class
DESCRIPTION:Please check out this new crafting class the library is holding.  For more details\, see the flyer below.  Thanks.
URL:https://newflorenceborough.org/event/new-florence-community-library-make-your-own-yuletide-ball-ornament-crafting-with-sue-class/
LOCATION:New Florence Community Library\, 122 N Ligonier St.\, New Florence\, PA\, 15944
ATTACH;FMTTYPE=image/png:https://newflorenceborough.org/wp-content/uploads/2017/11/photo.png
END:VEVENT
BEGIN:VEVENT
DTSTART;TZID=America/New_York:20231203T180000
DTEND;TZID=America/New_York:20231203T193000
DTSTAMP:20260425T063053
CREATED:20231106T021508Z
LAST-MODIFIED:20231115T021314Z
UID:4569-1701626400-1701631800@newflorenceborough.org
SUMMARY:Annual Tree Lighting Event - 2023
DESCRIPTION:Please join the town in the lighting of the Christmas tree.  The New Florence Community Development organization will be hosting the tree lighting ceremony on December 3rd at 6pm.  For those that don’t know\, the Mytrysak Family Tree Farm in Indiana donated a live tree to the community.  It was planted the end of October in the lot across from the old bank building to replace the tree that had died. \n \n \n \n 
URL:https://newflorenceborough.org/event/annual-tree-lighting-event-2023/
LOCATION:New Florence Volunteer Fire Department\, 177 13th Street\, New Florence\, PA\, 15944
ATTACH;FMTTYPE=image/png:https://newflorenceborough.org/wp-content/uploads/2017/11/photo.png
END:VEVENT
BEGIN:VEVENT
DTSTART;TZID=America/New_York:20231202T173000
DTEND;TZID=America/New_York:20231202T210000
DTSTAMP:20260425T063053
CREATED:20231115T022553Z
LAST-MODIFIED:20231115T022553Z
UID:4591-1701538200-1701550800@newflorenceborough.org
SUMMARY:New Florence VFD Rippie Night
DESCRIPTION:The New Florence Volunteer Fire Department will be holding their next rippie fundraiser.  If you need more information\, please contact the fire department.  Thanks.
URL:https://newflorenceborough.org/event/new-florence-vfd-rippie-night-22/
LOCATION:New Florence Volunteer Fire Department\, 177 13th Street\, New Florence\, PA\, 15944
ATTACH;FMTTYPE=image/png:https://newflorenceborough.org/wp-content/uploads/2017/11/photo.png
END:VEVENT
BEGIN:VEVENT
DTSTART;TZID=America/New_York:20231202T090000
DTEND;TZID=America/New_York:20231202T140000
DTSTAMP:20260425T063053
CREATED:20231115T022347Z
LAST-MODIFIED:20231115T022347Z
UID:4589-1701507600-1701525600@newflorenceborough.org
SUMMARY:New Florence VFD Sub Sale
DESCRIPTION:The New Florence Volunteer Fire Department will be holding another sub sale fundraiser. Subs will be available from 9 am until they are sold out.  If you need more information\, contact the fire department. Thank you.
URL:https://newflorenceborough.org/event/new-florence-vfd-sub-sale-13/
LOCATION:New Florence Volunteer Fire Department\, 177 13th Street\, New Florence\, PA\, 15944
ATTACH;FMTTYPE=image/png:https://newflorenceborough.org/wp-content/uploads/2017/11/photo.png
END:VEVENT
BEGIN:VEVENT
DTSTART;TZID=America/New_York:20231125T130000
DTEND;TZID=America/New_York:20231125T143000
DTSTAMP:20260425T063053
CREATED:20231115T022118Z
LAST-MODIFIED:20231115T022118Z
UID:4587-1700917200-1700922600@newflorenceborough.org
SUMMARY:New Florence Community Library Holiday Storytime Event
DESCRIPTION:Please check out this fun event for the kids.  See the flyer below for more details.  Thanks.
URL:https://newflorenceborough.org/event/new-florence-community-library-holiday-storytime-event/
LOCATION:New Florence Community Library\, 122 N Ligonier St.\, New Florence\, PA\, 15944
ATTACH;FMTTYPE=image/png:https://newflorenceborough.org/wp-content/uploads/2017/11/photo.png
END:VEVENT
BEGIN:VEVENT
DTSTART;TZID=America/New_York:20231121T183000
DTEND;TZID=America/New_York:20231121T193000
DTSTAMP:20260425T063053
CREATED:20230101T192918Z
LAST-MODIFIED:20230101T192918Z
UID:3726-1700591400-1700595000@newflorenceborough.org
SUMMARY:Borough Council Meeting
DESCRIPTION:The borough council meets monthly on the third Tuesday of each month at the borough building located at 119 Franklin Street in New Florence at 6:30 p.m.  The meetings are open to the public and all are encouraged to attend. \nHere is the agenda for the meeting.  PENDING
URL:https://newflorenceborough.org/event/borough-council-meeting-64/
LOCATION:Borough Building\, 119 Franklin Street\, New Florence\, PA\, 15944
ATTACH;FMTTYPE=image/png:https://newflorenceborough.org/wp-content/uploads/2017/11/photo.png
END:VEVENT
BEGIN:VEVENT
DTSTART;TZID=America/New_York:20231119T120000
DTEND;TZID=America/New_York:20231119T153000
DTSTAMP:20260425T063053
CREATED:20231028T122916Z
LAST-MODIFIED:20231028T122916Z
UID:4545-1700395200-1700407800@newflorenceborough.org
SUMMARY:NF VFD Basket Party - November 2023
DESCRIPTION:The New Florence VFD will be holding a Basket Party on November 19th.  The VFD is looking for businesses\, organizations\, or individuals to make and donate a basket for the basket party.  One can take this opportunity to promote your business or venture. Gift Cards are also welcomed. Please call Amber at 814-270-1786 with any questions or if you want to donate a basket for the fundraiser.  Please see the flyer below.
URL:https://newflorenceborough.org/event/nf-vfd-basket-party-november-2023/
LOCATION:New Florence Volunteer Fire Department\, 177 13th Street\, New Florence\, PA\, 15944
ATTACH;FMTTYPE=image/png:https://newflorenceborough.org/wp-content/uploads/2017/11/photo.png
END:VEVENT
BEGIN:VEVENT
DTSTART;TZID=America/New_York:20231116T183000
DTEND;TZID=America/New_York:20231116T203000
DTSTAMP:20260425T063053
CREATED:20231016T000755Z
LAST-MODIFIED:20231016T000755Z
UID:4519-1700159400-1700166600@newflorenceborough.org
SUMMARY:New Florence VFW Turkey Raffle Fundraiser
DESCRIPTION:The New Florence Veterans of Foreign Wars (VFW Post 7622) will be hosting a turkey raffle fundraiser.  Please come out and support the club by participating in the fundraiser.  The event is open to the public.  For those that don’t know\, the club does lots of great things for the local community.  For more information give the club a call at 724-235-9904.  Thank you.
URL:https://newflorenceborough.org/event/new-florence-vfw-turkey-raffle-fundraiser-3/
LOCATION:New Florence VFW\, 6215 Route 711\, New Florence\, PA\, 15944
ATTACH;FMTTYPE=image/png:https://newflorenceborough.org/wp-content/uploads/2017/11/photo.png
END:VEVENT
BEGIN:VEVENT
DTSTART;VALUE=DATE:20231111
DTEND;VALUE=DATE:20231112
DTSTAMP:20260425T063053
CREATED:20231028T122326Z
LAST-MODIFIED:20231028T122326Z
UID:4543-1699660800-1699747199@newflorenceborough.org
SUMMARY:Veterans Day 2023
DESCRIPTION:
URL:https://newflorenceborough.org/event/veterans-day-2023/
LOCATION:New Florence\, PA: Multiple Locations\, New Florence\, PA\, 15944
ATTACH;FMTTYPE=image/png:https://newflorenceborough.org/wp-content/uploads/2017/11/photo.png
END:VEVENT
BEGIN:VEVENT
DTSTART;TZID=America/New_York:20231109T180000
DTEND;TZID=America/New_York:20231109T200000
DTSTAMP:20260425T063053
CREATED:20231015T235422Z
LAST-MODIFIED:20231015T235422Z
UID:4510-1699552800-1699560000@newflorenceborough.org
SUMMARY:New Florence Community Library "Bath Bombs\, Scrubs & Salts" Crafting with Sue Class
DESCRIPTION:Please check out this new crafting class the library is holding.  For more details\, see the flyer below.  Thanks.
URL:https://newflorenceborough.org/event/new-florence-community-library-bath-bombs-scrubs-salts-crafting-with-sue-class/
LOCATION:New Florence Community Library\, 122 N Ligonier St.\, New Florence\, PA\, 15944
ATTACH;FMTTYPE=image/png:https://newflorenceborough.org/wp-content/uploads/2017/11/photo.png
END:VEVENT
BEGIN:VEVENT
DTSTART;TZID=America/New_York:20231107T080000
DTEND;TZID=America/New_York:20231107T160000
DTSTAMP:20260425T063053
CREATED:20231031T001733Z
LAST-MODIFIED:20231031T001733Z
UID:4555-1699344000-1699372800@newflorenceborough.org
SUMMARY:Library Election Day Bake Sale
DESCRIPTION:The New Florence Community Library will be holding a bake sale on election day at the fire hall.  Please come out and support the library by purchasing some delicious baked goods.  The sale starts at 8 am and goes until they are sold out.  Thank you.
URL:https://newflorenceborough.org/event/library-election-day-bake-sale-4/
LOCATION:New Florence Volunteer Fire Department\, 177 13th Street\, New Florence\, PA\, 15944
ATTACH;FMTTYPE=image/png:https://newflorenceborough.org/wp-content/uploads/2017/11/photo.png
END:VEVENT
BEGIN:VEVENT
DTSTART;TZID=America/New_York:20231107T070000
DTEND;TZID=America/New_York:20231107T200000
DTSTAMP:20260425T063053
CREATED:20231028T122112Z
LAST-MODIFIED:20231031T002445Z
UID:4541-1699340400-1699387200@newflorenceborough.org
SUMMARY:2023 Municipal General Election
DESCRIPTION:The 2023 Municipal General Election is on Tuesday\, November 7th\, 2023.  Polls will be open from 7 am to 8 pm.  The New Florence polling location is the fire department building. \n \nThe 2023 Municipal General Election will be held Tuesday\, November 7\, 2023.  Three seats on the New Florence Borough Council are being voted on.  During the 2023 General Primary Election held in May\, no one ran to be on the ballot this fall.  The three positions expiring will need to be filled with write-in candidates’ names.  Here is the current council and when their terms expire. \nJim Moore\, President\, 8 January 2024\nJeff Rager\,  Vice President\, 5 January 2026\nGwen Dellett\, 8 January 2024\nMason Luther\,  5 January 2026\nJason Beatty\,  5 January 2026\nChuck O’Shell\,  5 January 2026\nRon Gyure\,  8 January 2024 \nThe positions held by Jim Moore\, Gwen Dellett\, and Ron Gyure will be the vacated positions.  If you vote for Jeff Rager\, Mason Luther\, Jason Beatty\, or Chuck O’Shell\, your vote will be wasted since their terms are not expiring.  Here is the sample ballot that was posted on the Westmoreland County’s website.  Official Municipal Election Sample Ballot – New Florence Borough – November 7 2023   Here is also a snapshot of the Write-In area for borough council positions.  Please come out and vote.
URL:https://newflorenceborough.org/event/2023-municipal-general-election/
LOCATION:New Florence Volunteer Fire Department\, 177 13th Street\, New Florence\, PA\, 15944
ATTACH;FMTTYPE=image/png:https://newflorenceborough.org/wp-content/uploads/2017/11/photo.png
END:VEVENT
BEGIN:VEVENT
DTSTART;TZID=America/New_York:20231104T173000
DTEND;TZID=America/New_York:20231104T210000
DTSTAMP:20260425T063053
CREATED:20231016T000406Z
LAST-MODIFIED:20231016T000406Z
UID:4517-1699119000-1699131600@newflorenceborough.org
SUMMARY:New Florence VFD Rippie Night
DESCRIPTION:The New Florence Volunteer Fire Department will be holding their next rippie fundraiser.  If you need more information\, please contact the fire department.  Thanks. \n \n 
URL:https://newflorenceborough.org/event/new-florence-vfd-rippie-night-21/
LOCATION:New Florence Volunteer Fire Department\, 177 13th Street\, New Florence\, PA\, 15944
ATTACH;FMTTYPE=image/png:https://newflorenceborough.org/wp-content/uploads/2017/11/photo.png
END:VEVENT
BEGIN:VEVENT
DTSTART;TZID=America/New_York:20231104T090000
DTEND;TZID=America/New_York:20231104T140000
DTSTAMP:20260425T063053
CREATED:20231016T000120Z
LAST-MODIFIED:20231016T000120Z
UID:4515-1699088400-1699106400@newflorenceborough.org
SUMMARY:New Florence VFD Sub Sale
DESCRIPTION:The New Florence Volunteer Fire Department will be holding another sub sale fundraiser. Subs will be available from 9 am until they are sold out.  If you need more information\, contact the fire department. Thank you.
URL:https://newflorenceborough.org/event/new-florence-vfd-sub-sale-12/
LOCATION:New Florence Volunteer Fire Department\, 177 13th Street\, New Florence\, PA\, 15944
ATTACH;FMTTYPE=image/png:https://newflorenceborough.org/wp-content/uploads/2017/11/photo.png
END:VEVENT
BEGIN:VEVENT
DTSTART;TZID=America/New_York:20231102T183000
DTEND;TZID=America/New_York:20231102T200000
DTSTAMP:20260425T063053
CREATED:20230203T022425Z
LAST-MODIFIED:20230203T022425Z
UID:3847-1698949800-1698955200@newflorenceborough.org
SUMMARY:New Florence/St Clair Sanitation Authority Meeting
DESCRIPTION:The New Florence/St. Clair Township Sanitation Authority meetings are open to the public.  Any changes to the schedule are published in the Johnstown Tribune Democrat newspaper.
URL:https://newflorenceborough.org/event/new-florence-st-clair-sanitation-authority-meeting-19/
LOCATION:New Florence/St. Clair Township Sanitation Authority\, 117 Franklin Street\, New Florence\, PA\, 15944\, United States
ATTACH;FMTTYPE=image/png:https://newflorenceborough.org/wp-content/uploads/2017/11/photo.png
END:VEVENT
END:VCALENDAR