BEGIN:VCALENDAR
VERSION:2.0
PRODID:-//New Florence Borough - ECPv6.15.20//NONSGML v1.0//EN
CALSCALE:GREGORIAN
METHOD:PUBLISH
X-ORIGINAL-URL:https://newflorenceborough.org
X-WR-CALDESC:Events for New Florence Borough
REFRESH-INTERVAL;VALUE=DURATION:PT1H
X-Robots-Tag:noindex
X-PUBLISHED-TTL:PT1H
BEGIN:VTIMEZONE
TZID:America/New_York
BEGIN:DAYLIGHT
TZOFFSETFROM:-0500
TZOFFSETTO:-0400
TZNAME:EDT
DTSTART:20240310T070000
END:DAYLIGHT
BEGIN:STANDARD
TZOFFSETFROM:-0400
TZOFFSETTO:-0500
TZNAME:EST
DTSTART:20241103T060000
END:STANDARD
BEGIN:DAYLIGHT
TZOFFSETFROM:-0500
TZOFFSETTO:-0400
TZNAME:EDT
DTSTART:20250309T070000
END:DAYLIGHT
BEGIN:STANDARD
TZOFFSETFROM:-0400
TZOFFSETTO:-0500
TZNAME:EST
DTSTART:20251102T060000
END:STANDARD
BEGIN:DAYLIGHT
TZOFFSETFROM:-0500
TZOFFSETTO:-0400
TZNAME:EDT
DTSTART:20260308T070000
END:DAYLIGHT
BEGIN:STANDARD
TZOFFSETFROM:-0400
TZOFFSETTO:-0500
TZNAME:EST
DTSTART:20261101T060000
END:STANDARD
END:VTIMEZONE
BEGIN:VEVENT
DTSTART;TZID=America/New_York:20250801T170000
DTEND;TZID=America/New_York:20250801T170000
DTSTAMP:20260425T100340
CREATED:20250623T023846Z
LAST-MODIFIED:20250623T023846Z
UID:6242-1754067600-1754067600@newflorenceborough.org
SUMMARY:New Florence VFW Post 7622 Backpack Give-a-Way - 2025
DESCRIPTION:The New Florence VFW Post 7622 will be hosting a backpack give-away for two lucky children.  Please stop by the club and fill out a ticket.  No purchase is necessary.  Also\, remember that the kitchen is open to the public.  If you have any questions\, please give the club a call.  Thanks.
URL:https://newflorenceborough.org/event/new-florence-vfw-post-7622-backpack-give-a-way-2025/
LOCATION:New Florence VFW\, 6215 Route 711\, New Florence\, PA\, 15944
ATTACH;FMTTYPE=image/png:https://newflorenceborough.org/wp-content/uploads/2017/11/photo.png
END:VEVENT
BEGIN:VEVENT
DTSTART;TZID=America/New_York:20250802T090000
DTEND;TZID=America/New_York:20250802T130000
DTSTAMP:20260425T100340
CREATED:20250724T190315Z
LAST-MODIFIED:20250724T190315Z
UID:6314-1754125200-1754139600@newflorenceborough.org
SUMMARY:New Florence VFD Sub Sale
DESCRIPTION:The New Florence Volunteer Fire Department will be having their next sub sale and rippie party on the August 2nd.   Subs will be available from 9 am until they are sold out.  If you need more information\, contact the fire department.  Thank you.
URL:https://newflorenceborough.org/event/new-florence-vfd-sub-sale-31/
LOCATION:New Florence Volunteer Fire Department\, 177 13th Street\, New Florence\, PA\, 15944
ATTACH;FMTTYPE=image/png:https://newflorenceborough.org/wp-content/uploads/2017/11/photo.png
END:VEVENT
BEGIN:VEVENT
DTSTART;TZID=America/New_York:20250802T140000
DTEND;TZID=America/New_York:20250802T160000
DTSTAMP:20260425T100340
CREATED:20250724T184749Z
LAST-MODIFIED:20250724T184749Z
UID:6307-1754143200-1754150400@newflorenceborough.org
SUMMARY:New Florence United Methodist Church Family Magic Matinee
DESCRIPTION:The New Florence Methodist will be hosting a fundraiser Family Magic Matinee show on August 2nd at 2pm.  Tickets are required to attend the show.  Give the church a call for more information or follow this link.    Family Magic Matinee   Thanks.
URL:https://newflorenceborough.org/event/new-florence-united-methodist-church-family-magic-matinee/
LOCATION:New Florence United Methodist Church\, 200 9th St.\, New Florence\, PA\, 15944\, United States
ATTACH;FMTTYPE=image/png:https://newflorenceborough.org/wp-content/uploads/2017/11/photo.png
END:VEVENT
BEGIN:VEVENT
DTSTART;TZID=America/New_York:20250802T170000
DTEND;TZID=America/New_York:20250802T210000
DTSTAMP:20260425T100340
CREATED:20250724T191202Z
LAST-MODIFIED:20250724T191202Z
UID:6319-1754154000-1754168400@newflorenceborough.org
SUMMARY:National Night Out 2025
DESCRIPTION:This year’s National Night Out will be held at the Seward Volunteer Fire Co. on August 2nd.  The St. Clair Township Police Department\, the Seward VFD\, and other organizations will be out within the community during the evening to interact with the residents with the goal of improving community relations.  This will be at the Seward fire hall from 5 pm to 9 pm.  There will also be activities at the fire department building.  For those that attended the event last year in New Florence it was a great time for all.  Please see the flyer below for more information.
URL:https://newflorenceborough.org/event/national-night-out-2025/
LOCATION:Seward Volunteer Fire Co.\, 1230 10th Street\, Seward\, PA\, 15954\, United States
ATTACH;FMTTYPE=image/png:https://newflorenceborough.org/wp-content/uploads/2017/11/photo.png
END:VEVENT
BEGIN:VEVENT
DTSTART;TZID=America/New_York:20250802T173000
DTEND;TZID=America/New_York:20250802T210000
DTSTAMP:20260425T100340
CREATED:20250724T190523Z
LAST-MODIFIED:20250724T190523Z
UID:6317-1754155800-1754168400@newflorenceborough.org
SUMMARY:New Florence VFD Rippie Night
DESCRIPTION:The New Florence Volunteer Fire Department will be having their next sub sale and rippie party on the August 2nd.   If you need more information\, contact the fire department.  Thank you.
URL:https://newflorenceborough.org/event/new-florence-vfd-rippie-night-41/
LOCATION:New Florence Volunteer Fire Department\, 177 13th Street\, New Florence\, PA\, 15944
ATTACH;FMTTYPE=image/png:https://newflorenceborough.org/wp-content/uploads/2017/11/photo.png
END:VEVENT
BEGIN:VEVENT
DTSTART;TZID=America/New_York:20250805T180000
DTEND;TZID=America/New_York:20250805T190000
DTSTAMP:20260425T100340
CREATED:20250112T154032Z
LAST-MODIFIED:20250112T154032Z
UID:5791-1754416800-1754420400@newflorenceborough.org
SUMMARY:New Florence Community Development Monthly Meeting
DESCRIPTION:The New Florence Community Development organization holds monthly meetings on the first Tuesday of the month.  The meetings start at 6 pm at the borough building.  The meetings are open to the public and all are welcome to attend.  If you need more information\, you can email the group at contactnfcd@gmail.com or call Misty Clawson\, the President\, at 724-464-7984.  The group also posts regularly on their Facebook page.  New Florence Community Development.  Thank you.
URL:https://newflorenceborough.org/event/new-florence-community-development-monthly-meeting-7/
LOCATION:Borough Building\, 119 Franklin Street\, New Florence\, PA\, 15944
ATTACH;FMTTYPE=image/png:https://newflorenceborough.org/wp-content/uploads/2017/11/photo.png
END:VEVENT
BEGIN:VEVENT
DTSTART;TZID=America/New_York:20250810T140000
DTEND;TZID=America/New_York:20250810T160000
DTSTAMP:20260425T100340
CREATED:20250117T170122Z
LAST-MODIFIED:20250710T132920Z
UID:5819-1754834400-1754841600@newflorenceborough.org
SUMMARY:New Florence Community Development Back-to-School Event 2025
DESCRIPTION:Save the date.  The Back-to-School event is scheduled for this day. \nHere’s another little flyer the group put out. \n \nMore information will be posted as it becomes available.  Thanks to the Community Development organization for putting this together.  If you have any questions\, please contact them at their email contactnfcd@gmail.com.
URL:https://newflorenceborough.org/event/new-florence-community-development-back-to-school-event-2025/
LOCATION:New Florence Playground\, 13th Street\, New Florence\, PA\, 15944\, United States
ATTACH;FMTTYPE=image/png:https://newflorenceborough.org/wp-content/uploads/2017/11/photo.png
END:VEVENT
BEGIN:VEVENT
DTSTART;TZID=America/New_York:20250819T183000
DTEND;TZID=America/New_York:20250819T193000
DTSTAMP:20260425T100340
CREATED:20250107T225028Z
LAST-MODIFIED:20250817T175744Z
UID:5711-1755628200-1755631800@newflorenceborough.org
SUMMARY:Borough Council Meeting
DESCRIPTION:The borough council meets monthly on the third Tuesday of each month at the borough building located at 119 Franklin Street in New Florence at 6:30 p.m. The meetings are open to the public and all are encouraged to attend. \nHere is the agenda for the meeting. AGENDA 08-19-25
URL:https://newflorenceborough.org/event/borough-council-meeting-85/
LOCATION:Borough Building\, 119 Franklin Street\, New Florence\, PA\, 15944
ATTACH;FMTTYPE=image/png:https://newflorenceborough.org/wp-content/uploads/2017/11/photo.png
END:VEVENT
BEGIN:VEVENT
DTSTART;VALUE=DATE:20250825
DTEND;VALUE=DATE:20250826
DTSTAMP:20260425T100340
CREATED:20250822T121305Z
LAST-MODIFIED:20250822T121305Z
UID:6362-1756080000-1756166399@newflorenceborough.org
SUMMARY:First Day of School
DESCRIPTION:This is the first day of school.  Please be careful!  Watch out for school buses.  Here is the school calendar as of 21 August 2025 for the district.  Ligonier Valley School District 2025-2026 Instructional Calendar \n \n \n 
URL:https://newflorenceborough.org/event/first-day-of-school-3/
LOCATION:New Florence\, PA: Multiple Locations\, New Florence\, PA\, 15944
ATTACH;FMTTYPE=image/png:https://newflorenceborough.org/wp-content/uploads/2017/11/photo.png
END:VEVENT
BEGIN:VEVENT
DTSTART;TZID=America/New_York:20250828T070000
DTEND;TZID=America/New_York:20250828T170000
DTSTAMP:20260425T100340
CREATED:20250710T134020Z
LAST-MODIFIED:20250810T142303Z
UID:6280-1756364400-1756400400@newflorenceborough.org
SUMMARY:New Florence Community Library Summer Train Ride & Lincoln Caverns Tour
DESCRIPTION:This trip is now full.  However\, the library has a waitlist for those still interesting in going.  Give the library a call for more information. \n \nHere is an updated flyer for the trip. \n \nCheck out this exciting day trip the library is doing.  More information will be posted as it becomes available.  The times listed are just a place holder for now.  I’ll update them as I know more.  Thanks.
URL:https://newflorenceborough.org/event/new-florence-community-library-summer-train-ride-lincoln-caverns-tour/
LOCATION:New Florence Community Library\, 122 N Ligonier St.\, New Florence\, PA\, 15944
ATTACH;FMTTYPE=image/png:https://newflorenceborough.org/wp-content/uploads/2017/11/photo.png
END:VEVENT
BEGIN:VEVENT
DTSTART;TZID=America/New_York:20250828T170000
DTEND;TZID=America/New_York:20250828T183000
DTSTAMP:20260425T100340
CREATED:20250827T023656Z
LAST-MODIFIED:20250827T023656Z
UID:6383-1756400400-1756405800@newflorenceborough.org
SUMMARY:Auker's Farmer's Market
DESCRIPTION:The Aukers are coming back to the storage parking lot next to the post office on August 28th to set up another farmers market starting at 5 pm.  Please come out and support them.  The end time is a guess at the moment.  The end time wasn’t posted in the Bowers Mini-Storage announcement.  Thanks.
URL:https://newflorenceborough.org/event/aukers-farmers-market-9/
LOCATION:Auker Farmer’s Market\, 179 Ligonier St\, New Florence\, PA\, 15944\, United States
ATTACH;FMTTYPE=image/png:https://newflorenceborough.org/wp-content/uploads/2017/11/photo.png
END:VEVENT
BEGIN:VEVENT
DTSTART;TZID=America/New_York:20250901T080000
DTEND;TZID=America/New_York:20250930T170000
DTSTAMP:20260425T100340
CREATED:20250916T170910Z
LAST-MODIFIED:20250916T170910Z
UID:6455-1756713600-1759251600@newflorenceborough.org
SUMMARY:New Florence Community Library 9/11 Week of Service Food Drive
DESCRIPTION:The New Florence Community Library will be participating in a food drive for the month of September.  This food drive supports the Westmoreland Food Bank.  Drop-offs can be made any time during normal library hours.  If you have any questions\, please give the library a call for more information.
URL:https://newflorenceborough.org/event/new-florence-community-library-9-11-week-of-service-food-drive-2/
LOCATION:New Florence Community Library\, 122 N Ligonier St.\, New Florence\, PA\, 15944
ATTACH;FMTTYPE=image/png:https://newflorenceborough.org/wp-content/uploads/2017/11/photo.png
END:VEVENT
BEGIN:VEVENT
DTSTART;TZID=America/New_York:20250901T120000
DTEND;TZID=America/New_York:20250930T200000
DTSTAMP:20260425T100340
CREATED:20250907T131337Z
LAST-MODIFIED:20250907T131337Z
UID:6425-1756728000-1759262400@newflorenceborough.org
SUMMARY:New Florence VFW "Christmas in September" Toy Drive 2025
DESCRIPTION:The New Florence VFW Post 7622 will be running a month-long Christmas in September Toy Drive in support of the Marine Corps Reserve Toys For Tots program.  You can drop off a new\, in package\, toy at the club during the month.  Please see the flyer below for more information or give the club a call.  Thanks.
URL:https://newflorenceborough.org/event/new-florence-vfw-christmas-in-september-toy-drive-2025/
LOCATION:New Florence VFW\, 6215 Route 711\, New Florence\, PA\, 15944
ATTACH;FMTTYPE=image/png:https://newflorenceborough.org/wp-content/uploads/2017/11/photo.png
END:VEVENT
BEGIN:VEVENT
DTSTART;TZID=America/New_York:20250902T180000
DTEND;TZID=America/New_York:20250902T190000
DTSTAMP:20260425T100340
CREATED:20250112T154141Z
LAST-MODIFIED:20250112T154141Z
UID:5793-1756836000-1756839600@newflorenceborough.org
SUMMARY:New Florence Community Development Monthly Meeting
DESCRIPTION:The New Florence Community Development organization holds monthly meetings on the first Tuesday of the month.  The meetings start at 6 pm at the borough building.  The meetings are open to the public and all are welcome to attend.  If you need more information\, you can email the group at contactnfcd@gmail.com or call Misty Clawson\, the President\, at 724-464-7984.  The group also posts regularly on their Facebook page.  New Florence Community Development.  Thank you.
URL:https://newflorenceborough.org/event/new-florence-community-development-monthly-meeting-8/
LOCATION:Borough Building\, 119 Franklin Street\, New Florence\, PA\, 15944
ATTACH;FMTTYPE=image/png:https://newflorenceborough.org/wp-content/uploads/2017/11/photo.png
END:VEVENT
BEGIN:VEVENT
DTSTART;TZID=America/New_York:20250902T190000
DTEND;TZID=America/New_York:20250902T200000
DTSTAMP:20260425T100340
CREATED:20250831T210117Z
LAST-MODIFIED:20250831T210117Z
UID:6398-1756839600-1756843200@newflorenceborough.org
SUMMARY:Join Cub Scouts!
DESCRIPTION:With school starting back up\, the area Scouting groups are getting going again.  The Cub Scouts are having their first meeting on September 2nd at the New Florence Volunteer Fire Department building.  Please see the flyer below for more information.
URL:https://newflorenceborough.org/event/join-cub-scouts/
LOCATION:New Florence Volunteer Fire Department\, 177 13th Street\, New Florence\, PA\, 15944
ATTACH;FMTTYPE=image/png:https://newflorenceborough.org/wp-content/uploads/2017/11/photo.png
END:VEVENT
BEGIN:VEVENT
DTSTART;TZID=America/New_York:20250904T183000
DTEND;TZID=America/New_York:20250904T193000
DTSTAMP:20260425T100340
CREATED:20250201T024323Z
LAST-MODIFIED:20250201T024323Z
UID:5869-1757010600-1757014200@newflorenceborough.org
SUMMARY:New Florence/St Clair Sanitation Authority Meeting
DESCRIPTION:The New Florence/St. Clair Township Sanitation Authority will hold their regularly scheduled meetings at the New Florence Sewage Authority office at 117 Franklin St.\, New Florence\, PA 15944 at 6:30 pm on the first Thursday of every month starting March 2025.  The meetings are open to the public.  Any changes to the schedule are published in the Johnstown Tribune Democrat newspaper. \nNew Florence/St. Clair Township Sanitation Authority Tribune Democrat Notice December 2024
URL:https://newflorenceborough.org/event/new-florence-st-clair-sanitation-authority-meeting-37/
LOCATION:New Florence/St. Clair Township Sanitation Authority\, 117 Franklin Street\, New Florence\, PA\, 15944\, United States
ATTACH;FMTTYPE=image/png:https://newflorenceborough.org/wp-content/uploads/2017/11/photo.png
END:VEVENT
BEGIN:VEVENT
DTSTART;TZID=America/New_York:20250906T090000
DTEND;TZID=America/New_York:20250906T130000
DTSTAMP:20260425T100340
CREATED:20250810T141247Z
LAST-MODIFIED:20250810T141247Z
UID:6337-1757149200-1757163600@newflorenceborough.org
SUMMARY:New Florence VFD Sub Sale
DESCRIPTION:The New Florence Volunteer Fire Department will be having their next sub sale and rippie party on September 6th.   If you need more information\, contact the fire department.  Thank you.
URL:https://newflorenceborough.org/event/new-florence-vfd-sub-sale-32/
LOCATION:New Florence Volunteer Fire Department\, 177 13th Street\, New Florence\, PA\, 15944
ATTACH;FMTTYPE=image/png:https://newflorenceborough.org/wp-content/uploads/2017/11/photo.png
END:VEVENT
BEGIN:VEVENT
DTSTART;TZID=America/New_York:20250906T173000
DTEND;TZID=America/New_York:20250906T210000
DTSTAMP:20260425T100340
CREATED:20250810T141039Z
LAST-MODIFIED:20250906T130647Z
UID:6335-1757179800-1757192400@newflorenceborough.org
SUMMARY:New Florence VFD Rippie Night - Cancelled
DESCRIPTION:Sorry\, the VFD has cancelled this Rippie Party. \n \nThe New Florence Volunteer Fire Department will be having their next sub sale and rippie party on September 6th.   If you need more information\, contact the fire department.  Thank you.
URL:https://newflorenceborough.org/event/new-florence-vfd-rippie-night-42/
LOCATION:New Florence Volunteer Fire Department\, 177 13th Street\, New Florence\, PA\, 15944
ATTACH;FMTTYPE=image/png:https://newflorenceborough.org/wp-content/uploads/2017/11/photo.png
END:VEVENT
BEGIN:VEVENT
DTSTART;TZID=America/New_York:20250907T103000
DTEND;TZID=America/New_York:20250907T113000
DTSTAMP:20260425T100340
CREATED:20250906T131325Z
LAST-MODIFIED:20250906T131325Z
UID:6416-1757241000-1757244600@newflorenceborough.org
SUMMARY:New Florence Community Church Service
DESCRIPTION:Check out this combined church service the New Florence Methodist Church and New Life Church are hosting at the fire hall parking lot.  Please come out and join the fellowship.
URL:https://newflorenceborough.org/event/new-florence-community-church-service/
LOCATION:New Florence Volunteer Fire Department\, 177 13th Street\, New Florence\, PA\, 15944
ATTACH;FMTTYPE=image/png:https://newflorenceborough.org/wp-content/uploads/2017/11/photo.png
END:VEVENT
BEGIN:VEVENT
DTSTART;TZID=America/New_York:20250907T160000
DTEND;TZID=America/New_York:20250907T180000
DTSTAMP:20260425T100340
CREATED:20250831T210534Z
LAST-MODIFIED:20250831T210534Z
UID:6400-1757260800-1757268000@newflorenceborough.org
SUMMARY:Girl Scouts Recruitment Event - You're Invited to a WICKED Party!
DESCRIPTION:With school starting back up\, the area Scouting groups are getting going again.  The Girl Scouts are having a Wicked Party on September 7th at the Faith Lutheran Church on Rt. 22.  Check out the flyer below for more information.  Thanks.
URL:https://newflorenceborough.org/event/girl-scouts-recruitment-event-youre-invited-to-a-wicked-party/
LOCATION:Faith Lutheran Church\, 6810 US-22\, New Florence\, PA\, 15944\, United States
ATTACH;FMTTYPE=image/png:https://newflorenceborough.org/wp-content/uploads/2017/11/photo.png
END:VEVENT
BEGIN:VEVENT
DTSTART;TZID=America/New_York:20250909T180000
DTEND;TZID=America/New_York:20250909T190000
DTSTAMP:20260425T100340
CREATED:20250822T122421Z
LAST-MODIFIED:20250822T122421Z
UID:6369-1757440800-1757444400@newflorenceborough.org
SUMMARY:New Florence Community Library Literary Escape Book Club for Adults
DESCRIPTION:Please consider participating in the library’s adult book club.  September’s book is\, The Wedding People\, by Alison Espach. Stop by the Library and pick up your copy if you don’t already have it.  Give the library a call if you need more information.  Thanks.
URL:https://newflorenceborough.org/event/new-florence-community-library-literary-escape-book-club-for-adults-9/
LOCATION:New Florence Community Library\, 122 N Ligonier St.\, New Florence\, PA\, 15944
ATTACH;FMTTYPE=image/png:https://newflorenceborough.org/wp-content/uploads/2017/11/photo.png
END:VEVENT
BEGIN:VEVENT
DTSTART;TZID=America/New_York:20250916T183000
DTEND;TZID=America/New_York:20250916T193000
DTSTAMP:20260425T100340
CREATED:20250107T225134Z
LAST-MODIFIED:20250914T112940Z
UID:5713-1758047400-1758051000@newflorenceborough.org
SUMMARY:Borough Council Meeting
DESCRIPTION:The borough council meets monthly on the third Tuesday of each month at the borough building located at 119 Franklin Street in New Florence at 6:30 p.m. The meetings are open to the public and all are encouraged to attend. \nHere is the agenda for the meeting. AGENDA 09-16-25 \nAdditionally\, please see this notice.
URL:https://newflorenceborough.org/event/borough-council-meeting-86/
LOCATION:Borough Building\, 119 Franklin Street\, New Florence\, PA\, 15944
ATTACH;FMTTYPE=image/png:https://newflorenceborough.org/wp-content/uploads/2017/11/photo.png
END:VEVENT
BEGIN:VEVENT
DTSTART;TZID=America/New_York:20250917T130000
DTEND;TZID=America/New_York:20250917T143000
DTSTAMP:20260425T100340
CREATED:20250906T131028Z
LAST-MODIFIED:20250906T131028Z
UID:6413-1758114000-1758119400@newflorenceborough.org
SUMMARY:New Florence Community Library Constitution Day Livestream
DESCRIPTION:Check out this very interesting livestream party the library will be hosting.  This should be really educational.  Mt. Vernon is an amazing place if you ever get a chance to visit there.  Greg
URL:https://newflorenceborough.org/event/new-florence-community-library-constitution-day-livestream/
LOCATION:New Florence Community Library\, 122 N Ligonier St.\, New Florence\, PA\, 15944
ATTACH;FMTTYPE=image/png:https://newflorenceborough.org/wp-content/uploads/2017/11/photo.png
END:VEVENT
BEGIN:VEVENT
DTSTART;TZID=America/New_York:20250919T090000
DTEND;TZID=America/New_York:20250919T153000
DTSTAMP:20260425T100340
CREATED:20250822T121743Z
LAST-MODIFIED:20250822T121743Z
UID:6365-1758272400-1758295800@newflorenceborough.org
SUMMARY:New Florence Senior Center Open House September 2025
DESCRIPTION:Join us for our Open House on September 27th! Starts at 9:30am! Vendors\, entertainment\, and food! Come and socialize and see what all the Center offers to seniors!
URL:https://newflorenceborough.org/event/new-florence-senior-center-open-house-september-2025/
LOCATION:New Florence Senior Center\, 216 Ligonier Street\, New Florence\, PA\, 15944\, United States
ATTACH;FMTTYPE=image/png:https://newflorenceborough.org/wp-content/uploads/2017/11/photo.png
END:VEVENT
BEGIN:VEVENT
DTSTART;TZID=America/New_York:20250920T150000
DTEND;TZID=America/New_York:20250920T210000
DTSTAMP:20260425T100340
CREATED:20250810T142048Z
LAST-MODIFIED:20250810T142048Z
UID:6339-1758380400-1758402000@newflorenceborough.org
SUMMARY:NF VFD Fall Gun Bash - September 2025
DESCRIPTION:The New Florence Volunteer Fire Department will be holding their Annual Keith Boring Fall Bash on Saturday\, September 20th\, 2025.  The doors open at 3 pm.  This is a great fundraiser for the fire department.  Ticket are on sale now!  Please come out and support them.  Thank you.
URL:https://newflorenceborough.org/event/nf-vfd-fall-gun-bash-september-2025/
LOCATION:New Florence Volunteer Fire Department\, 177 13th Street\, New Florence\, PA\, 15944
ATTACH;FMTTYPE=image/png:https://newflorenceborough.org/wp-content/uploads/2017/11/photo.png
END:VEVENT
BEGIN:VEVENT
DTSTART;TZID=America/New_York:20250923T140000
DTEND;TZID=America/New_York:20250923T190000
DTSTAMP:20260425T100340
CREATED:20250822T123132Z
LAST-MODIFIED:20250822T123132Z
UID:6371-1758636000-1758654000@newflorenceborough.org
SUMMARY:New Florence Community Library Craft Class with Panes of Promise Glass Art
DESCRIPTION:Check out these fun classes the library is hosting.  There will be two different sessions where a glass framed picture is made.  There’s the Pumpkin Trio session and then the Autumn Forest session.  The flyer below has more information or you can give the library a call to help figure out the scheduling.  Thanks. \n \n 
URL:https://newflorenceborough.org/event/new-florence-community-library-craft-class-with-panes-of-promise-glass-art/
LOCATION:New Florence Community Library\, 122 N Ligonier St.\, New Florence\, PA\, 15944
ATTACH;FMTTYPE=image/png:https://newflorenceborough.org/wp-content/uploads/2017/11/photo.png
END:VEVENT
BEGIN:VEVENT
DTSTART;TZID=America/New_York:20250927T110000
DTEND;TZID=America/New_York:20250927T150000
DTSTAMP:20260425T100340
CREATED:20250822T122053Z
LAST-MODIFIED:20250822T122053Z
UID:6367-1758970800-1758985200@newflorenceborough.org
SUMMARY:New Florence Senior Center Special Saturday Bingo
DESCRIPTION:We are excited to announce that we will be holding another SATURDAY bingo!  Please call the center or message us on our Facebook page New Florence Senior Center to reserve your spot!
URL:https://newflorenceborough.org/event/new-florence-senior-center-special-saturday-bingo-3/
LOCATION:New Florence Senior Center\, 216 Ligonier Street\, New Florence\, PA\, 15944\, United States
ATTACH;FMTTYPE=image/png:https://newflorenceborough.org/wp-content/uploads/2017/11/photo.png
END:VEVENT
BEGIN:VEVENT
DTSTART;TZID=America/New_York:20250927T190000
DTEND;TZID=America/New_York:20250927T190000
DTSTAMP:20260425T100340
CREATED:20250827T024104Z
LAST-MODIFIED:20250827T024104Z
UID:6386-1758999600-1758999600@newflorenceborough.org
SUMMARY:New Florence Community Library "Harvest Time" $500 CASH Quick Ticket
DESCRIPTION:Please check out this exciting fall raffle the library is holding as a fundraiser.  If you need more information\, please give the library a call.
URL:https://newflorenceborough.org/event/new-florence-community-library-harvest-time-500-cash-quick-ticket/
LOCATION:New Florence Community Library\, 122 N Ligonier St.\, New Florence\, PA\, 15944
ATTACH;FMTTYPE=image/png:https://newflorenceborough.org/wp-content/uploads/2017/11/photo.png
END:VEVENT
BEGIN:VEVENT
DTSTART;TZID=America/New_York:20250928T130000
DTEND;TZID=America/New_York:20250928T170000
DTSTAMP:20260425T100340
CREATED:20250112T030915Z
LAST-MODIFIED:20250925T010846Z
UID:5771-1759064400-1759078800@newflorenceborough.org
SUMMARY:New Florence Craft and Vendor Show - 2025
DESCRIPTION:The New Florence Community Development announced their Craft and Vendor Show will be on September 22nd.  The event will be at the town’s playground.  Come and enjoy a day full of local vendors.  There will be something for everyone!  Stay tuned for more updates. \n \nHere is an updated announcement for the show. \n \nHere is another update on the event. \n \nHere’s an update about the corn hole tournament.
URL:https://newflorenceborough.org/event/new-florence-craft-and-vendor-show-2025/
LOCATION:New Florence Playground\, 13th Street\, New Florence\, PA\, 15944\, United States
ATTACH;FMTTYPE=image/png:https://newflorenceborough.org/wp-content/uploads/2017/11/photo.png
END:VEVENT
BEGIN:VEVENT
DTSTART;TZID=America/New_York:20250930T100000
DTEND;TZID=America/New_York:20251027T170000
DTSTAMP:20260425T100340
CREATED:20251006T023410Z
LAST-MODIFIED:20251006T023410Z
UID:6496-1759226400-1761584400@newflorenceborough.org
SUMMARY:New Florence Community Library Fall Book Sale 2025
DESCRIPTION:The New Florence Community Library will be having one of their yearly book sales from September 30th to October 27th.  Please see the flyer below or give the library a call for more information.
URL:https://newflorenceborough.org/event/new-florence-community-library-fall-book-sale-2025/
LOCATION:New Florence Community Library\, 122 N Ligonier St.\, New Florence\, PA\, 15944
ATTACH;FMTTYPE=image/png:https://newflorenceborough.org/wp-content/uploads/2017/11/photo.png
END:VEVENT
END:VCALENDAR