BEGIN:VCALENDAR
VERSION:2.0
PRODID:-//New Florence Borough - ECPv6.15.20//NONSGML v1.0//EN
CALSCALE:GREGORIAN
METHOD:PUBLISH
X-ORIGINAL-URL:https://newflorenceborough.org
X-WR-CALDESC:Events for New Florence Borough
REFRESH-INTERVAL;VALUE=DURATION:PT1H
X-Robots-Tag:noindex
X-PUBLISHED-TTL:PT1H
BEGIN:VTIMEZONE
TZID:America/New_York
BEGIN:DAYLIGHT
TZOFFSETFROM:-0500
TZOFFSETTO:-0400
TZNAME:EDT
DTSTART:20230312T070000
END:DAYLIGHT
BEGIN:STANDARD
TZOFFSETFROM:-0400
TZOFFSETTO:-0500
TZNAME:EST
DTSTART:20231105T060000
END:STANDARD
BEGIN:DAYLIGHT
TZOFFSETFROM:-0500
TZOFFSETTO:-0400
TZNAME:EDT
DTSTART:20240310T070000
END:DAYLIGHT
BEGIN:STANDARD
TZOFFSETFROM:-0400
TZOFFSETTO:-0500
TZNAME:EST
DTSTART:20241103T060000
END:STANDARD
BEGIN:DAYLIGHT
TZOFFSETFROM:-0500
TZOFFSETTO:-0400
TZNAME:EDT
DTSTART:20250309T070000
END:DAYLIGHT
BEGIN:STANDARD
TZOFFSETFROM:-0400
TZOFFSETTO:-0500
TZNAME:EST
DTSTART:20251102T060000
END:STANDARD
END:VTIMEZONE
BEGIN:VEVENT
DTSTART;TZID=America/New_York:20241019T140000
DTEND;TZID=America/New_York:20241019T160000
DTSTAMP:20260425T084645
CREATED:20240923T220843Z
LAST-MODIFIED:20240923T220843Z
UID:5432-1729346400-1729353600@newflorenceborough.org
SUMMARY:Pumpkin Carving Party 2024
DESCRIPTION:The New Florence Community Development will be hosting a pumpkin carving party.  Please see the flyer below.  If you need more information you can contact the committee at contactnfcd@gmail.com.  Thank you.
URL:https://newflorenceborough.org/event/pumpkin-carving-party-2024/
LOCATION:New Florence Playground\, 13th Street\, New Florence\, PA\, 15944\, United States
ATTACH;FMTTYPE=image/png:https://newflorenceborough.org/wp-content/uploads/2017/11/photo.png
END:VEVENT
BEGIN:VEVENT
DTSTART;VALUE=DATE:20241021
DTEND;VALUE=DATE:20241022
DTSTAMP:20260425T084645
CREATED:20240913T184043Z
LAST-MODIFIED:20240913T184043Z
UID:5388-1729468800-1729555199@newflorenceborough.org
SUMMARY:2024 General Election - Last Day to Register to Vote in the General Election
DESCRIPTION:Please see the flyer below.  Thanks.
URL:https://newflorenceborough.org/event/2024-general-election-last-day-to-register-to-vote-in-the-general-election/
LOCATION:PA
ATTACH;FMTTYPE=image/png:https://newflorenceborough.org/wp-content/uploads/2017/11/photo.png
END:VEVENT
BEGIN:VEVENT
DTSTART;TZID=America/New_York:20241022T080000
DTEND;TZID=America/New_York:20241022T230000
DTSTAMP:20260425T084645
CREATED:20240828T015758Z
LAST-MODIFIED:20240828T015758Z
UID:5331-1729584000-1729638000@newflorenceborough.org
SUMMARY:New Florence Community Library Boscov's Friends Helping Friends Fundraiser
DESCRIPTION:Check out this fundraiser the library is having.  Thanks. \n \n 
URL:https://newflorenceborough.org/event/new-florence-community-library-boscovs-friends-helping-friends-fundraiser-2/
LOCATION:New Florence Community Library\, 122 N Ligonier St.\, New Florence\, PA\, 15944
ATTACH;FMTTYPE=image/png:https://newflorenceborough.org/wp-content/uploads/2017/11/photo.png
END:VEVENT
BEGIN:VEVENT
DTSTART;TZID=America/New_York:20241022T170000
DTEND;TZID=America/New_York:20241022T170000
DTSTAMP:20260425T084645
CREATED:20240828T020324Z
LAST-MODIFIED:20240828T020324Z
UID:5337-1729616400-1729616400@newflorenceborough.org
SUMMARY:New Florence Community Library Dutch Mill Bulbs Fundraiser
DESCRIPTION:Check out this fundraiser the library is having.  Keep in mind there are two different deadline dates.  One is for ordering online and the other is if you order in person at the library.  If you have questions\, please give the library a call.  Thanks.
URL:https://newflorenceborough.org/event/new-florence-community-library-dutch-mill-bulbs-fundraiser/
LOCATION:New Florence Community Library\, 122 N Ligonier St.\, New Florence\, PA\, 15944
ATTACH;FMTTYPE=image/png:https://newflorenceborough.org/wp-content/uploads/2017/11/photo.png
END:VEVENT
BEGIN:VEVENT
DTSTART;TZID=America/New_York:20241026T140000
DTEND;TZID=America/New_York:20241026T160000
DTSTAMP:20260425T084645
CREATED:20241023T024443Z
LAST-MODIFIED:20241023T024443Z
UID:5506-1729951200-1729958400@newflorenceborough.org
SUMMARY:New Florence VFD Duel Wet Down Open House
DESCRIPTION:Check out this unique event the fire department will be hosting.
URL:https://newflorenceborough.org/event/new-florence-vfd-duel-wet-down-open-house/
LOCATION:New Florence Volunteer Fire Department\, 177 13th Street\, New Florence\, PA\, 15944
ATTACH;FMTTYPE=image/png:https://newflorenceborough.org/wp-content/uploads/2017/11/photo.png
END:VEVENT
BEGIN:VEVENT
DTSTART;TZID=America/New_York:20241026T200000
DTEND;TZID=America/New_York:20241026T230000
DTSTAMP:20260425T084645
CREATED:20241024T130448Z
LAST-MODIFIED:20241024T130448Z
UID:5517-1729972800-1729983600@newflorenceborough.org
SUMMARY:New Florence VFW Halloween Dance
DESCRIPTION:The New Florence Veterans of Foreign Wars (VFW Post 7622) will be having a Halloween Dance hosted by DJ Wayne.  The dance is open to the public.  For more information give the club a call at 724-235-9904.  Thank you.
URL:https://newflorenceborough.org/event/new-florence-vfw-halloween-dance-2/
LOCATION:New Florence VFW\, 6215 Route 711\, New Florence\, PA\, 15944
ATTACH;FMTTYPE=image/png:https://newflorenceborough.org/wp-content/uploads/2017/11/photo.png
END:VEVENT
BEGIN:VEVENT
DTSTART;TZID=America/New_York:20241027T130000
DTEND;TZID=America/New_York:20241027T160000
DTSTAMP:20260425T084645
CREATED:20240920T134539Z
LAST-MODIFIED:20241001T180018Z
UID:5415-1730034000-1730044800@newflorenceborough.org
SUMMARY:New Florence Halloween Parade and Trick or Treating 2024
DESCRIPTION:The New Florence Community Development has set Trick or Treating in New Florence for October 27th.  The parade will start at 1 pm.  Trick or Treating will be from 2 pm to 4 pm.  Additional information will be added to this event as it become available.  You can also contact the committee at nflcommunitydev@yahoo.com.  Thank you. \n \nHere’s some food for thought on teenagers and Trick-or-Treating.
URL:https://newflorenceborough.org/event/new-florence-halloween-parade-and-trick-or-treating-2024/
LOCATION:New Florence\, PA: Multiple Locations\, New Florence\, PA\, 15944
ATTACH;FMTTYPE=image/png:https://newflorenceborough.org/wp-content/uploads/2017/11/photo.png
END:VEVENT
BEGIN:VEVENT
DTSTART;VALUE=DATE:20241029
DTEND;VALUE=DATE:20241030
DTSTAMP:20260425T084645
CREATED:20240913T184245Z
LAST-MODIFIED:20240913T184245Z
UID:5390-1730160000-1730246399@newflorenceborough.org
SUMMARY:2024 General Election - Last Day to Apply for a Mail Ballot for the General Election
DESCRIPTION:Please see the flyer below.  Thanks.
URL:https://newflorenceborough.org/event/2024-general-election-last-day-to-apply-for-a-mail-ballot-for-the-general-election/
LOCATION:PA
ATTACH;FMTTYPE=image/png:https://newflorenceborough.org/wp-content/uploads/2017/11/photo.png
END:VEVENT
BEGIN:VEVENT
DTSTART;TZID=America/New_York:20241102T090000
DTEND;TZID=America/New_York:20241102T140000
DTSTAMP:20260425T084645
CREATED:20241013T133946Z
LAST-MODIFIED:20241013T133946Z
UID:5484-1730538000-1730556000@newflorenceborough.org
SUMMARY:New Florence VFD Sub Sale
DESCRIPTION:The New Florence Volunteer Fire Department will be holding another sub sale fundraiser. Subs will be available from 9 am until they are sold out.  If you need more information\, contact the fire department.   Thank you.
URL:https://newflorenceborough.org/event/new-florence-vfd-sub-sale-23/
LOCATION:New Florence Volunteer Fire Department\, 177 13th Street\, New Florence\, PA\, 15944
ATTACH;FMTTYPE=image/png:https://newflorenceborough.org/wp-content/uploads/2017/11/photo.png
END:VEVENT
BEGIN:VEVENT
DTSTART;TZID=America/New_York:20241102T173000
DTEND;TZID=America/New_York:20241102T210000
DTSTAMP:20260425T084645
CREATED:20241013T134140Z
LAST-MODIFIED:20241030T030704Z
UID:5486-1730568600-1730581200@newflorenceborough.org
SUMMARY:New Florence VFD Rippie Night
DESCRIPTION:Here’s an updated flyer. \n \n  \nThe New Florence Volunteer Fire Department will be holding their next rippie fundraiser.  If you need more information\, please contact the fire department.  Thanks.
URL:https://newflorenceborough.org/event/new-florence-vfd-rippie-night-33/
LOCATION:New Florence Volunteer Fire Department\, 177 13th Street\, New Florence\, PA\, 15944
ATTACH;FMTTYPE=image/png:https://newflorenceborough.org/wp-content/uploads/2017/11/photo.png
END:VEVENT
BEGIN:VEVENT
DTSTART;TZID=America/New_York:20241103T110000
DTEND;TZID=America/New_York:20241103T193000
DTSTAMP:20260425T084645
CREATED:20241030T031852Z
LAST-MODIFIED:20241030T031852Z
UID:5540-1730631600-1730662200@newflorenceborough.org
SUMMARY:Spaghetti Benefit Dinner for Jamie Muir
DESCRIPTION:Please consider supporting a Laurel Valley alumni family by coming out this Sunday\, November 3rd to enjoy a spaghetti dinner\, salad\, bun\, dessert while showing love and support to Jamie\, Desi\, and girls! Cost is whatever donation you’d like to make. \nIf you have any questions\, contact Jeremy at 814-446-2427. \nThere will be a dessert auction around 1PM.
URL:https://newflorenceborough.org/event/spaghetti-benefit-dinner-for-jamie-muir/
LOCATION:Armagh/East Wheatfield Volunteer Fire Company\, 12095 Route 56 Hwy East\, Armagh\, PA\, 15920\, United States
ATTACH;FMTTYPE=image/png:https://newflorenceborough.org/wp-content/uploads/2017/11/photo.png
END:VEVENT
BEGIN:VEVENT
DTSTART;VALUE=DATE:20241104
DTEND;VALUE=DATE:20241225
DTSTAMP:20260425T084645
CREATED:20241105T015834Z
LAST-MODIFIED:20241105T015834Z
UID:5553-1730678400-1735084799@newflorenceborough.org
SUMMARY:New Florence Community Library Christmas Basket Sale
DESCRIPTION:The library has a great collection of baskets and such for sale.  This event is one of their yearly fundraisers.  Stop in the library and pick up a gift for two for those special people in you life.  The sale is ongoing until all items are sold.  The photos will give you an idea of the items available.  Thanks.
URL:https://newflorenceborough.org/event/new-florence-community-library-christmas-basket-sale/
LOCATION:New Florence Community Library\, 122 N Ligonier St.\, New Florence\, PA\, 15944
ATTACH;FMTTYPE=image/png:https://newflorenceborough.org/wp-content/uploads/2017/11/photo.png
END:VEVENT
BEGIN:VEVENT
DTSTART;TZID=America/New_York:20241105T070000
DTEND;TZID=America/New_York:20241105T200000
DTSTAMP:20260425T084645
CREATED:20240913T183733Z
LAST-MODIFIED:20240913T183733Z
UID:5386-1730790000-1730836800@newflorenceborough.org
SUMMARY:2024 General Election
DESCRIPTION:The 2024 General Election is on Tuesday\, November 5th\, 2024.  Polls will be open from 7 am to 8 pm.  The New Florence polling location is the fire department building. \n 
URL:https://newflorenceborough.org/event/2024-general-election/
LOCATION:New Florence Volunteer Fire Department\, 177 13th Street\, New Florence\, PA\, 15944
ATTACH;FMTTYPE=image/png:https://newflorenceborough.org/wp-content/uploads/2017/11/photo.png
END:VEVENT
BEGIN:VEVENT
DTSTART;TZID=America/New_York:20241107T060000
DTEND;TZID=America/New_York:20241108T063000
DTSTAMP:20260425T084645
CREATED:20240913T182706Z
LAST-MODIFIED:20241030T030507Z
UID:5382-1730959200-1731047400@newflorenceborough.org
SUMMARY:Huff Railroad Crossing Closure Update - November 7th and 8th
DESCRIPTION:Here is the latest press release on the Huff railroad crossing closure. \n \nHave you been confused by the railroad crossing closure dates?  The newspaper says one thing and the sign by the crossing says another.  The last few days I’ve been chatting with the PennDOT District 10 Transportation Alternatives Set-Aside Program Coordinator.  I’d sent him the picture of the sign in Huff and that differed from their schedule.  He reached out to the railroad for an update.  He got back to me today and said it looks like the new dates will be November 6th and 7th.  He said the  railroad should be placing an updated sign at the crossing two weeks prior to the actual work.  He said he’d keep me informed of any changes.  Hope this helps all. \n \nThe following is a partial excerpt from the Indiana Gazette newspaper that was published on September 11th by Patrick Cloonan.  This posting only contains the information on the Huff closure.  There is a second closure in South Bend Township\, Armstrong County.  The article says the Huff railroad crossing will only be closed for about 24 hours.  Let’s hope that’s true.  For those who aren’t sure where this is at\, it’s the railroad crossing just north of the bridge coming out of New Florence on the way to the power plant or Rt. 22. \nRailroad crossing work slated later this month in two area townships\nThe Pennsylvania Department of Transportation in White Township-based District 10 is scheduling two upcoming events involving railroad crossings\, in West Wheatfield and Armstrong townships. \nPennDOT said there will be a closure on Huff Road (state Route 2009) in West Wheatfield Township as JMG Global performs railroad crossing work beginning Sept. 26 at 6 a.m. through Sept. 27 at 6:30 a.m. \nThe detour for the Huff Road closure is as follows: \n\nOn the north side of the railroad tracks it will be to travel north on Huff Road and turn west onto Power Plant Road (Route 2008)\, turn right onto Mulligan Hill Road (Route 2011) then left onto state Route 259 south.\n\nOne will then continue into Westmoreland County through Bolivar and turn left onto Creek Road (Route 1006)\, turn left onto state Route 711 and continue into New Florence. \nAfter that\, continue straight onto Ligonier Street (Route 1001) back into Indiana County on Huff Road (Route 2009). \n\nOn the south side of the railroad tracks the detour will be to travel south on Huff Road (Route 2009)\, continue into Westmoreland County on Ligonier Street (Route 1001)\, then continue straight onto state Route 711. Turn right onto Creek Road (Route 1006) and continue to Route 259.\n\nOne then turns right on Route 259 and travels through Bolivar into Indiana County\, and then through Robinson and turning right onto Mulligan Hill Road (Route 2011)\, turning left onto Power Plant Road (Route 2008) and then turning right on Huff Road (Route 2009). \nThe remainder of the article deals with the other railroad crossing closure.
URL:https://newflorenceborough.org/event/huff-railroad-crossing-closure/
LOCATION:Huff – West Wheatfield Township\, Huff\, PA\, 15944
ATTACH;FMTTYPE=image/png:https://newflorenceborough.org/wp-content/uploads/2017/11/photo.png
END:VEVENT
BEGIN:VEVENT
DTSTART;TZID=America/New_York:20241107T183000
DTEND;TZID=America/New_York:20241107T193000
DTSTAMP:20260425T084645
CREATED:20240107T193548Z
LAST-MODIFIED:20240107T193548Z
UID:4757-1731004200-1731007800@newflorenceborough.org
SUMMARY:New Florence/St Clair Sanitation Authority Meeting
DESCRIPTION:The New Florence/St. Clair Township Sanitation Authority holds their regularly scheduled meetings at the New Florence Sewage Authority office at 117 Franklin St.\, New Florence\, PA 15944 at 6:30 pm on the first Thursday of every month.  The meetings are open to the public.  Any changes to the schedule are published in the Johnstown Tribune Democrat newspaper.
URL:https://newflorenceborough.org/event/new-florence-st-clair-sanitation-authority-meeting-31/
LOCATION:New Florence/St. Clair Township Sanitation Authority\, 117 Franklin Street\, New Florence\, PA\, 15944\, United States
ATTACH;FMTTYPE=image/png:https://newflorenceborough.org/wp-content/uploads/2017/11/photo.png
END:VEVENT
BEGIN:VEVENT
DTSTART;TZID=America/New_York:20241110T100000
DTEND;TZID=America/New_York:20241130T170000
DTSTAMP:20260425T084645
CREATED:20241111T021143Z
LAST-MODIFIED:20241111T021143Z
UID:5573-1731232800-1732986000@newflorenceborough.org
SUMMARY:New Florence VFW "Adopt an Angel for Christmas" Fundraiser Event
DESCRIPTION:The New Florence VFW Post 7622 has an “Adopt an Angel for Christmas” fundraiser event as they support the Salvation Army this holiday season!  Please see the images below or give the club a call for more information.  Thanks.
URL:https://newflorenceborough.org/event/new-florence-vfw-adopt-an-angel-for-christmas-fundraiser-event/
LOCATION:New Florence VFW\, 6215 Route 711\, New Florence\, PA\, 15944
ATTACH;FMTTYPE=image/png:https://newflorenceborough.org/wp-content/uploads/2017/11/photo.png
END:VEVENT
BEGIN:VEVENT
DTSTART;TZID=America/New_York:20241111T100000
DTEND;TZID=America/New_York:20241111T120000
DTSTAMP:20260425T084645
CREATED:20241105T020917Z
LAST-MODIFIED:20241105T020917Z
UID:5558-1731319200-1731326400@newflorenceborough.org
SUMMARY:New Florence VFW Veterans Day Breakfast
DESCRIPTION:The New Florence Veterans of Foreign Wars (VFW Post 7622) will be hosting a Veterans Day Breakfast.  Please come out and celebrate our veterans.  They always have a guest speaker and typically the local ROTC unit from the high school has a nice program.  It’s a very nice event for those who have never attended.  For more information give the club a call at 724-235-9904.   Updates to this event will be posted as they become available.  Thank you.
URL:https://newflorenceborough.org/event/new-florence-vfw-veterans-day-breakfast-2/
LOCATION:New Florence VFW\, 6215 Route 711\, New Florence\, PA\, 15944
ATTACH;FMTTYPE=image/png:https://newflorenceborough.org/wp-content/uploads/2017/11/photo.png
END:VEVENT
BEGIN:VEVENT
DTSTART;TZID=America/New_York:20241112T123000
DTEND;TZID=America/New_York:20241112T150000
DTSTAMP:20260425T084645
CREATED:20241030T031010Z
LAST-MODIFIED:20241030T031010Z
UID:5533-1731414600-1731423600@newflorenceborough.org
SUMMARY:New Florence Senior Center Oldies But Goodies Tribute
DESCRIPTION:Check out this fun activity at the senior center.
URL:https://newflorenceborough.org/event/new-florence-senior-center-oldies-but-goodies-tribute/
LOCATION:New Florence Senior Center\, 216 Ligonier Street\, New Florence\, PA\, 15944\, United States
ATTACH;FMTTYPE=image/png:https://newflorenceborough.org/wp-content/uploads/2017/11/photo.png
END:VEVENT
BEGIN:VEVENT
DTSTART;TZID=America/New_York:20241117T120000
DTEND;TZID=America/New_York:20241117T153000
DTSTAMP:20260425T084645
CREATED:20241013T134518Z
LAST-MODIFIED:20241111T020712Z
UID:5488-1731844800-1731857400@newflorenceborough.org
SUMMARY:NF VFD Basket Party - November 2024
DESCRIPTION:Here is an updated flyer for the basket party. \n \nThe New Florence VFD will be holding a Basket Party on November 17th.  The VFD is looking for businesses\, organizations\, or individuals to make and donate a basket for the basket party.  One can take this opportunity to promote your business or venture. Gift Cards are also welcomed. Please call Amber at 814-270-1786 with any questions or if you want to donate a basket for the fundraiser.  Please see the letter below.  More information will be added to this post as it becomes available.  Thanks.
URL:https://newflorenceborough.org/event/nf-vfd-basket-party-november-2024/
LOCATION:New Florence Volunteer Fire Department\, 177 13th Street\, New Florence\, PA\, 15944
ATTACH;FMTTYPE=image/png:https://newflorenceborough.org/wp-content/uploads/2017/11/photo.png
END:VEVENT
BEGIN:VEVENT
DTSTART;VALUE=DATE:20241118
DTEND;VALUE=DATE:20241126
DTSTAMP:20260425T084645
CREATED:20241118T204957Z
LAST-MODIFIED:20241118T204957Z
UID:5601-1731888000-1732579199@newflorenceborough.org
SUMMARY:Operation Christmas Child National Shoebox Collection Week 2024
DESCRIPTION:Operation Christmas Child National Shoebox Collection week begins on Monday\, November 18.  Shannon Creek Baptist Church in New Florence is your local Drop-Off location. \nThe collection times are:\nMon.\, Wed.\, Fri.\, Sun. 6-8PM.\nTue.\, Thur.\, Sat.\, Sun.\, (Mon 25th) 10AM-noon. \nIf you have any questions\, please give the church a call.  Hope to see you there!
URL:https://newflorenceborough.org/event/operation-christmas-child-national-shoebox-collection-week-2024/
LOCATION:Shannon Creek Baptist Church\, 366 Shannon Creek Rd.\, New Florence\, PA\, 15944
ATTACH;FMTTYPE=image/png:https://newflorenceborough.org/wp-content/uploads/2017/11/photo.png
END:VEVENT
BEGIN:VEVENT
DTSTART;TZID=America/New_York:20241119T183000
DTEND;TZID=America/New_York:20241119T193000
DTSTAMP:20260425T084645
CREATED:20240107T001455Z
LAST-MODIFIED:20241118T204625Z
UID:4725-1732041000-1732044600@newflorenceborough.org
SUMMARY:Borough Council Meeting
DESCRIPTION:The borough council meets monthly on the third Tuesday of each month at the borough building located at 119 Franklin Street in New Florence at 6:30 p.m. The meetings are open to the public and all are encouraged to attend. \nHere is the agenda for the meeting. AGENDA 11-19-24
URL:https://newflorenceborough.org/event/borough-council-meeting-76/
LOCATION:Borough Building\, 119 Franklin Street\, New Florence\, PA\, 15944
ATTACH;FMTTYPE=image/png:https://newflorenceborough.org/wp-content/uploads/2017/11/photo.png
END:VEVENT
BEGIN:VEVENT
DTSTART;TZID=America/New_York:20241121T180000
DTEND;TZID=America/New_York:20241121T200000
DTSTAMP:20260425T084645
CREATED:20241105T021251Z
LAST-MODIFIED:20241115T163503Z
UID:5561-1732212000-1732219200@newflorenceborough.org
SUMMARY:New Florence VFW Turkey Raffle Fundraiser
DESCRIPTION:The New Florence Veterans of Foreign Wars (VFW Post 7622) will be hosting a turkey raffle fundraiser.  Please come out and support the club by participating in the fundraiser.  The event is open to the public.  For those that don’t know\, the club does lots of great things for the local community.  For more information give the club a call at 724-235-9904.  When a flyer becomes available\, I’ll get it posted.  Thank you. \nHere’s a flyer for the event.
URL:https://newflorenceborough.org/event/new-florence-vfw-turkey-raffle-fundraiser-4/
LOCATION:New Florence VFW\, 6215 Route 711\, New Florence\, PA\, 15944
ATTACH;FMTTYPE=image/png:https://newflorenceborough.org/wp-content/uploads/2017/11/photo.png
END:VEVENT
BEGIN:VEVENT
DTSTART;TZID=America/New_York:20241121T190000
DTEND;TZID=America/New_York:20241122T190000
DTSTAMP:20260425T084645
CREATED:20241030T032337Z
LAST-MODIFIED:20241030T032337Z
UID:5542-1732215600-1732302000@newflorenceborough.org
SUMMARY:Williams-Sonoma Basket Fundraisers for Jamie Muir and Family
DESCRIPTION:One ticket\, two numbers for chance to win one of two William Sonoma baskets worth $500. They were supposed to be printed on one ticket\, but they’re printed on two. Cost is $5 which gets you a blue ticket and yellow ticket with the same 2 numbers good for both nights the ticket goes off with the Evening Daily 3 Lottery. All proceeds benefit Jamie Muir and his family! \nIf you want to sell or buy\, send me a PM or call 814-446-2427. \nThank you\, \nJeremy
URL:https://newflorenceborough.org/event/williams-sonoma-basket-fundraisers-for-jamie-muir-and-family/
LOCATION:New Florence\, PA: Multiple Locations\, New Florence\, PA\, 15944
ATTACH;FMTTYPE=image/png:https://newflorenceborough.org/wp-content/uploads/2017/11/photo.png
END:VEVENT
BEGIN:VEVENT
DTSTART;TZID=America/New_York:20241125T180000
DTEND;TZID=America/New_York:20241125T190000
DTSTAMP:20260425T084645
CREATED:20241105T020154Z
LAST-MODIFIED:20241105T020154Z
UID:5556-1732557600-1732561200@newflorenceborough.org
SUMMARY:New Florence Community Library Essential Oils Workshop
DESCRIPTION:There’s an Oil for That meets Monday\, November 25rd at 6:00pm. This is a *FREE* monthly workshop to try out and learn how to adapt essential oils into your daily routine and cut out the toxic chemicals in your life. Learn about the doTERRA company and how they source and make their oils. Hosted by doTERRA Wellness Advocate\, Kimberly Green.  Opportunities to order products will be available but purchases are not required.  For more details\, see the flyer below or give the library a call.  Thanks.
URL:https://newflorenceborough.org/event/new-florence-community-library-essential-oils-workshop-4/
LOCATION:New Florence Community Library\, 122 N Ligonier St.\, New Florence\, PA\, 15944
ATTACH;FMTTYPE=image/png:https://newflorenceborough.org/wp-content/uploads/2017/11/photo.png
END:VEVENT
BEGIN:VEVENT
DTSTART;TZID=America/New_York:20241201T180000
DTEND;TZID=America/New_York:20241201T200000
DTSTAMP:20260425T084645
CREATED:20241115T164525Z
LAST-MODIFIED:20241115T164525Z
UID:5585-1733076000-1733083200@newflorenceborough.org
SUMMARY:Annual Tree Lighting Event - 2024
DESCRIPTION:Please join the town in the lighting of the Christmas tree.  The New Florence Community Development organization will be hosting the tree lighting ceremony on December 1st at 6pm.  There will also be a quiet period starting at 4:30pm for those with sensory issues.  Enjoy. \n 
URL:https://newflorenceborough.org/event/annual-tree-lighting-event-2024/
LOCATION:New Florence Volunteer Fire Department\, 177 13th Street\, New Florence\, PA\, 15944
ATTACH;FMTTYPE=image/png:https://newflorenceborough.org/wp-content/uploads/2017/11/photo.png
END:VEVENT
BEGIN:VEVENT
DTSTART;TZID=America/New_York:20241205T183000
DTEND;TZID=America/New_York:20241205T193000
DTSTAMP:20260425T084645
CREATED:20240107T193650Z
LAST-MODIFIED:20240107T193650Z
UID:4759-1733423400-1733427000@newflorenceborough.org
SUMMARY:New Florence/St Clair Sanitation Authority Meeting
DESCRIPTION:The New Florence/St. Clair Township Sanitation Authority holds their regularly scheduled meetings at the New Florence Sewage Authority office at 117 Franklin St.\, New Florence\, PA 15944 at 6:30 pm on the first Thursday of every month.  The meetings are open to the public.  Any changes to the schedule are published in the Johnstown Tribune Democrat newspaper.
URL:https://newflorenceborough.org/event/new-florence-st-clair-sanitation-authority-meeting-32/
LOCATION:New Florence/St. Clair Township Sanitation Authority\, 117 Franklin Street\, New Florence\, PA\, 15944\, United States
ATTACH;FMTTYPE=image/png:https://newflorenceborough.org/wp-content/uploads/2017/11/photo.png
END:VEVENT
BEGIN:VEVENT
DTSTART;TZID=America/New_York:20241207T090000
DTEND;TZID=America/New_York:20241207T140000
DTSTAMP:20260425T084645
CREATED:20241122T023538Z
LAST-MODIFIED:20241122T023538Z
UID:5611-1733562000-1733580000@newflorenceborough.org
SUMMARY:New Florence VFD Sub Sale
DESCRIPTION:The New Florence Volunteer Fire Department will be holding another sub sale fundraiser. Subs will be available from 9 am until they are sold out.  If you need more information\, contact the fire department.   Thank you.
URL:https://newflorenceborough.org/event/new-florence-vfd-sub-sale-24/
LOCATION:New Florence Volunteer Fire Department\, 177 13th Street\, New Florence\, PA\, 15944
ATTACH;FMTTYPE=image/png:https://newflorenceborough.org/wp-content/uploads/2017/11/photo.png
END:VEVENT
BEGIN:VEVENT
DTSTART;TZID=America/New_York:20241207T173000
DTEND;TZID=America/New_York:20241207T210000
DTSTAMP:20260425T084645
CREATED:20241122T023751Z
LAST-MODIFIED:20241122T023751Z
UID:5613-1733592600-1733605200@newflorenceborough.org
SUMMARY:New Florence VFD Rippie Night
DESCRIPTION:The New Florence Volunteer Fire Department will be holding their next rippie fundraiser.  If you need more information\, please contact the fire department.  Thanks.
URL:https://newflorenceborough.org/event/new-florence-vfd-rippie-night-34/
LOCATION:New Florence Volunteer Fire Department\, 177 13th Street\, New Florence\, PA\, 15944
ATTACH;FMTTYPE=image/png:https://newflorenceborough.org/wp-content/uploads/2017/11/photo.png
END:VEVENT
BEGIN:VEVENT
DTSTART;TZID=America/New_York:20241209T190000
DTEND;TZID=America/New_York:20241209T190000
DTSTAMP:20260425T084645
CREATED:20241023T024929Z
LAST-MODIFIED:20241023T024929Z
UID:5509-1733770800-1733770800@newflorenceborough.org
SUMMARY:New Florence Community Development "Christmas Cash" Raffle
DESCRIPTION:The New Florence Community Development is selling “Christmas Cash” raffle tickets.  Monies raised will help fund their activities and get more trees trimmed along Ligonier Street.  Please contact one of the members threw Facebook to purchase a ticket.  They’ll also be selling tickets at various activities in the community.
URL:https://newflorenceborough.org/event/new-florence-community-development-christmas-cash-raffle/
LOCATION:New Florence\, PA: Multiple Locations\, New Florence\, PA\, 15944
ATTACH;FMTTYPE=image/png:https://newflorenceborough.org/wp-content/uploads/2017/11/photo.png
END:VEVENT
BEGIN:VEVENT
DTSTART;TZID=America/New_York:20241210T180000
DTEND;TZID=America/New_York:20241210T193000
DTSTAMP:20260425T084645
CREATED:20241115T163929Z
LAST-MODIFIED:20241115T163929Z
UID:5583-1733853600-1733859000@newflorenceborough.org
SUMMARY:New Florence Community Library Literary Escape Book Club for Adults
DESCRIPTION:Please consider participating in the library’s adult book club.  December’s book\, A Gentleman in Moscow\, is by Amor Towles. Stop by the Library and pick up your copy if you don’t already have it.  Give the library a call if you need more information.  Thanks.
URL:https://newflorenceborough.org/event/new-florence-community-library-literary-escape-book-club-for-adults-3/
LOCATION:New Florence Community Library\, 122 N Ligonier St.\, New Florence\, PA\, 15944
ATTACH;FMTTYPE=image/png:https://newflorenceborough.org/wp-content/uploads/2017/11/photo.png
END:VEVENT
END:VCALENDAR