BEGIN:VCALENDAR
VERSION:2.0
PRODID:-//New Florence Borough - ECPv6.15.20//NONSGML v1.0//EN
CALSCALE:GREGORIAN
METHOD:PUBLISH
X-WR-CALNAME:New Florence Borough
X-ORIGINAL-URL:https://newflorenceborough.org
X-WR-CALDESC:Events for New Florence Borough
REFRESH-INTERVAL;VALUE=DURATION:PT1H
X-Robots-Tag:noindex
X-PUBLISHED-TTL:PT1H
BEGIN:VTIMEZONE
TZID:America/New_York
BEGIN:DAYLIGHT
TZOFFSETFROM:-0500
TZOFFSETTO:-0400
TZNAME:EDT
DTSTART:20240310T070000
END:DAYLIGHT
BEGIN:STANDARD
TZOFFSETFROM:-0400
TZOFFSETTO:-0500
TZNAME:EST
DTSTART:20241103T060000
END:STANDARD
BEGIN:DAYLIGHT
TZOFFSETFROM:-0500
TZOFFSETTO:-0400
TZNAME:EDT
DTSTART:20250309T070000
END:DAYLIGHT
BEGIN:STANDARD
TZOFFSETFROM:-0400
TZOFFSETTO:-0500
TZNAME:EST
DTSTART:20251102T060000
END:STANDARD
BEGIN:DAYLIGHT
TZOFFSETFROM:-0500
TZOFFSETTO:-0400
TZNAME:EDT
DTSTART:20260308T070000
END:DAYLIGHT
BEGIN:STANDARD
TZOFFSETFROM:-0400
TZOFFSETTO:-0500
TZNAME:EST
DTSTART:20261101T060000
END:STANDARD
END:VTIMEZONE
BEGIN:VEVENT
DTSTART;TZID=America/New_York:20251101T173000
DTEND;TZID=America/New_York:20251101T210000
DTSTAMP:20260425T101852
CREATED:20251024T141952Z
LAST-MODIFIED:20251030T124919Z
UID:6535-1762018200-1762030800@newflorenceborough.org
SUMMARY:New Florence VFD Rippie Night
DESCRIPTION:The New Florence Volunteer Fire Department will be having their next sub sale and rippie party on November 1st.   If you need more information\, contact the fire department.  Thank you. \n \nHere’s an updated flyer for the rippie party.
URL:https://newflorenceborough.org/event/new-florence-vfd-rippie-night-44/
LOCATION:New Florence Volunteer Fire Department\, 177 13th Street\, New Florence\, PA\, 15944
ATTACH;FMTTYPE=image/png:https://newflorenceborough.org/wp-content/uploads/2017/11/photo.png
END:VEVENT
BEGIN:VEVENT
DTSTART;VALUE=DATE:20251103
DTEND;VALUE=DATE:20251225
DTSTAMP:20260425T101852
CREATED:20251104T034306Z
LAST-MODIFIED:20251104T034306Z
UID:6590-1762128000-1766620799@newflorenceborough.org
SUMMARY:New Florence Community Library Christmas Basket Sale
DESCRIPTION:The library has a great collection of baskets and such for sale.  This event is one of their yearly fundraisers.  Stop in the library and pick up a gift for two for those special people in you life.  The sale is ongoing until all items are sold.  The photos will give you an idea of the items available.  Thanks. \n \n \n \n 
URL:https://newflorenceborough.org/event/new-florence-community-library-christmas-basket-sale-2/
LOCATION:New Florence Community Library\, 122 N Ligonier St.\, New Florence\, PA\, 15944
ATTACH;FMTTYPE=image/png:https://newflorenceborough.org/wp-content/uploads/2017/11/photo.png
END:VEVENT
BEGIN:VEVENT
DTSTART;VALUE=DATE:20251103
DTEND;VALUE=DATE:20251129
DTSTAMP:20260425T101852
CREATED:20251104T035512Z
LAST-MODIFIED:20251104T035512Z
UID:6594-1762128000-1764374399@newflorenceborough.org
SUMMARY:New Florence VFW "Adopt an Angel for Christmas" Event
DESCRIPTION:The New Florence VFW Post 7622 has an “Adopt an Angel for Christmas” event as they support the Salvation Army this holiday season!  Their Angel Tree has arrived!  Please return unwrapped gifts\, with the tag\, no later than close of business on November 28th.  Help them fill all the wishes on the tags in support of the children in our community.  Please give the club a call for more information.  Thanks. \n \n \n  \n 
URL:https://newflorenceborough.org/event/new-florence-vfw-adopt-an-angel-for-christmas-event/
LOCATION:New Florence VFW\, 6215 Route 711\, New Florence\, PA\, 15944
ATTACH;FMTTYPE=image/png:https://newflorenceborough.org/wp-content/uploads/2017/11/photo.png
END:VEVENT
BEGIN:VEVENT
DTSTART;TZID=America/New_York:20251104T070000
DTEND;TZID=America/New_York:20251104T200000
DTSTAMP:20260425T101852
CREATED:20250916T165238Z
LAST-MODIFIED:20250925T005827Z
UID:6448-1762239600-1762286400@newflorenceborough.org
SUMMARY:2025 Municipal Election Important Dates - Election Day!
DESCRIPTION:The 2025 Municipal Election is on Tuesday\, November 4th\, 2025.  Polls will be open from 7 am to 8 pm.  The New Florence polling location is the fire department building.  Please get out and vote! \n \nHere are unofficial ballots put out by the county.  Keep in mind six of the seven council seats are up for election.  Gwen Dellett’s seat is the only one not up for reelection.  The council got out of whack when write-in candidates decided not to accept the positions.  When that happens\, the council can only appoint a replacement until the next elections are held.  The borough council will have four 4-year term positions and two 2-year term positions on the ballot to get back on track.  I will post the official ballot once it becomes available.  Please see the images below for more information.
URL:https://newflorenceborough.org/event/2025-municipal-election-important-dates-election-day/
LOCATION:New Florence Volunteer Fire Department\, 177 13th Street\, New Florence\, PA\, 15944
ATTACH;FMTTYPE=image/png:https://newflorenceborough.org/wp-content/uploads/2017/11/photo.png
END:VEVENT
BEGIN:VEVENT
DTSTART;TZID=America/New_York:20251104T080000
DTEND;TZID=America/New_York:20251104T140000
DTSTAMP:20260425T101852
CREATED:20251104T032831Z
LAST-MODIFIED:20251104T032831Z
UID:6584-1762243200-1762264800@newflorenceborough.org
SUMMARY:Library Election Day Bake Sale
DESCRIPTION:The New Florence Community Library will be holding a bake sale on election day at the fire hall.  Please come out and support the library by purchasing some delicious baked goods.  The sale starts at 8 am and goes until they are sold out.  Thank you.
URL:https://newflorenceborough.org/event/library-election-day-bake-sale-5/
LOCATION:New Florence Volunteer Fire Department\, 177 13th Street\, New Florence\, PA\, 15944
ATTACH;FMTTYPE=image/png:https://newflorenceborough.org/wp-content/uploads/2017/11/photo.png
END:VEVENT
BEGIN:VEVENT
DTSTART;TZID=America/New_York:20251104T180000
DTEND;TZID=America/New_York:20251104T190000
DTSTAMP:20260425T101852
CREATED:20250112T154434Z
LAST-MODIFIED:20250112T154434Z
UID:5797-1762279200-1762282800@newflorenceborough.org
SUMMARY:New Florence Community Development Monthly Meeting
DESCRIPTION:The New Florence Community Development organization holds monthly meetings on the first Tuesday of the month.  The meetings start at 6 pm at the borough building.  The meetings are open to the public and all are welcome to attend.  If you need more information\, you can email the group at contactnfcd@gmail.com or call Misty Clawson\, the President\, at 724-464-7984.  The group also posts regularly on their Facebook page.  New Florence Community Development.  Thank you.
URL:https://newflorenceborough.org/event/new-florence-community-development-monthly-meeting-10/
LOCATION:Borough Building\, 119 Franklin Street\, New Florence\, PA\, 15944
ATTACH;FMTTYPE=image/png:https://newflorenceborough.org/wp-content/uploads/2017/11/photo.png
END:VEVENT
BEGIN:VEVENT
DTSTART;TZID=America/New_York:20251106T180000
DTEND;TZID=America/New_York:20251106T200000
DTSTAMP:20260425T101852
CREATED:20251031T003159Z
LAST-MODIFIED:20251031T003159Z
UID:6564-1762452000-1762459200@newflorenceborough.org
SUMMARY:New Florence VFW Turkey Raffle Fundraiser
DESCRIPTION:The New Florence Veterans of Foreign Wars (VFW Post 7622) will be hosting a turkey raffle fundraiser.  Please come out and support the club by participating in the fundraiser.  The event is open to the public.  For those that don’t know\, the club does lots of great things for the local community.  For more information give the club a call at 724-235-9904.  Thank you.
URL:https://newflorenceborough.org/event/new-florence-vfw-turkey-raffle-fundraiser-5/
LOCATION:New Florence VFW\, 6215 Route 711\, New Florence\, PA\, 15944
ATTACH;FMTTYPE=image/png:https://newflorenceborough.org/wp-content/uploads/2017/11/photo.png
END:VEVENT
BEGIN:VEVENT
DTSTART;TZID=America/New_York:20251106T183000
DTEND;TZID=America/New_York:20251106T193000
DTSTAMP:20260425T101852
CREATED:20250201T024044Z
LAST-MODIFIED:20250201T024044Z
UID:5867-1762453800-1762457400@newflorenceborough.org
SUMMARY:New Florence/St Clair Sanitation Authority Meeting
DESCRIPTION:The New Florence/St. Clair Township Sanitation Authority will hold their regularly scheduled meetings at the New Florence Sewage Authority office at 117 Franklin St.\, New Florence\, PA 15944 at 6:30 pm on the first Thursday of every month starting March 2025.  The meetings are open to the public.  Any changes to the schedule are published in the Johnstown Tribune Democrat newspaper. \nNew Florence/St. Clair Township Sanitation Authority Tribune Democrat Notice December 2024
URL:https://newflorenceborough.org/event/new-florence-st-clair-sanitation-authority-meeting-36/
LOCATION:New Florence/St. Clair Township Sanitation Authority\, 117 Franklin Street\, New Florence\, PA\, 15944\, United States
ATTACH;FMTTYPE=image/png:https://newflorenceborough.org/wp-content/uploads/2017/11/photo.png
END:VEVENT
BEGIN:VEVENT
DTSTART;TZID=America/New_York:20251108T140000
DTEND;TZID=America/New_York:20251108T160000
DTSTAMP:20260425T101852
CREATED:20251104T034756Z
LAST-MODIFIED:20251104T034756Z
UID:6592-1762610400-1762617600@newflorenceborough.org
SUMMARY:New Florence Community Library Ed Kelemen 'Paranormal Documentarian' Guest Speaker
DESCRIPTION:Please check out this interesting guest speaker at the library.  If you have questions\, give the library a call.  Thanks.
URL:https://newflorenceborough.org/event/new-florence-community-library-ed-kelemen-paranormal-documentarian-guest-speaker/
LOCATION:New Florence Community Library\, 122 N Ligonier St.\, New Florence\, PA\, 15944
ATTACH;FMTTYPE=image/png:https://newflorenceborough.org/wp-content/uploads/2017/11/photo.png
END:VEVENT
BEGIN:VEVENT
DTSTART;VALUE=DATE:20251109
DTEND;VALUE=DATE:20251130
DTSTAMP:20260425T101852
CREATED:20251110T011932Z
LAST-MODIFIED:20251110T011932Z
UID:6615-1762646400-1764460799@newflorenceborough.org
SUMMARY:New Florence Community Development and Somerset Trust Hat & Glove Drive 2025
DESCRIPTION:The New Florence Community Development group along with The Somerset Trust are doing a hat and glove drive until November 29th.  Donations can be dropped off at Somerset Trust\, the New Florence Community Library\, or the New Florence Volunteer Fire Department.  Items donated will be passed on to those in need in the community.  Please donate if you can.  Please see the flyers below for more information.  Thanks. \n \n \n 
URL:https://newflorenceborough.org/event/new-florence-community-development-and-somerset-trust-hat-glove-drive-2025/
LOCATION:New Florence\, PA: Multiple Locations\, New Florence\, PA\, 15944
ATTACH;FMTTYPE=image/png:https://newflorenceborough.org/wp-content/uploads/2017/11/photo.png
END:VEVENT
BEGIN:VEVENT
DTSTART;TZID=America/New_York:20251110T180000
DTEND;TZID=America/New_York:20251110T190000
DTSTAMP:20260425T101852
CREATED:20251031T003608Z
LAST-MODIFIED:20251031T003608Z
UID:6566-1762797600-1762801200@newflorenceborough.org
SUMMARY:New Florence Community Library Literary Escape Book Club for Adults
DESCRIPTION:Please consider participating in the library’s adult book club.  November’s book is\, One Of Us Is Lying\, by Karen M. McManus.  This book has been held over from last month by request.  This event was also moved to Monday instead of the normal Tuesday due to Veterans Day.  Stop by the library and pick up your copy if you don’t already have it.  Give the library a call if you need more information.  Thanks.
URL:https://newflorenceborough.org/event/new-florence-community-library-literary-escape-book-club-for-adults-11/
LOCATION:New Florence Community Library\, 122 N Ligonier St.\, New Florence\, PA\, 15944
ATTACH;FMTTYPE=image/png:https://newflorenceborough.org/wp-content/uploads/2017/11/photo.png
END:VEVENT
BEGIN:VEVENT
DTSTART;VALUE=DATE:20251111
DTEND;VALUE=DATE:20251112
DTSTAMP:20260425T101852
CREATED:20251024T143702Z
LAST-MODIFIED:20251024T143702Z
UID:6544-1762819200-1762905599@newflorenceborough.org
SUMMARY:Veterans Day 2025
DESCRIPTION:
URL:https://newflorenceborough.org/event/veterans-day-2025/
LOCATION:PA
ATTACH;FMTTYPE=image/png:https://newflorenceborough.org/wp-content/uploads/2017/11/photo.png
END:VEVENT
BEGIN:VEVENT
DTSTART;TZID=America/New_York:20251111T100000
DTEND;TZID=America/New_York:20251111T120000
DTSTAMP:20260425T101852
CREATED:20251024T144104Z
LAST-MODIFIED:20251024T144104Z
UID:6546-1762855200-1762862400@newflorenceborough.org
SUMMARY:New Florence VFW Veterans Day Breakfast
DESCRIPTION:The New Florence Veterans of Foreign Wars (VFW Post 7622) will be hosting a Veterans Day Breakfast.  Please come out and celebrate our veterans.  They always have a guest speaker and typically the local ROTC unit from the high school has a nice program.  It’s a great event for those who have never attended.  For more information give the club a call at 724-235-9904.   Updates to this event will be posted as they become available.  Thank you.
URL:https://newflorenceborough.org/event/new-florence-vfw-veterans-day-breakfast-3/
LOCATION:New Florence VFW\, 6215 Route 711\, New Florence\, PA\, 15944
ATTACH;FMTTYPE=image/png:https://newflorenceborough.org/wp-content/uploads/2017/11/photo.png
END:VEVENT
BEGIN:VEVENT
DTSTART;TZID=America/New_York:20251112T100000
DTEND;TZID=America/New_York:20251112T140000
DTSTAMP:20260425T101852
CREATED:20251031T004057Z
LAST-MODIFIED:20251031T004057Z
UID:6568-1762941600-1762956000@newflorenceborough.org
SUMMARY:New Florence Community Library Craft Class with Panes of Promise Glass Art
DESCRIPTION:Check out these fun classes the library is hosting.  There will be two different sessions where a glass framed picture is made.  Both classes will be making Christmas trees.  Pictures of September’s class making fall themed glass pictures looked great.  The flyer below has more information\, or you can give the library a call to help figure out the scheduling.  Thanks.
URL:https://newflorenceborough.org/event/new-florence-community-library-craft-class-with-panes-of-promise-glass-art-2/
LOCATION:New Florence Community Library\, 122 N Ligonier St.\, New Florence\, PA\, 15944
ATTACH;FMTTYPE=image/png:https://newflorenceborough.org/wp-content/uploads/2017/11/photo.png
END:VEVENT
BEGIN:VEVENT
DTSTART;TZID=America/New_York:20251112T173000
DTEND;TZID=America/New_York:20251112T203000
DTSTAMP:20260425T101852
CREATED:20251110T011146Z
LAST-MODIFIED:20251110T011146Z
UID:6612-1762968600-1762979400@newflorenceborough.org
SUMMARY:New Florence VFW Post 7622 Korean Cooking Night Fundraiser
DESCRIPTION:The New Florence VFW Post 7622 is hosting a Korean Cooking Night fundraiser to benefit local families in need for the holidays on November 12th.  Those that attended last year’s event said the food was really good.  Please see the flyer below or contact the club for more information.
URL:https://newflorenceborough.org/event/new-florence-vfw-post-7622-korean-cooking-night-fundraiser-2/
LOCATION:New Florence VFW\, 6215 Route 711\, New Florence\, PA\, 15944
ATTACH;FMTTYPE=image/png:https://newflorenceborough.org/wp-content/uploads/2017/11/photo.png
END:VEVENT
BEGIN:VEVENT
DTSTART;TZID=America/New_York:20251113T123000
DTEND;TZID=America/New_York:20251113T143000
DTSTAMP:20260425T101852
CREATED:20251104T032558Z
LAST-MODIFIED:20251104T032558Z
UID:6582-1763037000-1763044200@newflorenceborough.org
SUMMARY:New Florence Senior Center Music by Julie & Joe
DESCRIPTION:Check out this fun activity at the senior center.
URL:https://newflorenceborough.org/event/new-florence-senior-center-music-by-julie-joe/
LOCATION:New Florence Senior Center\, 216 Ligonier Street\, New Florence\, PA\, 15944\, United States
ATTACH;FMTTYPE=image/png:https://newflorenceborough.org/wp-content/uploads/2017/11/photo.png
END:VEVENT
BEGIN:VEVENT
DTSTART;TZID=America/New_York:20251116T120000
DTEND;TZID=America/New_York:20251116T153000
DTSTAMP:20260425T101852
CREATED:20251104T033535Z
LAST-MODIFIED:20251110T010708Z
UID:6586-1763294400-1763307000@newflorenceborough.org
SUMMARY:NF VFD Basket Party - November 2025
DESCRIPTION:The New Florence VFD will be holding a Basket Party on November 16th.  The VFD is looking for businesses\, organizations\, or individuals to make and or donate a basket for the Basket Party to promote your business or venture. Gift Cards are also welcomed. Please call Amber at 814-270-1786 with any questions or if you want to donate a basket for the fundraiser. Thanks. \n \nHere’s another reminder of the event. \n \n 
URL:https://newflorenceborough.org/event/nf-vfd-basket-party-november-2025/
LOCATION:New Florence Volunteer Fire Department\, 177 13th Street\, New Florence\, PA\, 15944
ATTACH;FMTTYPE=image/png:https://newflorenceborough.org/wp-content/uploads/2017/11/photo.png
END:VEVENT
BEGIN:VEVENT
DTSTART;TZID=America/New_York:20251118T183000
DTEND;TZID=America/New_York:20251118T193000
DTSTAMP:20260425T101852
CREATED:20250107T225401Z
LAST-MODIFIED:20251117T124624Z
UID:5717-1763490600-1763494200@newflorenceborough.org
SUMMARY:Borough Council Meeting
DESCRIPTION:The borough council meets monthly on the third Tuesday of each month at the borough building located at 119 Franklin Street in New Florence at 6:30 p.m. The meetings are open to the public and all are encouraged to attend. \nHere is the agenda for the meeting. AGENDA 11-18-25
URL:https://newflorenceborough.org/event/borough-council-meeting-88/
LOCATION:Borough Building\, 119 Franklin Street\, New Florence\, PA\, 15944
ATTACH;FMTTYPE=image/png:https://newflorenceborough.org/wp-content/uploads/2017/11/photo.png
END:VEVENT
BEGIN:VEVENT
DTSTART;TZID=America/New_York:20251120T100000
DTEND;TZID=America/New_York:20251224T170000
DTSTAMP:20260425T101852
CREATED:20251125T231924Z
LAST-MODIFIED:20251125T231924Z
UID:6652-1763632800-1766595600@newflorenceborough.org
SUMMARY:New Florence VFW Post 7622 Holiday Military Tribute Tree
DESCRIPTION:The New Florence VFW Post 7622 has a Holiday Military Tribute Tree on display.  Please stop in and fill out a tag to help decorate the tree and pay tribute to our veterans.  Please see the flyer below or contact the club for more information.
URL:https://newflorenceborough.org/event/new-florence-vfw-post-7622-holiday-military-tribute-tree/
LOCATION:New Florence VFW\, 6215 Route 711\, New Florence\, PA\, 15944
ATTACH;FMTTYPE=image/png:https://newflorenceborough.org/wp-content/uploads/2017/11/photo.png
END:VEVENT
BEGIN:VEVENT
DTSTART;TZID=America/New_York:20251122T093000
DTEND;TZID=America/New_York:20251122T113000
DTSTAMP:20260425T101852
CREATED:20251110T010607Z
LAST-MODIFIED:20251110T010607Z
UID:6609-1763803800-1763811000@newflorenceborough.org
SUMMARY:New Florence United Methodist Church Craft Day
DESCRIPTION:The New Florence Methodist will be hosting a Craft Day on November 22nd starting at 9:30 am.  Give the church a call if you need more information.  Thanks.
URL:https://newflorenceborough.org/event/new-florence-united-methodist-church-craft-day/
LOCATION:New Florence United Methodist Church\, 200 9th St.\, New Florence\, PA\, 15944\, United States
ATTACH;FMTTYPE=image/png:https://newflorenceborough.org/wp-content/uploads/2017/11/photo.png
END:VEVENT
BEGIN:VEVENT
DTSTART;TZID=America/New_York:20251122T100000
DTEND;TZID=America/New_York:20251211T170000
DTSTAMP:20260425T101852
CREATED:20251125T231524Z
LAST-MODIFIED:20251125T231524Z
UID:6649-1763805600-1765472400@newflorenceborough.org
SUMMARY:New Florence VFW Post 7622 Holidaysburg Veterans Home Holiday Wish List Donations
DESCRIPTION:The New Florence VFW Post 7622 is taking donations to help out the Holidaysburg Veterans Home residents.  Please see the Holiday Wish List below.  The donations deadline is December 14th.  Please see the flyer below or contact the club for more information.
URL:https://newflorenceborough.org/event/new-florence-vfw-post-7622-holidaysburg-veterans-home-holiday-wish-list-donations/
LOCATION:New Florence VFW\, 6215 Route 711\, New Florence\, PA\, 15944
ATTACH;FMTTYPE=image/png:https://newflorenceborough.org/wp-content/uploads/2017/11/photo.png
END:VEVENT
BEGIN:VEVENT
DTSTART;TZID=America/New_York:20251123T180000
DTEND;TZID=America/New_York:20251123T180000
DTSTAMP:20260425T101852
CREATED:20251117T130550Z
LAST-MODIFIED:20251117T130550Z
UID:6631-1763920800-1763920800@newflorenceborough.org
SUMMARY:Festivus For The Rest Of Us 5K Race 2025 -T-Shirt Ordering Deadline
DESCRIPTION:On December 14th there will be the 5th Annual “Festivus For The Rest Of Us 5K Race”.  Dean Banko\, with the help of the New Florence Volunteer Fire Department\, puts together this crazy event.  The race itself is a fun holiday themed race based off the idea of Festivis from the TV show Seinfeld.  Very detailed information on the race can be found at New Florence Festivus 5K Race.  Keep in mind the deadline for ordering a T-shirt is November 23rd at 6pm.  Follow the link above to order a T-shirt.
URL:https://newflorenceborough.org/event/festivus-for-the-rest-of-us-5k-race-2025-t-shirt-ordering-deadline/
LOCATION:New Florence Volunteer Fire Department\, 177 13th Street\, New Florence\, PA\, 15944
ATTACH;FMTTYPE=image/png:https://newflorenceborough.org/wp-content/uploads/2017/11/photo.png
END:VEVENT
BEGIN:VEVENT
DTSTART;VALUE=DATE:20251127
DTEND;VALUE=DATE:20251128
DTSTAMP:20260425T101852
CREATED:20251125T223356Z
LAST-MODIFIED:20251125T223356Z
UID:6645-1764201600-1764287999@newflorenceborough.org
SUMMARY:Thanksgiving 2025
DESCRIPTION:Thursday is Thanksgiving.  Please enjoy the holiday\, eat well\, visit with friends and family\, and most importantly\, drive safely.  For trivia\, consider the historical origin of Thanksgiving is often traced to a 1621 harvest feast between the English Pilgrims and the Wampanoag people in what is now Massachusetts.  After a successful first harvest\, the two groups shared a celebratory meal. While this event is considered the “first Thanksgiving\,” the modern holiday evolved over time\, with national Thanksgiving becoming a holiday in the 19th century\, largely due to lobbying by Sarah Josepha Hale and a presidential proclamation by Abraham Lincoln in 1863.
URL:https://newflorenceborough.org/event/thanksgiving-2025/
LOCATION:New Florence\, PA: Multiple Locations\, New Florence\, PA\, 15944
ATTACH;FMTTYPE=image/png:https://newflorenceborough.org/wp-content/uploads/2017/11/photo.png
END:VEVENT
BEGIN:VEVENT
DTSTART;TZID=America/New_York:20251130T170000
DTEND;TZID=America/New_York:20251130T200000
DTSTAMP:20260425T101852
CREATED:20251104T033912Z
LAST-MODIFIED:20251104T033912Z
UID:6588-1764522000-1764532800@newflorenceborough.org
SUMMARY:Annual Tree Lighting Event - 2025
DESCRIPTION:Please join the town in the lighting of the Christmas tree.  The New Florence Community Development organization will be hosting the tree lighting ceremony on November 30th at 6pm.  There will also be a quiet period starting at 5pm for those with sensory issues.  Enjoy.
URL:https://newflorenceborough.org/event/annual-tree-lighting-event-2025/
LOCATION:New Florence Volunteer Fire Department\, 177 13th Street\, New Florence\, PA\, 15944
ATTACH;FMTTYPE=image/png:https://newflorenceborough.org/wp-content/uploads/2017/11/photo.png
END:VEVENT
BEGIN:VEVENT
DTSTART;TZID=America/New_York:20251202T180000
DTEND;TZID=America/New_York:20251202T190000
DTSTAMP:20260425T101852
CREATED:20250112T154602Z
LAST-MODIFIED:20250112T154602Z
UID:5799-1764698400-1764702000@newflorenceborough.org
SUMMARY:New Florence Community Development Monthly Meeting
DESCRIPTION:The New Florence Community Development organization holds monthly meetings on the first Tuesday of the month.  The meetings start at 6 pm at the borough building.  The meetings are open to the public and all are welcome to attend.  If you need more information\, you can email the group at contactnfcd@gmail.com or call Misty Clawson\, the President\, at 724-464-7984.  The group also posts regularly on their Facebook page.  New Florence Community Development.  Thank you.
URL:https://newflorenceborough.org/event/new-florence-community-development-monthly-meeting-11/
LOCATION:Borough Building\, 119 Franklin Street\, New Florence\, PA\, 15944
ATTACH;FMTTYPE=image/png:https://newflorenceborough.org/wp-content/uploads/2017/11/photo.png
END:VEVENT
BEGIN:VEVENT
DTSTART;TZID=America/New_York:20251204T070000
DTEND;TZID=America/New_York:20251204T213000
DTSTAMP:20260425T101852
CREATED:20251024T143117Z
LAST-MODIFIED:20251024T143117Z
UID:6540-1764831600-1764883800@newflorenceborough.org
SUMMARY:New Florence Community Library Christmas in Amish Country Bus Trip
DESCRIPTION:The New Florence Community Library is doing a Christmas in Amish Country Bus Trip.  The trip includes a smorgasbord lunch\, a Christmas show\, shopping\, and a Christmas Light Tour.  The cost for the trip is $160.00.  Stop by the library to reserve your seat on the bus. Please see the flyer below or call the library at 724-235-2249 for more information.  Additional details will be published as they become available.
URL:https://newflorenceborough.org/event/new-florence-community-library-christmas-in-amish-country-bus-trip/
LOCATION:New Florence Community Library\, 122 N Ligonier St.\, New Florence\, PA\, 15944
ATTACH;FMTTYPE=image/png:https://newflorenceborough.org/wp-content/uploads/2017/11/photo.png
END:VEVENT
BEGIN:VEVENT
DTSTART;TZID=America/New_York:20251206T090000
DTEND;TZID=America/New_York:20251206T130000
DTSTAMP:20260425T101852
CREATED:20251125T222801Z
LAST-MODIFIED:20251125T222801Z
UID:6641-1765011600-1765026000@newflorenceborough.org
SUMMARY:New Florence VFD Sub Sale
DESCRIPTION:The New Florence Volunteer Fire Department will be having their next sub sale and rippie party on December 6th.   If you need more information\, contact the fire department.  Thank you.
URL:https://newflorenceborough.org/event/new-florence-vfd-sub-sale-35/
LOCATION:New Florence Volunteer Fire Department\, 177 13th Street\, New Florence\, PA\, 15944
ATTACH;FMTTYPE=image/png:https://newflorenceborough.org/wp-content/uploads/2017/11/photo.png
END:VEVENT
BEGIN:VEVENT
DTSTART;TZID=America/New_York:20251206T173000
DTEND;TZID=America/New_York:20251206T210000
DTSTAMP:20260425T101852
CREATED:20251125T222945Z
LAST-MODIFIED:20251125T222945Z
UID:6643-1765042200-1765054800@newflorenceborough.org
SUMMARY:New Florence VFD Rippie Night
DESCRIPTION:The New Florence Volunteer Fire Department will be having their next sub sale and rippie party on December 6th.   If you need more information\, contact the fire department.  Thank you.
URL:https://newflorenceborough.org/event/new-florence-vfd-rippie-night-45/
LOCATION:New Florence Volunteer Fire Department\, 177 13th Street\, New Florence\, PA\, 15944
ATTACH;FMTTYPE=image/png:https://newflorenceborough.org/wp-content/uploads/2017/11/photo.png
END:VEVENT
BEGIN:VEVENT
DTSTART;TZID=America/New_York:20251209T180000
DTEND;TZID=America/New_York:20251209T190000
DTSTAMP:20260425T101852
CREATED:20251204T015313Z
LAST-MODIFIED:20251204T015313Z
UID:6663-1765303200-1765306800@newflorenceborough.org
SUMMARY:New Florence Community Library Literary Escape Book Club for Adults
DESCRIPTION:Please consider participating in the library’s adult book club.  December’s book is\, Merry Mysteries\, by Anne Perry.  Stop by the library and pick up your copy if you don’t already have it.  Give the library a call if you need more information.  Thanks.
URL:https://newflorenceborough.org/event/new-florence-community-library-literary-escape-book-club-for-adults-12/
LOCATION:New Florence Community Library\, 122 N Ligonier St.\, New Florence\, PA\, 15944
ATTACH;FMTTYPE=image/png:https://newflorenceborough.org/wp-content/uploads/2017/11/photo.png
END:VEVENT
BEGIN:VEVENT
DTSTART;TZID=America/New_York:20251210T180000
DTEND;TZID=America/New_York:20251210T200000
DTSTAMP:20260425T101852
CREATED:20251207T153256Z
LAST-MODIFIED:20251207T153256Z
UID:6675-1765389600-1765396800@newflorenceborough.org
SUMMARY:Visit Santa at the New Florence VFW
DESCRIPTION:Santa will be at the New Florence VFW Post 7622 on Wednesday\, December 10th from 6 to 8pm.  Kids are invited to get their picture taken with Santa and receive a small treat afterwards.  This event is open to the public.  If you have any questions\, please give the club a call at 724-235-9904.  Ho ho ho.
URL:https://newflorenceborough.org/event/visit-santa-at-the-new-florence-vfw-5/
LOCATION:New Florence VFW\, 6215 Route 711\, New Florence\, PA\, 15944
ATTACH;FMTTYPE=image/png:https://newflorenceborough.org/wp-content/uploads/2017/11/photo.png
END:VEVENT
END:VCALENDAR