BEGIN:VCALENDAR
VERSION:2.0
PRODID:-//New Florence Borough - ECPv6.15.20//NONSGML v1.0//EN
CALSCALE:GREGORIAN
METHOD:PUBLISH
X-WR-CALNAME:New Florence Borough
X-ORIGINAL-URL:https://newflorenceborough.org
X-WR-CALDESC:Events for New Florence Borough
REFRESH-INTERVAL;VALUE=DURATION:PT1H
X-Robots-Tag:noindex
X-PUBLISHED-TTL:PT1H
BEGIN:VTIMEZONE
TZID:America/New_York
BEGIN:DAYLIGHT
TZOFFSETFROM:-0500
TZOFFSETTO:-0400
TZNAME:EDT
DTSTART:20240310T070000
END:DAYLIGHT
BEGIN:STANDARD
TZOFFSETFROM:-0400
TZOFFSETTO:-0500
TZNAME:EST
DTSTART:20241103T060000
END:STANDARD
BEGIN:DAYLIGHT
TZOFFSETFROM:-0500
TZOFFSETTO:-0400
TZNAME:EDT
DTSTART:20250309T070000
END:DAYLIGHT
BEGIN:STANDARD
TZOFFSETFROM:-0400
TZOFFSETTO:-0500
TZNAME:EST
DTSTART:20251102T060000
END:STANDARD
BEGIN:DAYLIGHT
TZOFFSETFROM:-0500
TZOFFSETTO:-0400
TZNAME:EDT
DTSTART:20260308T070000
END:DAYLIGHT
BEGIN:STANDARD
TZOFFSETFROM:-0400
TZOFFSETTO:-0500
TZNAME:EST
DTSTART:20261101T060000
END:STANDARD
END:VTIMEZONE
BEGIN:VEVENT
DTSTART;TZID=America/New_York:20250405T173000
DTEND;TZID=America/New_York:20250405T210000
DTSTAMP:20260425T224541
CREATED:20250313T131252Z
LAST-MODIFIED:20250313T131252Z
UID:5936-1743874200-1743886800@newflorenceborough.org
SUMMARY:New Florence VFD Rippie Night
DESCRIPTION:The New Florence Volunteer Fire Department will be holding their next rippie fundraiser.  If you need more information\, please contact the fire department.  Thank you.
URL:https://newflorenceborough.org/event/new-florence-vfd-rippie-night-38/
LOCATION:New Florence Volunteer Fire Department\, 177 13th Street\, New Florence\, PA\, 15944
ATTACH;FMTTYPE=image/png:https://newflorenceborough.org/wp-content/uploads/2017/11/photo.png
END:VEVENT
BEGIN:VEVENT
DTSTART;TZID=America/New_York:20250408T180000
DTEND;TZID=America/New_York:20250408T193000
DTSTAMP:20260425T224541
CREATED:20250318T135214Z
LAST-MODIFIED:20250318T135214Z
UID:5960-1744135200-1744140600@newflorenceborough.org
SUMMARY:New Florence Community Library Literary Escape Book Club for Adults
DESCRIPTION:Please consider participating in the library’s adult book club.  April’s book is\, A Trick of Light\, by Stan Lee. Stop by the Library and pick up your copy if you don’t already have it.  Give the library a call if you need more information.  Thanks.
URL:https://newflorenceborough.org/event/new-florence-community-library-literary-escape-book-club-for-adults-7/
LOCATION:New Florence Community Library\, 122 N Ligonier St.\, New Florence\, PA\, 15944
ATTACH;FMTTYPE=image/png:https://newflorenceborough.org/wp-content/uploads/2017/11/photo.png
END:VEVENT
BEGIN:VEVENT
DTSTART;TZID=America/New_York:20250409T190000
DTEND;TZID=America/New_York:20250409T190000
DTSTAMP:20260425T224541
CREATED:20250306T001501Z
LAST-MODIFIED:20250306T001501Z
UID:5921-1744225200-1744225200@newflorenceborough.org
SUMMARY:New Florence Community Development "Spring Cash" Raffle
DESCRIPTION:The New Florence Community Development is selling “Spring Cash” raffle tickets.  Monies raised will help fund their activities and hopefully get more trees trimmed along Ligonier Street.  Please contact one of the members threw Facebook to purchase a ticket.  They’ll also be selling tickets at various activities in the community.  Keep an eye out for them.
URL:https://newflorenceborough.org/event/new-florence-community-development-spring-cash-raffle/
LOCATION:New Florence\, PA: Multiple Locations\, New Florence\, PA\, 15944
ATTACH;FMTTYPE=image/png:https://newflorenceborough.org/wp-content/uploads/2017/11/photo.png
END:VEVENT
BEGIN:VEVENT
DTSTART;TZID=America/New_York:20250412T150000
DTEND;TZID=America/New_York:20250412T210000
DTSTAMP:20260425T224541
CREATED:20250306T001028Z
LAST-MODIFIED:20250402T110142Z
UID:5919-1744470000-1744491600@newflorenceborough.org
SUMMARY:NF VFD Spring Gun Bash - April 2025
DESCRIPTION:The NF VFD will be holding a gun bash fundraiser.  Here is the flyer and ticket image the fire department released. \n \n \nHere’s another flyer for the gun bash.
URL:https://newflorenceborough.org/event/nf-vfd-spring-gun-bash-april-2025/
LOCATION:New Florence Volunteer Fire Department\, 177 13th Street\, New Florence\, PA\, 15944
ATTACH;FMTTYPE=image/png:https://newflorenceborough.org/wp-content/uploads/2017/11/photo.png
END:VEVENT
BEGIN:VEVENT
DTSTART;TZID=America/New_York:20250415T183000
DTEND;TZID=America/New_York:20250415T193000
DTSTAMP:20260425T224541
CREATED:20250105T015519Z
LAST-MODIFIED:20250105T015519Z
UID:5702-1744741800-1744745400@newflorenceborough.org
SUMMARY:Borough Council Meeting
DESCRIPTION:The borough council meets monthly on the third Tuesday of each month at the borough building located at 119 Franklin Street in New Florence at 6:30 p.m. The meetings are open to the public and all are encouraged to attend. \nHere is the agenda for the meeting. PENDING
URL:https://newflorenceborough.org/event/borough-council-meeting-81/
LOCATION:Borough Building\, 119 Franklin Street\, New Florence\, PA\, 15944
ATTACH;FMTTYPE=image/png:https://newflorenceborough.org/wp-content/uploads/2017/11/photo.png
END:VEVENT
BEGIN:VEVENT
DTSTART;TZID=America/New_York:20250419T110000
DTEND;TZID=America/New_York:20250419T140000
DTSTAMP:20260425T224541
CREATED:20250318T140013Z
LAST-MODIFIED:20250318T140013Z
UID:5962-1745060400-1745071200@newflorenceborough.org
SUMMARY:New Florence VFW Post 7622 Easter Egg Hunt - 2025
DESCRIPTION:The New Florence VFW Post 7622 and the New Florence Community Development organizations will be doing a combined Easter Egg Hunt on Saturday\, April 19th at the VFW.  The event is open to children under the age of 12. The VFW is collecting candy donations to fill the Easter Eggs. Please drop off any donations by April 12th.  They also need volunteers to help fill the eggs on April 16th at 6 pm.  Check out the flyer below or give the club a call for more information.  Members of the community development organization can also help answer questions.  Many thanks\, Greg.
URL:https://newflorenceborough.org/event/new-florence-vfw-post-7622-easter-egg-hunt-2025/
LOCATION:New Florence VFW\, 6215 Route 711\, New Florence\, PA\, 15944
ATTACH;FMTTYPE=image/png:https://newflorenceborough.org/wp-content/uploads/2017/11/photo.png
END:VEVENT
BEGIN:VEVENT
DTSTART;TZID=America/New_York:20250419T160000
DTEND;TZID=America/New_York:20250428T080000
DTSTAMP:20260425T224541
CREATED:20250412T003612Z
LAST-MODIFIED:20250412T003612Z
UID:6052-1745078400-1745827200@newflorenceborough.org
SUMMARY:New Florence Family Restaurant - Closure\, Rebranding\, and Reopening
DESCRIPTION:Please see the notice below.  It identifies when the New Florence Family Restaurant will close and then reopen as the Ligonier Street Diner.  There are a lot of folks in the area who eat there regularly.  Please spread the word so they know they’ll have to go elsewhere for a bit.  Thanks.
URL:https://newflorenceborough.org/event/new-florence-family-restaurant-closure-rebranding-and-reopening/
LOCATION:New Florence Family Restaurant\, 182 Ligonier Street\, New Florence\, PA\, 15944\, United States
ATTACH;FMTTYPE=image/png:https://newflorenceborough.org/wp-content/uploads/2017/11/photo.png
END:VEVENT
BEGIN:VEVENT
DTSTART;TZID=America/New_York:20250421T100000
DTEND;TZID=America/New_York:20250426T170000
DTSTAMP:20260425T224541
CREATED:20250412T003033Z
LAST-MODIFIED:20250412T003033Z
UID:6050-1745229600-1745686800@newflorenceborough.org
SUMMARY:New Florence Community Library Seed Library Week
DESCRIPTION:Are you ready for spring and planting season?  Check out all these interesting and fun activities the library will be hosting during the week.  If you have time\, please stop in and enjoy the activities.  Give the library a call if you need more information.
URL:https://newflorenceborough.org/event/new-florence-community-library-seed-library-week/
LOCATION:New Florence Community Library\, 122 N Ligonier St.\, New Florence\, PA\, 15944
ATTACH;FMTTYPE=image/png:https://newflorenceborough.org/wp-content/uploads/2017/11/photo.png
END:VEVENT
BEGIN:VEVENT
DTSTART;TZID=America/New_York:20250421T130000
DTEND;TZID=America/New_York:20250421T150000
DTSTAMP:20260425T224541
CREATED:20250412T005644Z
LAST-MODIFIED:20250412T005644Z
UID:6057-1745240400-1745247600@newflorenceborough.org
SUMMARY:New Florence Community Library Penn State Extension Webinar – Suicide Prevention Training
DESCRIPTION:Join the library for any of the following *FREE* programs and learn some practical knowledge.  If you have questions\, please give the library a call.
URL:https://newflorenceborough.org/event/new-florence-community-library-penn-state-extension-webinar-suicide-prevention-training/
LOCATION:New Florence Community Library\, 122 N Ligonier St.\, New Florence\, PA\, 15944
ATTACH;FMTTYPE=image/png:https://newflorenceborough.org/wp-content/uploads/2017/11/photo.png
END:VEVENT
BEGIN:VEVENT
DTSTART;TZID=America/New_York:20250423T120000
DTEND;TZID=America/New_York:20250423T130000
DTSTAMP:20260425T224541
CREATED:20250412T010234Z
LAST-MODIFIED:20250412T010234Z
UID:6059-1745409600-1745413200@newflorenceborough.org
SUMMARY:New Florence Community Library Penn State Extension Webinar – Understanding Alzheimer’s and Dementia
DESCRIPTION:Join the library for any of the following *FREE* programs and learn some practical knowledge.  If you have questions\, please give the library a call.
URL:https://newflorenceborough.org/event/new-florence-community-library-penn-state-extension-webinar-understanding-alzheimers-and-dementia/
LOCATION:New Florence Community Library\, 122 N Ligonier St.\, New Florence\, PA\, 15944
ATTACH;FMTTYPE=image/png:https://newflorenceborough.org/wp-content/uploads/2017/11/photo.png
END:VEVENT
BEGIN:VEVENT
DTSTART;TZID=America/New_York:20250428T180000
DTEND;TZID=America/New_York:20250428T190000
DTSTAMP:20260425T224541
CREATED:20250423T030011Z
LAST-MODIFIED:20250423T030440Z
UID:6088-1745863200-1745866800@newflorenceborough.org
SUMMARY:New Florence Community Library Essential Oils Workshop
DESCRIPTION:There’s an Oil for That meets Monday\, April 28th at 6:00pm. This is a *FREE* monthly workshop to try out and learn how to adapt essential oils into your daily routine and cut out the toxic chemicals in your life. Learn about the doTERRA company and how they source and make their oils. Hosted by doTERRA Wellness Advocate\, Kimberly Green.  Opportunities to order products will be available but purchases are not required.  For more details\, see the flyer below or give the library a call.  Thanks.
URL:https://newflorenceborough.org/event/new-florence-community-library-essential-oils-workshop-6/
LOCATION:New Florence Community Library\, 122 N Ligonier St.\, New Florence\, PA\, 15944
ATTACH;FMTTYPE=image/png:https://newflorenceborough.org/wp-content/uploads/2017/11/photo.png
END:VEVENT
BEGIN:VEVENT
DTSTART;TZID=America/New_York:20250430T150000
DTEND;TZID=America/New_York:20250430T160000
DTSTAMP:20260425T224541
CREATED:20250412T010610Z
LAST-MODIFIED:20250412T010610Z
UID:6063-1746025200-1746028800@newflorenceborough.org
SUMMARY:New Florence Community Library Penn State Extension Webinar – Managing Conflict [Essential Skills Series]
DESCRIPTION:Join the library for any of the following *FREE* programs and learn some practical knowledge.  If you have questions\, please give the library a call.
URL:https://newflorenceborough.org/event/new-florence-community-library-penn-state-extension-webinar-managing-conflict-essential-skills-series/
LOCATION:New Florence Community Library\, 122 N Ligonier St.\, New Florence\, PA\, 15944
ATTACH;FMTTYPE=image/png:https://newflorenceborough.org/wp-content/uploads/2017/11/photo.png
END:VEVENT
BEGIN:VEVENT
DTSTART;TZID=America/New_York:20250501T183000
DTEND;TZID=America/New_York:20250501T193000
DTSTAMP:20260425T224541
CREATED:20250201T023645Z
LAST-MODIFIED:20250201T023645Z
UID:5863-1746124200-1746127800@newflorenceborough.org
SUMMARY:New Florence/St Clair Sanitation Authority Meeting
DESCRIPTION:The New Florence/St. Clair Township Sanitation Authority will hold their regularly scheduled meetings at the New Florence Sewage Authority office at 117 Franklin St.\, New Florence\, PA 15944 at 6:30 pm on the first Thursday of every month starting March 2025.  The meetings are open to the public.  Any changes to the schedule are published in the Johnstown Tribune Democrat newspaper. \nNew Florence/St. Clair Township Sanitation Authority Tribune Democrat Notice December 2024
URL:https://newflorenceborough.org/event/new-florence-st-clair-sanitation-authority-meeting-34/
LOCATION:New Florence/St. Clair Township Sanitation Authority\, 117 Franklin Street\, New Florence\, PA\, 15944\, United States
ATTACH;FMTTYPE=image/png:https://newflorenceborough.org/wp-content/uploads/2017/11/photo.png
END:VEVENT
BEGIN:VEVENT
DTSTART;TZID=America/New_York:20250503T090000
DTEND;TZID=America/New_York:20250503T130000
DTSTAMP:20260425T224541
CREATED:20250423T025255Z
LAST-MODIFIED:20250423T025255Z
UID:6084-1746262800-1746277200@newflorenceborough.org
SUMMARY:New Florence VFD Sub Sale
DESCRIPTION:The New Florence Volunteer Fire Department will be holding another sub sale fundraiser. Subs will be available from 9 am until they are sold out. If you need more information\, contact the fire department.  Thank you.
URL:https://newflorenceborough.org/event/new-florence-vfd-sub-sale-29/
LOCATION:New Florence Volunteer Fire Department\, 177 13th Street\, New Florence\, PA\, 15944
ATTACH;FMTTYPE=image/png:https://newflorenceborough.org/wp-content/uploads/2017/11/photo.png
END:VEVENT
BEGIN:VEVENT
DTSTART;TZID=America/New_York:20250503T140000
DTEND;TZID=America/New_York:20250503T150000
DTSTAMP:20260425T224541
CREATED:20250412T010410Z
LAST-MODIFIED:20250412T010410Z
UID:6061-1746280800-1746284400@newflorenceborough.org
SUMMARY:New Florence Community Library Penn State Extension Webinar – Understanding Alzheimer’s and Dementia
DESCRIPTION:Join the library for any of the following *FREE* programs and learn some practical knowledge.  If you have questions\, please give the library a call.
URL:https://newflorenceborough.org/event/new-florence-community-library-penn-state-extension-webinar-understanding-alzheimers-and-dementia-2/
LOCATION:New Florence Community Library\, 122 N Ligonier St.\, New Florence\, PA\, 15944
ATTACH;FMTTYPE=image/png:https://newflorenceborough.org/wp-content/uploads/2017/11/photo.png
END:VEVENT
BEGIN:VEVENT
DTSTART;TZID=America/New_York:20250503T173000
DTEND;TZID=America/New_York:20250503T210000
DTSTAMP:20260425T224541
CREATED:20250423T025636Z
LAST-MODIFIED:20250502T115704Z
UID:6086-1746293400-1746306000@newflorenceborough.org
SUMMARY:New Florence VFD Rippie Night - Cancelled
DESCRIPTION:Sorry folks\, the fire department cancelled this rippie party. \n \nThe New Florence Volunteer Fire Department will be holding their next rippie fundraiser.  If you need more information\, please contact the fire department.  Thank you.
URL:https://newflorenceborough.org/event/new-florence-vfd-rippie-night-39/
LOCATION:New Florence Volunteer Fire Department\, 177 13th Street\, New Florence\, PA\, 15944
ATTACH;FMTTYPE=image/png:https://newflorenceborough.org/wp-content/uploads/2017/11/photo.png
END:VEVENT
BEGIN:VEVENT
DTSTART;TZID=America/New_York:20250504T100000
DTEND;TZID=America/New_York:20250504T160000
DTSTAMP:20260425T224541
CREATED:20250326T113727Z
LAST-MODIFIED:20250326T115820Z
UID:6004-1746352800-1746374400@newflorenceborough.org
SUMMARY:Museums of the Ligonier Valley - Free Museum Day 2025
DESCRIPTION:Please check out this free event at six of our local museums. \nFrom extraordinary art and rare artifacts to transportation history including wagons\, trains\, and cars\, these six museums have planned a fun day of activities\, demonstrations\, and tours both inside and out for participants of all ages. Begin Free Museum Day at the museum of your choice \nTo learn more please call the museum you are interested in.\nHere are the various telephone numbers: \nAntiochian Heritage Museum\, 724-238-3677\nCompass Inn Museum\, 724-238-6818\nFort Ligonier\, 724-238-9701\nLincoln Highway Heritage Corridor\, 724-879-4241\nSouthern Alleghenies Museum of Art\, 724-238-6015\nLigonier Valley Rail Road Museum\, 724-238-7819
URL:https://newflorenceborough.org/event/museums-of-the-ligonier-valley-free-museum-day-2025/
LOCATION:New Florence\, PA: Multiple Locations\, New Florence\, PA\, 15944
ATTACH;FMTTYPE=image/png:https://newflorenceborough.org/wp-content/uploads/2017/11/photo.png
END:VEVENT
BEGIN:VEVENT
DTSTART;TZID=America/New_York:20250506T180000
DTEND;TZID=America/New_York:20250506T190000
DTSTAMP:20260425T224541
CREATED:20250112T153628Z
LAST-MODIFIED:20250112T153628Z
UID:5785-1746554400-1746558000@newflorenceborough.org
SUMMARY:New Florence Community Development Monthly Meeting
DESCRIPTION:The New Florence Community Development organization holds monthly meetings on the first Tuesday of the month.  The meetings start at 6 pm at the borough building.  The meetings are open to the public and all are welcome to attend.  If you need more information\, you can email the group at contactnfcd@gmail.com or call Misty Clawson\, the President\, at 724-464-7984.  The group also posts regularly on their Facebook page.  New Florence Community Development.  Thank you.
URL:https://newflorenceborough.org/event/new-florence-community-development-monthly-meeting-4/
LOCATION:Borough Building\, 119 Franklin Street\, New Florence\, PA\, 15944
ATTACH;FMTTYPE=image/png:https://newflorenceborough.org/wp-content/uploads/2017/11/photo.png
END:VEVENT
BEGIN:VEVENT
DTSTART;TZID=America/New_York:20250510T130000
DTEND;TZID=America/New_York:20250510T150000
DTSTAMP:20260425T224541
CREATED:20250508T223324Z
LAST-MODIFIED:20250508T223324Z
UID:6130-1746882000-1746889200@newflorenceborough.org
SUMMARY:New Florence United Methodist Church Women's Tea
DESCRIPTION:Please check out the flyer below for this fun event at the United Methodist Church in New Florence.  The phone number for Paige is 814-241-9986.  Unfortunately\, it kind of got cut off in the image below.   Sue has 10 green thumbs so this should be a nice talk on herbs.  Enjoy!
URL:https://newflorenceborough.org/event/new-florence-united-methodist-church-womens-tea/
LOCATION:New Florence United Methodist Church\, 200 9th St.\, New Florence\, PA\, 15944\, United States
ATTACH;FMTTYPE=image/png:https://newflorenceborough.org/wp-content/uploads/2017/11/photo.png
END:VEVENT
BEGIN:VEVENT
DTSTART;TZID=America/New_York:20250513T180000
DTEND;TZID=America/New_York:20250513T190000
DTSTAMP:20260425T224541
CREATED:20250423T032013Z
LAST-MODIFIED:20250423T032013Z
UID:6102-1747159200-1747162800@newflorenceborough.org
SUMMARY:New Florence Community Library Literary Escape Book Club for Adults
DESCRIPTION:Please consider participating in the library’s adult book club.  May’s book is\, The Chronicles of Narnia\, The Lion\, The Witch\, and The Wardrobe\, by C. S. Lewis. Stop by the Library and pick up your copy if you don’t already have it.  Give the library a call if you need more information.  Thanks.
URL:https://newflorenceborough.org/event/new-florence-community-library-literary-escape-book-club-for-adults-8/
LOCATION:New Florence Community Library\, 122 N Ligonier St.\, New Florence\, PA\, 15944
ATTACH;FMTTYPE=image/png:https://newflorenceborough.org/wp-content/uploads/2017/11/photo.png
END:VEVENT
BEGIN:VEVENT
DTSTART;TZID=America/New_York:20250515T190000
DTEND;TZID=America/New_York:20250515T203000
DTSTAMP:20260425T224541
CREATED:20250509T002745Z
LAST-MODIFIED:20250509T002745Z
UID:6134-1747335600-1747341000@newflorenceborough.org
SUMMARY:New Florence Women's Club Meeting
DESCRIPTION:The New Florence Woman’s Club will hold their first meeting of 2025 on May 15th at 7 pm. We will be meeting at the New Florence Methodist Church which is handicapped accessible.  Bring some ideas to discuss for this year’s activities!  Dessert will be provided by the officers.  All are invited to attend.  If you have any questions\, please give Paige Rummel\, 814-241-9986\, or Sue Buckles\, 724-600-9734\, a call.  Thanks. \n 
URL:https://newflorenceborough.org/event/new-florence-womens-club-meeting-8/
LOCATION:New Florence United Methodist Church\, 200 9th St.\, New Florence\, PA\, 15944\, United States
ATTACH;FMTTYPE=image/png:https://newflorenceborough.org/wp-content/uploads/2017/11/photo.png
END:VEVENT
BEGIN:VEVENT
DTSTART;TZID=America/New_York:20250517T140000
DTEND;TZID=America/New_York:20250517T150000
DTSTAMP:20260425T224541
CREATED:20250412T010804Z
LAST-MODIFIED:20250412T010804Z
UID:6065-1747490400-1747494000@newflorenceborough.org
SUMMARY:New Florence Community Library Penn State Extension Webinar – Managing Conflict [Essential Skills Series]
DESCRIPTION:Join the library for any of the following *FREE* programs and learn some practical knowledge.  If you have questions\, please give the library a call.
URL:https://newflorenceborough.org/event/new-florence-community-library-penn-state-extension-webinar-managing-conflict-essential-skills-series-2/
LOCATION:New Florence Community Library\, 122 N Ligonier St.\, New Florence\, PA\, 15944
ATTACH;FMTTYPE=image/png:https://newflorenceborough.org/wp-content/uploads/2017/11/photo.png
END:VEVENT
BEGIN:VEVENT
DTSTART;TZID=America/New_York:20250518T120000
DTEND;TZID=America/New_York:20250518T160000
DTSTAMP:20260425T224541
CREATED:20250423T031439Z
LAST-MODIFIED:20250508T223448Z
UID:6099-1747569600-1747584000@newflorenceborough.org
SUMMARY:NF VFD Basket Party - May 2025
DESCRIPTION:The New Florence VFD will be holding a Basket Party on May 18th.  The VFD is looking for businesses\, organizations\, or individuals to make and donate a basket for the Basket Party to promote your business or venture. Gift Cards are also welcomed. Please call Amber at 814-270-1786 with any questions or if you want to donate a basket for the fundraiser. Projected pick up date will be May 16th for donated items. \nHere is the promised flyer.  The event times have been updated though they might finish sooner depending on how long it takes to pass out the baskets.  Thanks. \n \n \n 
URL:https://newflorenceborough.org/event/nf-vfd-basket-party-may-2025/
LOCATION:New Florence Volunteer Fire Department\, 177 13th Street\, New Florence\, PA\, 15944
ATTACH;FMTTYPE=image/png:https://newflorenceborough.org/wp-content/uploads/2017/11/photo.png
END:VEVENT
BEGIN:VEVENT
DTSTART;TZID=America/New_York:20250519T183000
DTEND;TZID=America/New_York:20250519T193000
DTSTAMP:20260425T224541
CREATED:20250107T224652Z
LAST-MODIFIED:20250516T003253Z
UID:5705-1747679400-1747683000@newflorenceborough.org
SUMMARY:Borough Council Meeting - Date Change
DESCRIPTION:This month’s borough council meeting will be shifted from Tuesday\, May 20th\, to Monday\, May 19th\, due to the Primary Election being held on the 20th. \n \nThe borough council meets monthly on the third Tuesday of each month at the borough building located at 119 Franklin Street in New Florence at 6:30 p.m. The meetings are open to the public and all are encouraged to attend. \nHere is the agenda for the meeting. AGENDA 05-19-25
URL:https://newflorenceborough.org/event/borough-council-meeting-82/
LOCATION:Borough Building\, 119 Franklin Street\, New Florence\, PA\, 15944
ATTACH;FMTTYPE=image/png:https://newflorenceborough.org/wp-content/uploads/2017/11/photo.png
END:VEVENT
BEGIN:VEVENT
DTSTART;TZID=America/New_York:20250520T070000
DTEND;TZID=America/New_York:20250520T200000
DTSTAMP:20260425T224541
CREATED:20250509T004142Z
LAST-MODIFIED:20250509T004142Z
UID:6138-1747724400-1747771200@newflorenceborough.org
SUMMARY:2025 General Primary Election
DESCRIPTION:The 2023 General Primary Election is on Tuesday\, May 20th\, 2025.  Polls will be open from 7 am to 8 pm.  The New Florence polling location is the fire department building.  The Democrat and Republican ballots as of 7May2025 are listed below.  Besides electing various positions there is a New Florence specific referundum question concerning alcohol licensing.  Please get out and vote! \nOfficial Municipal Primary Democratic Ballot 20May2025 – DEM181 \nUnofficial Municipal Primary Republican Specimen Ballot 20May2025 – REP181 \n \n 
URL:https://newflorenceborough.org/event/2025-general-primary-election/
LOCATION:New Florence Volunteer Fire Department\, 177 13th Street\, New Florence\, PA\, 15944
ATTACH;FMTTYPE=image/png:https://newflorenceborough.org/wp-content/uploads/2017/11/photo.png
END:VEVENT
BEGIN:VEVENT
DTSTART;TZID=America/New_York:20250520T140000
DTEND;TZID=America/New_York:20250520T150000
DTSTAMP:20260425T224541
CREATED:20250412T011051Z
LAST-MODIFIED:20250412T011051Z
UID:6067-1747749600-1747753200@newflorenceborough.org
SUMMARY:New Florence Community Library Penn State Extension Webinar – Boosting Financial Wellness: Money and Nutrition
DESCRIPTION:Join the library for any of the following *FREE* programs and learn some practical knowledge.  If you have questions\, please give the library a call.
URL:https://newflorenceborough.org/event/new-florence-community-library-penn-state-extension-webinar-boosting-financial-wellness-money-and-nutrition/
LOCATION:New Florence Community Library\, 122 N Ligonier St.\, New Florence\, PA\, 15944
ATTACH;FMTTYPE=image/png:https://newflorenceborough.org/wp-content/uploads/2017/11/photo.png
END:VEVENT
BEGIN:VEVENT
DTSTART;TZID=America/New_York:20250522T100000
DTEND;TZID=America/New_York:20250627T170000
DTSTAMP:20260425T224541
CREATED:20250616T061346Z
LAST-MODIFIED:20250616T061346Z
UID:6220-1747908000-1751043600@newflorenceborough.org
SUMMARY:New Florence Community Library Spring Book Sale 2025
DESCRIPTION:The New Florence Community Library is having one of their yearly book sales from May 22nd to June 27th.   Starting Monday\, June 16th\, they will be having a $1 bag sale.  There’s also lots of other special items available during the sale.   They found two items that were left behind during the community yard sale: a plastic cup and a pretty insect charm.  The owners should be able to describe the items to claim at the library.  Please see the flyer below or give the library a call for more information.
URL:https://newflorenceborough.org/event/new-florence-community-library-spring-book-sale-2025/
LOCATION:New Florence Community Library\, 122 N Ligonier St.\, New Florence\, PA\, 15944
ATTACH;FMTTYPE=image/png:https://newflorenceborough.org/wp-content/uploads/2017/11/photo.png
END:VEVENT
BEGIN:VEVENT
DTSTART;TZID=America/New_York:20250526T180000
DTEND;TZID=America/New_York:20250526T190000
DTSTAMP:20260425T224541
CREATED:20250423T030133Z
LAST-MODIFIED:20250423T030405Z
UID:6090-1748282400-1748286000@newflorenceborough.org
SUMMARY:New Florence Community Library Essential Oils Workshop
DESCRIPTION:There’s an Oil for That meets Monday\, May 26th at 6:00pm. This is a *FREE* monthly workshop to try out and learn how to adapt essential oils into your daily routine and cut out the toxic chemicals in your life. Learn about the doTERRA company and how they source and make their oils. Hosted by doTERRA Wellness Advocate\, Kimberly Green.  Opportunities to order products will be available but purchases are not required.  For more details\, see the flyer below or give the library a call.  Thanks.
URL:https://newflorenceborough.org/event/new-florence-community-library-essential-oils-workshop-7/
LOCATION:New Florence Community Library\, 122 N Ligonier St.\, New Florence\, PA\, 15944
ATTACH;FMTTYPE=image/png:https://newflorenceborough.org/wp-content/uploads/2017/11/photo.png
END:VEVENT
BEGIN:VEVENT
DTSTART;TZID=America/New_York:20250528T100000
DTEND;TZID=America/New_York:20250528T120000
DTSTAMP:20260425T224541
CREATED:20250521T163958Z
LAST-MODIFIED:20250521T163958Z
UID:6174-1748426400-1748433600@newflorenceborough.org
SUMMARY:New Florence Senior Center "A Guide to Preventing Falls" Workshop
DESCRIPTION:The New Florence Senior Center is hosting a free workshop on “A Guide to Preventing Falls”.  This workshop will be presented three times to ensure maximum participation.  Please see the flyer below for more information.  Thanks.
URL:https://newflorenceborough.org/event/new-florence-senior-center-a-guide-to-preventing-falls-workshop/
LOCATION:New Florence Senior Center\, 216 Ligonier Street\, New Florence\, PA\, 15944\, United States
ATTACH;FMTTYPE=image/png:https://newflorenceborough.org/wp-content/uploads/2017/11/photo.png
END:VEVENT
BEGIN:VEVENT
DTSTART;TZID=America/New_York:20250530T100000
DTEND;TZID=America/New_York:20250530T120000
DTSTAMP:20260425T224541
CREATED:20250521T164121Z
LAST-MODIFIED:20250521T164121Z
UID:6176-1748599200-1748606400@newflorenceborough.org
SUMMARY:New Florence Senior Center "A Guide to Preventing Falls" Workshop
DESCRIPTION:The New Florence Senior Center is hosting a free workshop on “A Guide to Preventing Falls”.  This workshop will be presented three times to ensure maximum participation.  Please see the flyer below for more information.  Thanks.
URL:https://newflorenceborough.org/event/new-florence-senior-center-a-guide-to-preventing-falls-workshop-2/
LOCATION:New Florence Senior Center\, 216 Ligonier Street\, New Florence\, PA\, 15944\, United States
ATTACH;FMTTYPE=image/png:https://newflorenceborough.org/wp-content/uploads/2017/11/photo.png
END:VEVENT
END:VCALENDAR