BEGIN:VCALENDAR
VERSION:2.0
PRODID:-//New Florence Borough - ECPv6.15.20//NONSGML v1.0//EN
CALSCALE:GREGORIAN
METHOD:PUBLISH
X-WR-CALNAME:New Florence Borough
X-ORIGINAL-URL:https://newflorenceborough.org
X-WR-CALDESC:Events for New Florence Borough
REFRESH-INTERVAL;VALUE=DURATION:PT1H
X-Robots-Tag:noindex
X-PUBLISHED-TTL:PT1H
BEGIN:VTIMEZONE
TZID:America/New_York
BEGIN:DAYLIGHT
TZOFFSETFROM:-0500
TZOFFSETTO:-0400
TZNAME:EDT
DTSTART:20170312T070000
END:DAYLIGHT
BEGIN:STANDARD
TZOFFSETFROM:-0400
TZOFFSETTO:-0500
TZNAME:EST
DTSTART:20171105T060000
END:STANDARD
BEGIN:DAYLIGHT
TZOFFSETFROM:-0500
TZOFFSETTO:-0400
TZNAME:EDT
DTSTART:20180311T070000
END:DAYLIGHT
BEGIN:STANDARD
TZOFFSETFROM:-0400
TZOFFSETTO:-0500
TZNAME:EST
DTSTART:20181104T060000
END:STANDARD
BEGIN:DAYLIGHT
TZOFFSETFROM:-0500
TZOFFSETTO:-0400
TZNAME:EDT
DTSTART:20190310T070000
END:DAYLIGHT
BEGIN:STANDARD
TZOFFSETFROM:-0400
TZOFFSETTO:-0500
TZNAME:EST
DTSTART:20191103T060000
END:STANDARD
BEGIN:DAYLIGHT
TZOFFSETFROM:-0500
TZOFFSETTO:-0400
TZNAME:EDT
DTSTART:20200308T070000
END:DAYLIGHT
BEGIN:STANDARD
TZOFFSETFROM:-0400
TZOFFSETTO:-0500
TZNAME:EST
DTSTART:20201101T060000
END:STANDARD
END:VTIMEZONE
BEGIN:VEVENT
DTSTART;TZID=America/New_York:20190515T173000
DTEND;TZID=America/New_York:20190515T213000
DTSTAMP:20260425T114637
CREATED:20190409T131641Z
LAST-MODIFIED:20190409T131641Z
UID:695-1557941400-1557955800@newflorenceborough.org
SUMMARY:AARP Senior Driving Class - Day 2
DESCRIPTION:Please check out this driving class being offered for seniors in the area.  This is the second day of a two night class.  Please click on the images to expand.
URL:https://newflorenceborough.org/event/aarp-senior-driving-class-day2/
LOCATION:New Florence Volunteer Fire Department\, 177 13th Street\, New Florence\, PA\, 15944
ATTACH;FMTTYPE=image/png:https://newflorenceborough.org/wp-content/uploads/2017/11/photo.png
END:VEVENT
BEGIN:VEVENT
DTSTART;TZID=America/New_York:20190514T173000
DTEND;TZID=America/New_York:20190514T213000
DTSTAMP:20260425T114637
CREATED:20190409T131356Z
LAST-MODIFIED:20190409T131356Z
UID:691-1557855000-1557869400@newflorenceborough.org
SUMMARY:AARP Senior Driving Class - Day 1
DESCRIPTION:Please check out this driving class being offered for seniors in the area.  It is a two night class.  Please click on the images to expand.
URL:https://newflorenceborough.org/event/aarp-senior-driving-class-day1/
LOCATION:New Florence Volunteer Fire Department\, 177 13th Street\, New Florence\, PA\, 15944
ATTACH;FMTTYPE=image/png:https://newflorenceborough.org/wp-content/uploads/2017/11/photo.png
END:VEVENT
BEGIN:VEVENT
DTSTART;TZID=America/New_York:20190511T170000
DTEND;TZID=America/New_York:20190511T210000
DTSTAMP:20260425T114637
CREATED:20190508T115805Z
LAST-MODIFIED:20190508T115805Z
UID:751-1557594000-1557608400@newflorenceborough.org
SUMMARY:NFVFD Rippie Bash
DESCRIPTION:
URL:https://newflorenceborough.org/event/nfvfd-rippie-bash/
LOCATION:New Florence Volunteer Fire Department\, 177 13th Street\, New Florence\, PA\, 15944
ATTACH;FMTTYPE=image/png:https://newflorenceborough.org/wp-content/uploads/2017/11/photo.png
END:VEVENT
BEGIN:VEVENT
DTSTART;TZID=America/New_York:20190506T180000
DTEND;TZID=America/New_York:20190506T190000
DTSTAMP:20260425T114637
CREATED:20190423T012151Z
LAST-MODIFIED:20190423T012151Z
UID:721-1557165600-1557169200@newflorenceborough.org
SUMMARY:Sesquicentennial Planning Committee Meeting
DESCRIPTION:All are welcome to attend. Find out what is going on or to join in planning this special event.
URL:https://newflorenceborough.org/event/sesquicentennial-planning-committee-meeting-8/
LOCATION:Borough Building\, 119 Franklin Street\, New Florence\, PA\, 15944
ATTACH;FMTTYPE=image/png:https://newflorenceborough.org/wp-content/uploads/2017/11/photo.png
END:VEVENT
BEGIN:VEVENT
DTSTART;TZID=America/New_York:20190427T130000
DTEND;TZID=America/New_York:20190427T150000
DTSTAMP:20260425T114637
CREATED:20190409T132546Z
LAST-MODIFIED:20190409T132546Z
UID:697-1556370000-1556377200@newflorenceborough.org
SUMMARY:New Florence Community Library Illustrated Lecture
DESCRIPTION:UFO & Bigfoot researcher/author Stan Gordon will be giving an illustrated lecture concerning the December 9\, 1965 UFO crash-landing near Kecksburg\, PA. Mr. Gordon will also be including information on recent local encounters and investigations. There will be a book & DVD signing after the presentation.  Please click on the image to expand. \nTo register\, please visit or call New Florence Community Library at 724-235-2249!
URL:https://newflorenceborough.org/event/new-florence-community-library-illustrated-lecture/
LOCATION:New Florence Community Library\, 122 N Ligonier St.\, New Florence\, PA\, 15944
ATTACH;FMTTYPE=image/png:https://newflorenceborough.org/wp-content/uploads/2017/11/photo.png
END:VEVENT
BEGIN:VEVENT
DTSTART;TZID=America/New_York:20190427T120000
DTEND;TZID=America/New_York:20190427T180000
DTSTAMP:20260425T114637
CREATED:20190305T011212Z
LAST-MODIFIED:20190305T011212Z
UID:643-1556366400-1556388000@newflorenceborough.org
SUMMARY:New Florence VFW Gun Bash
DESCRIPTION:Please look at the two attachments below to  find out more information about the gun bash.
URL:https://newflorenceborough.org/event/new-florence-vfw-gun-bash/
LOCATION:New Florence VFW\, 6215 Route 711\, New Florence\, PA\, 15944
ATTACH;FMTTYPE=image/png:https://newflorenceborough.org/wp-content/uploads/2017/11/photo.png
END:VEVENT
BEGIN:VEVENT
DTSTART;TZID=America/New_York:20190422T180000
DTEND;TZID=America/New_York:20190422T190000
DTSTAMP:20260425T114637
CREATED:20190324T125957Z
LAST-MODIFIED:20190324T125957Z
UID:673-1555956000-1555959600@newflorenceborough.org
SUMMARY:New Florence Area Historical Society
DESCRIPTION:
URL:https://newflorenceborough.org/event/new-florence-area-historical-society-6/
LOCATION:Kenneth A. Stuart Funeral Home\, 139 Ligonier St.\, New Florence\, PA\, 15944
ATTACH;FMTTYPE=image/png:https://newflorenceborough.org/wp-content/uploads/2017/11/photo.png
END:VEVENT
BEGIN:VEVENT
DTSTART;TZID=America/New_York:20190420T100000
DTEND;TZID=America/New_York:20190420T120000
DTSTAMP:20260425T114637
CREATED:20190409T190154Z
LAST-MODIFIED:20190409T190154Z
UID:708-1555754400-1555761600@newflorenceborough.org
SUMMARY:1st Annual Community Egg Hunt\, Shannon Creek Baptist Church
DESCRIPTION:Please join us for our Easter egg hunt.  Please click on the image to view full size.
URL:https://newflorenceborough.org/event/1st-annual-community-egg-hunt-shannon-creek-baptist-church/
LOCATION:PA
ATTACH;FMTTYPE=image/png:https://newflorenceborough.org/wp-content/uploads/2017/11/photo.png
END:VEVENT
BEGIN:VEVENT
DTSTART;TZID=America/New_York:20190420T100000
DTEND;TZID=America/New_York:20190420T113000
DTSTAMP:20260425T114637
CREATED:20190409T133239Z
LAST-MODIFIED:20190409T133239Z
UID:702-1555754400-1555759800@newflorenceborough.org
SUMMARY:New Florence VFW Post 7622 Easter Egg Hunt
DESCRIPTION:Please come join us for a community Easter egg hunt.
URL:https://newflorenceborough.org/event/new-florence-vfw-post-7622-easter-egg-hunt/
LOCATION:New Florence VFW\, 6215 Route 711\, New Florence\, PA\, 15944
ATTACH;FMTTYPE=image/png:https://newflorenceborough.org/wp-content/uploads/2017/11/photo.png
END:VEVENT
BEGIN:VEVENT
DTSTART;TZID=America/New_York:20190416T190000
DTEND;TZID=America/New_York:20190416T200000
DTSTAMP:20260425T114637
CREATED:20190107T131058Z
LAST-MODIFIED:20190107T131058Z
UID:482-1555441200-1555444800@newflorenceborough.org
SUMMARY:Borough Council Meeting
DESCRIPTION:
URL:https://newflorenceborough.org/event/borough-council-meeting-9/
LOCATION:Borough Building\, 119 Franklin Street\, New Florence\, PA\, 15944
ATTACH;FMTTYPE=image/png:https://newflorenceborough.org/wp-content/uploads/2017/11/photo.png
END:VEVENT
BEGIN:VEVENT
DTSTART;TZID=America/New_York:20190415T180000
DTEND;TZID=America/New_York:20190415T190000
DTSTAMP:20260425T114637
CREATED:20190324T125839Z
LAST-MODIFIED:20190324T125839Z
UID:671-1555351200-1555354800@newflorenceborough.org
SUMMARY:Sesquicentennial Planning Committee Meeting
DESCRIPTION:All are welcome to attend. Find out what is going on or to join in planning this special event.
URL:https://newflorenceborough.org/event/sesquicentennial-planning-committee-meeting-7/
LOCATION:Kenneth A. Stuart Funeral Home\, 139 Ligonier St.\, New Florence\, PA\, 15944
ATTACH;FMTTYPE=image/png:https://newflorenceborough.org/wp-content/uploads/2017/11/photo.png
END:VEVENT
BEGIN:VEVENT
DTSTART;TZID=America/New_York:20190319T190000
DTEND;TZID=America/New_York:20190319T200000
DTSTAMP:20260425T114637
CREATED:20190107T130922Z
LAST-MODIFIED:20190107T130922Z
UID:480-1553022000-1553025600@newflorenceborough.org
SUMMARY:Borough Council Meeting
DESCRIPTION:
URL:https://newflorenceborough.org/event/borough-council-meeting-8/
LOCATION:Borough Building\, 119 Franklin Street\, New Florence\, PA\, 15944
ATTACH;FMTTYPE=image/png:https://newflorenceborough.org/wp-content/uploads/2017/11/photo.png
END:VEVENT
BEGIN:VEVENT
DTSTART;TZID=America/New_York:20190318T180000
DTEND;TZID=America/New_York:20190318T190000
DTSTAMP:20260425T114637
CREATED:20190220T180941Z
LAST-MODIFIED:20190318T144826Z
UID:629-1552932000-1552935600@newflorenceborough.org
SUMMARY:New Florence Area Historical Society - Location Moved
DESCRIPTION:Tonight’s meeting has changed locations due to a viewing at the funeral home.  The meeting will now be in the Livery to the right of funeral home tonight.
URL:https://newflorenceborough.org/event/new-florence-area-historical-society-5/
LOCATION:Kenneth A. Stuart Funeral Home\, 139 Ligonier St.\, New Florence\, PA\, 15944
ATTACH;FMTTYPE=image/png:https://newflorenceborough.org/wp-content/uploads/2017/11/photo.png
END:VEVENT
BEGIN:VEVENT
DTSTART;TZID=America/New_York:20190314T180000
DTEND;TZID=America/New_York:20190314T200000
DTSTAMP:20260425T114637
CREATED:20190305T012316Z
LAST-MODIFIED:20190305T012316Z
UID:647-1552586400-1552593600@newflorenceborough.org
SUMMARY:ALICE Training\, Sponsored by NF Community Library
DESCRIPTION:
URL:https://newflorenceborough.org/event/alice-training-sponsored-by-nf-community-library/
LOCATION:Trinity Presbyterian Church\, 117 Chestnut Street\, New Florence\, PA\, 15944
ATTACH;FMTTYPE=image/png:https://newflorenceborough.org/wp-content/uploads/2017/11/photo.png
END:VEVENT
BEGIN:VEVENT
DTSTART;TZID=America/New_York:20190311T180000
DTEND;TZID=America/New_York:20190311T190000
DTSTAMP:20260425T114637
CREATED:20190212T033009Z
LAST-MODIFIED:20190212T033009Z
UID:617-1552327200-1552330800@newflorenceborough.org
SUMMARY:Sesquicentennial Planning Committee Meeting
DESCRIPTION:All are welcome to attend.  Find out what is going on or to join in planning this special event.
URL:https://newflorenceborough.org/event/sesquicentennial-planning-committee-meeting-6/
LOCATION:Kenneth A. Stuart Funeral Home\, 139 Ligonier St.\, New Florence\, PA\, 15944
ATTACH;FMTTYPE=image/png:https://newflorenceborough.org/wp-content/uploads/2017/11/photo.png
END:VEVENT
BEGIN:VEVENT
DTSTART;TZID=America/New_York:20190307T180000
DTEND;TZID=America/New_York:20190307T190000
DTSTAMP:20260425T114637
CREATED:20190305T122127Z
LAST-MODIFIED:20190305T122127Z
UID:652-1551981600-1551985200@newflorenceborough.org
SUMMARY:Special Borough Council Meeting
DESCRIPTION:“The Borough of New Florence will hold a special meeting at 6:00 PM on March 7\, 2019 to discuss general business of the borough.”
URL:https://newflorenceborough.org/event/special-borough-council-meeting/
LOCATION:Borough Building\, 119 Franklin Street\, New Florence\, PA\, 15944
ATTACH;FMTTYPE=image/png:https://newflorenceborough.org/wp-content/uploads/2017/11/photo.png
END:VEVENT
BEGIN:VEVENT
DTSTART;TZID=America/New_York:20190224T140000
DTEND;TZID=America/New_York:20190224T160000
DTSTAMP:20260425T114637
CREATED:20190206T023837Z
LAST-MODIFIED:20190206T023837Z
UID:610-1551016800-1551024000@newflorenceborough.org
SUMMARY:New Florence Community Library Annual Basket Party
DESCRIPTION:
URL:https://newflorenceborough.org/event/new-florence-community-library-annual-basket-party/
LOCATION:Antiochian Village Conference Center\, 140 Church Camp Trail\, Bolivar\, PA\, 15923
ATTACH;FMTTYPE=image/png:https://newflorenceborough.org/wp-content/uploads/2017/11/photo.png
END:VEVENT
BEGIN:VEVENT
DTSTART;TZID=America/New_York:20190219T190000
DTEND;TZID=America/New_York:20190219T200000
DTSTAMP:20260425T114637
CREATED:20190107T130823Z
LAST-MODIFIED:20190107T130823Z
UID:478-1550602800-1550606400@newflorenceborough.org
SUMMARY:Borough Council Meeting
DESCRIPTION:
URL:https://newflorenceborough.org/event/borough-council-meeting-7/
LOCATION:Borough Building\, 119 Franklin Street\, New Florence\, PA\, 15944
ATTACH;FMTTYPE=image/png:https://newflorenceborough.org/wp-content/uploads/2017/11/photo.png
END:VEVENT
BEGIN:VEVENT
DTSTART;TZID=America/New_York:20190218T180000
DTEND;TZID=America/New_York:20190218T190000
DTSTAMP:20260425T114637
CREATED:20190124T170438Z
LAST-MODIFIED:20190124T170438Z
UID:604-1550512800-1550516400@newflorenceborough.org
SUMMARY:New Florence Area Historical Society
DESCRIPTION:
URL:https://newflorenceborough.org/event/new-florence-area-historical-society-4/
LOCATION:Kenneth A. Stuart Funeral Home\, 139 Ligonier St.\, New Florence\, PA\, 15944
ATTACH;FMTTYPE=image/png:https://newflorenceborough.org/wp-content/uploads/2017/11/photo.png
END:VEVENT
BEGIN:VEVENT
DTSTART;TZID=America/New_York:20190211T180000
DTEND;TZID=America/New_York:20190211T190000
DTSTAMP:20260425T114637
CREATED:20190117T031152Z
LAST-MODIFIED:20190120T211532Z
UID:568-1549908000-1549911600@newflorenceborough.org
SUMMARY:Sesquicentennial Planning Committee Meeting
DESCRIPTION:All are welcome to attend.  Find out what is going on or to join in planning this special event.
URL:https://newflorenceborough.org/event/sesquicentennial-planning-committee-meeting-5/
LOCATION:Kenneth A. Stuart Funeral Home\, 139 Ligonier St.\, New Florence\, PA\, 15944
ATTACH;FMTTYPE=image/png:https://newflorenceborough.org/wp-content/uploads/2017/11/photo.png
END:VEVENT
BEGIN:VEVENT
DTSTART;TZID=America/New_York:20190201T180000
DTEND;TZID=America/New_York:20190201T183000
DTSTAMP:20260425T114637
CREATED:20181231T004252Z
LAST-MODIFIED:20181231T004252Z
UID:463-1549044000-1549045800@newflorenceborough.org
SUMMARY:Donation Pledge Deadline for Sesquicentennial
DESCRIPTION:YOUR OPPORTUNITY TO BE A PART OUR 150TH CELEBRATION IS HERE! \nThe town of New Florence will be celebrating their 150th anniversary with a town-wide celebration on August 17\, 2019. The New Florence Sesquicentennial Committee is planning a parade\, car cruise\, live music\, Civil War Encampment\, historical displays\, pie eating and milk chugging contests\, Corn Hole Tournament\, fireworks and much more! Volunteers and/or financial donors are needed. \nOur current funds are low and our planning time is very short. Therefore\, we are reaching out to local businesses\, organizations\, and individuals for support. We would greatly appreciate any monetary donation(s) you could make and\, for planning purposes\, a reply by February 01\, 2019 would be very helpful.  Please note that donations are tax deductible\, and major contributors will be announced throughout the event. \nThank you for your time and consideration. If you have any questions\, feel free to contact us at 724-235-2000\, or email 1869NF@gmail.com.  We hope to see you at our Celebration in August! \nCarol Henderson\, Chairman\nNew Florence Sesquicentennial Committee \nSesquicentennial Donation Form: MS Word  or JPEG below.
URL:https://newflorenceborough.org/event/donation-pledge-deadline-for-sesquicentennial/
LOCATION:PA
ATTACH;FMTTYPE=image/png:https://newflorenceborough.org/wp-content/uploads/2017/11/photo.png
END:VEVENT
BEGIN:VEVENT
DTSTART;TZID=America/New_York:20190122T180000
DTEND;TZID=America/New_York:20190122T190000
DTSTAMP:20260425T114637
CREATED:20181220T032350Z
LAST-MODIFIED:20190119T004015Z
UID:451-1548180000-1548183600@newflorenceborough.org
SUMMARY:New Florence Area Historical Society - Rescheduled
DESCRIPTION:Note:  This meeting was pushed back one day from Monday to Tuesday do to the pending ice storm.
URL:https://newflorenceborough.org/event/new-florence-area-historical-society-3/
LOCATION:Kenneth A. Stuart Funeral Home\, 139 Ligonier St.\, New Florence\, PA\, 15944
ATTACH;FMTTYPE=image/png:https://newflorenceborough.org/wp-content/uploads/2017/11/photo.png
END:VEVENT
BEGIN:VEVENT
DTSTART;TZID=America/New_York:20190115T190000
DTEND;TZID=America/New_York:20190115T200000
DTSTAMP:20260425T114637
CREATED:20190107T130701Z
LAST-MODIFIED:20190107T130701Z
UID:476-1547578800-1547582400@newflorenceborough.org
SUMMARY:Borough Council Meeting
DESCRIPTION:
URL:https://newflorenceborough.org/event/borough-council-meeting-6/
LOCATION:Borough Building\, 119 Franklin Street\, New Florence\, PA\, 15944
ATTACH;FMTTYPE=image/png:https://newflorenceborough.org/wp-content/uploads/2017/11/photo.png
END:VEVENT
BEGIN:VEVENT
DTSTART;TZID=America/New_York:20190115T170000
DTEND;TZID=America/New_York:20190115T190000
DTSTAMP:20260425T114637
CREATED:20181231T010453Z
LAST-MODIFIED:20181231T010453Z
UID:473-1547571600-1547578800@newflorenceborough.org
SUMMARY:Somerset Trust Meet and Greet with CEO
DESCRIPTION:Please check out the flyer below for a meet and greet with Henry Cook\, the CEO and Chairman of the Board of the Somerset Trust Company.
URL:https://newflorenceborough.org/event/somerset-trust-meet-and-greet-with-ceo/
LOCATION:New Florence Volunteer Fire Department\, 177 13th Street\, New Florence\, PA\, 15944
ATTACH;FMTTYPE=image/png:https://newflorenceborough.org/wp-content/uploads/2017/11/photo.png
END:VEVENT
BEGIN:VEVENT
DTSTART;TZID=America/New_York:20190114T180000
DTEND;TZID=America/New_York:20190114T190000
DTSTAMP:20260425T114637
CREATED:20181220T032146Z
LAST-MODIFIED:20181220T032146Z
UID:448-1547488800-1547492400@newflorenceborough.org
SUMMARY:Sesquicentennial Planning Committee Meeting
DESCRIPTION:All are welcome to attend.  Find out what is going on or to join in planning this special event.
URL:https://newflorenceborough.org/event/sesquicentennial-planning-committee-meeting-4/
LOCATION:Kenneth A. Stuart Funeral Home\, 139 Ligonier St.\, New Florence\, PA\, 15944
ATTACH;FMTTYPE=image/png:https://newflorenceborough.org/wp-content/uploads/2017/11/photo.png
END:VEVENT
BEGIN:VEVENT
DTSTART;TZID=America/New_York:20181218T190000
DTEND;TZID=America/New_York:20181218T200000
DTSTAMP:20260425T114637
CREATED:20181101T221214Z
LAST-MODIFIED:20181101T221214Z
UID:260-1545159600-1545163200@newflorenceborough.org
SUMMARY:Borough Council Meeting
DESCRIPTION:
URL:https://newflorenceborough.org/event/borough-council-meeting-5/
LOCATION:Borough Building\, 119 Franklin Street\, New Florence\, PA\, 15944
ATTACH;FMTTYPE=image/png:https://newflorenceborough.org/wp-content/uploads/2017/11/photo.png
END:VEVENT
BEGIN:VEVENT
DTSTART;TZID=America/New_York:20181217T190000
DTEND;TZID=America/New_York:20181217T200000
DTSTAMP:20260425T114637
CREATED:20181122T151840Z
LAST-MODIFIED:20181127T015506Z
UID:351-1545073200-1545076800@newflorenceborough.org
SUMMARY:Sesquicentennial Planning Committee Meeting
DESCRIPTION:All are welcome to attend.  Find out what is going on or to join in planning this special event.
URL:https://newflorenceborough.org/event/sesquicentennial-planning-committee-meeting-3/
LOCATION:Kenneth A. Stuart Funeral Home\, 139 Ligonier St.\, New Florence\, PA\, 15944
ATTACH;FMTTYPE=image/png:https://newflorenceborough.org/wp-content/uploads/2017/11/photo.png
END:VEVENT
BEGIN:VEVENT
DTSTART;TZID=America/New_York:20181217T180000
DTEND;TZID=America/New_York:20181217T190000
DTSTAMP:20260425T114637
CREATED:20181122T151543Z
LAST-MODIFIED:20181127T015545Z
UID:349-1545069600-1545073200@newflorenceborough.org
SUMMARY:New Florence Area Historical Society
DESCRIPTION:
URL:https://newflorenceborough.org/event/new-florence-area-historical-society-2/
LOCATION:Kenneth A. Stuart Funeral Home\, 139 Ligonier St.\, New Florence\, PA\, 15944
ATTACH;FMTTYPE=image/png:https://newflorenceborough.org/wp-content/uploads/2017/11/photo.png
END:VEVENT
BEGIN:VEVENT
DTSTART;TZID=America/New_York:20181201T180000
DTEND;TZID=America/New_York:20181201T180000
DTSTAMP:20260425T114637
CREATED:20181119T020225Z
LAST-MODIFIED:20181119T020225Z
UID:336-1543687200-1543687200@newflorenceborough.org
SUMMARY:Christmas Tree Lighting Ceremony
DESCRIPTION:Come watch the lighting of our Christmas tree and have fellowship with each other.  There will be entertainment\, cookies\, and hot cocoa.  You don’t want to miss it.
URL:https://newflorenceborough.org/event/christmas-tree-lighting-ceremony/
LOCATION:New Florence Volunteer Fire Department\, 177 13th Street\, New Florence\, PA\, 15944
ATTACH;FMTTYPE=image/png:https://newflorenceborough.org/wp-content/uploads/2017/11/photo.png
END:VEVENT
BEGIN:VEVENT
DTSTART;TZID=America/New_York:20181201T140000
DTEND;TZID=America/New_York:20181201T153000
DTSTAMP:20260425T114637
CREATED:20181119T021745Z
LAST-MODIFIED:20181119T021745Z
UID:334-1543672800-1543678200@newflorenceborough.org
SUMMARY:Santa Claus is Coming
DESCRIPTION:Santa Claus is coming to the fire hall.  Please sign up at the New Florence library by November 28th to make sure Santa has enough gifts for all the kids.
URL:https://newflorenceborough.org/event/santa-claus-is-coming/
LOCATION:New Florence Volunteer Fire Department\, 177 13th Street\, New Florence\, PA\, 15944
ATTACH;FMTTYPE=image/png:https://newflorenceborough.org/wp-content/uploads/2017/11/photo.png
END:VEVENT
END:VCALENDAR