BEGIN:VCALENDAR
VERSION:2.0
PRODID:-//New Florence Borough - ECPv6.15.20//NONSGML v1.0//EN
CALSCALE:GREGORIAN
METHOD:PUBLISH
X-ORIGINAL-URL:https://newflorenceborough.org
X-WR-CALDESC:Events for New Florence Borough
REFRESH-INTERVAL;VALUE=DURATION:PT1H
X-Robots-Tag:noindex
X-PUBLISHED-TTL:PT1H
BEGIN:VTIMEZONE
TZID:America/New_York
BEGIN:DAYLIGHT
TZOFFSETFROM:-0500
TZOFFSETTO:-0400
TZNAME:EDT
DTSTART:20250309T070000
END:DAYLIGHT
BEGIN:STANDARD
TZOFFSETFROM:-0400
TZOFFSETTO:-0500
TZNAME:EST
DTSTART:20251102T060000
END:STANDARD
BEGIN:DAYLIGHT
TZOFFSETFROM:-0500
TZOFFSETTO:-0400
TZNAME:EDT
DTSTART:20260308T070000
END:DAYLIGHT
BEGIN:STANDARD
TZOFFSETFROM:-0400
TZOFFSETTO:-0500
TZNAME:EST
DTSTART:20261101T060000
END:STANDARD
BEGIN:DAYLIGHT
TZOFFSETFROM:-0500
TZOFFSETTO:-0400
TZNAME:EDT
DTSTART:20270314T070000
END:DAYLIGHT
BEGIN:STANDARD
TZOFFSETFROM:-0400
TZOFFSETTO:-0500
TZNAME:EST
DTSTART:20271107T060000
END:STANDARD
END:VTIMEZONE
BEGIN:VEVENT
DTSTART;TZID=America/New_York:20260414T130000
DTEND;TZID=America/New_York:20260414T150000
DTSTAMP:20260423T125421
CREATED:20260313T133422Z
LAST-MODIFIED:20260313T133422Z
UID:6986-1776171600-1776178800@newflorenceborough.org
SUMMARY:New Florence Senior Center Introduction to SMART Technology Workshop
DESCRIPTION:Check out this interesting workshop the senior center will be hosting.  It’s a great way to learn how to use modern technologies to make your life easier.  Thanks.
URL:https://newflorenceborough.org/event/new-florence-senior-center-introduction-to-smart-technology-workshop/
LOCATION:New Florence Senior Center\, 216 Ligonier Street\, New Florence\, PA\, 15944\, United States
ATTACH;FMTTYPE=image/png:https://newflorenceborough.org/wp-content/uploads/2017/11/photo.png
END:VEVENT
BEGIN:VEVENT
DTSTART;TZID=America/New_York:20260414T180000
DTEND;TZID=America/New_York:20260414T190000
DTSTAMP:20260423T125421
CREATED:20260408T014341Z
LAST-MODIFIED:20260408T014341Z
UID:7042-1776189600-1776193200@newflorenceborough.org
SUMMARY:New Florence Community Library Literary Escape Book Club for Adults
DESCRIPTION:Please consider participating in the library’s adult book club.  April’s book is\, Eggs\, by Jerry Spinelli.  Stop by the library and pick up your copy if you don’t already have it.  Give the library a call if you need more information.  Thanks.
URL:https://newflorenceborough.org/event/new-florence-community-library-literary-escape-book-club-for-adults-16/
LOCATION:New Florence Community Library\, 122 N Ligonier St.\, New Florence\, PA\, 15944
ATTACH;FMTTYPE=image/png:https://newflorenceborough.org/wp-content/uploads/2017/11/photo.png
END:VEVENT
BEGIN:VEVENT
DTSTART;TZID=America/New_York:20260418T100000
DTEND;TZID=America/New_York:20260425T170000
DTSTAMP:20260423T125421
CREATED:20260420T001556Z
LAST-MODIFIED:20260420T001556Z
UID:7071-1776506400-1777136400@newflorenceborough.org
SUMMARY:New Florence Community Library Seed Library Week
DESCRIPTION:Are you ready for spring and planting season?  Check out all these interesting and fun activities the library will be hosting during the week.  If you have time\, please stop in and enjoy the activities.  Give the library a call if you need more information.
URL:https://newflorenceborough.org/event/new-florence-community-library-seed-library-week-2/
LOCATION:New Florence Community Library\, 122 N Ligonier St.\, New Florence\, PA\, 15944
ATTACH;FMTTYPE=image/png:https://newflorenceborough.org/wp-content/uploads/2017/11/photo.png
END:VEVENT
BEGIN:VEVENT
DTSTART;TZID=America/New_York:20260418T183000
DTEND;TZID=America/New_York:20260418T203000
DTSTAMP:20260423T125421
CREATED:20260318T014920Z
LAST-MODIFIED:20260318T014920Z
UID:6998-1776537000-1776544200@newflorenceborough.org
SUMMARY:New Florence Community Library "The NewLanders" FREE Concert
DESCRIPTION:Please check out this free event the library will be hosting on April 18th.  They are having a concert featuring The NewLanders with Paula Purnell and Gerard Rohlf.  The concert will be held at the New Florence Methodist Church.  If you’d like more information\, give the library a call at 724-235-2249.  Thank you.
URL:https://newflorenceborough.org/event/new-florence-community-library-the-newlanders-free-concert/
LOCATION:New Florence United Methodist Church\, 200 9th St.\, New Florence\, PA\, 15944\, United States
ATTACH;FMTTYPE=image/png:https://newflorenceborough.org/wp-content/uploads/2017/11/photo.png
END:VEVENT
BEGIN:VEVENT
DTSTART;TZID=America/New_York:20260419T120000
DTEND;TZID=America/New_York:20260419T170000
DTSTAMP:20260423T125421
CREATED:20260408T015803Z
LAST-MODIFIED:20260408T015803Z
UID:7048-1776600000-1776618000@newflorenceborough.org
SUMMARY:New Florence VFD Spaghetti Dinner
DESCRIPTION:The New Florence VFD will be holding a spaghetti dinner on Sunday\, April 19th.  If you have any questions\, please give the department a call for more information.  Thanks.
URL:https://newflorenceborough.org/event/new-florence-vfd-spaghetti-dinner/
LOCATION:New Florence Volunteer Fire Department\, 177 13th Street\, New Florence\, PA\, 15944
ATTACH;FMTTYPE=image/png:https://newflorenceborough.org/wp-content/uploads/2017/11/photo.png
END:VEVENT
BEGIN:VEVENT
DTSTART;TZID=America/New_York:20260421T183000
DTEND;TZID=America/New_York:20260421T193000
DTSTAMP:20260423T125421
CREATED:20260106T195651Z
LAST-MODIFIED:20260420T001159Z
UID:6757-1776796200-1776799800@newflorenceborough.org
SUMMARY:Borough Council Meeting
DESCRIPTION:The borough council meets monthly on the third Tuesday of each month at the borough building located at 119 Franklin Street in New Florence at 6:30 p.m. The meetings are open to the public and all are encouraged to attend. \nHere is the agenda for the meeting. AGENDA 04-21-26
URL:https://newflorenceborough.org/event/borough-council-meeting-93/
LOCATION:Borough Building\, 119 Franklin Street\, New Florence\, PA\, 15944
ATTACH;FMTTYPE=image/png:https://newflorenceborough.org/wp-content/uploads/2017/11/photo.png
END:VEVENT
BEGIN:VEVENT
DTSTART;TZID=America/New_York:20260427T130000
DTEND;TZID=America/New_York:20260427T140000
DTSTAMP:20260423T125421
CREATED:20260301T133202Z
LAST-MODIFIED:20260301T133202Z
UID:6944-1777294800-1777298400@newflorenceborough.org
SUMMARY:New Florence Community Library Essential Oils Workshop
DESCRIPTION:There’s a Make ‘N Take Essential Oil Workshop that meets Monday\, March 23rd at 1:00pm. This is a *FREE* monthly workshop to try out and learn how to adapt essential oils into your daily routine and cut out the toxic chemicals in your life. Learn about the doTERRA company and how they source and make their oils. Hosted by doTERRA Wellness Advocates Kimberly and Ashley.  Opportunities to order products will be available but purchases are not required.  For more details\, see the flyer below or give the library a call.  Thanks.
URL:https://newflorenceborough.org/event/new-florence-community-library-essential-oils-workshop-10/
LOCATION:New Florence Community Library\, 122 N Ligonier St.\, New Florence\, PA\, 15944
ATTACH;FMTTYPE=image/png:https://newflorenceborough.org/wp-content/uploads/2017/11/photo.png
END:VEVENT
BEGIN:VEVENT
DTSTART;TZID=America/New_York:20260501T180000
DTEND;TZID=America/New_York:20260501T210000
DTSTAMP:20260423T125421
CREATED:20260301T134516Z
LAST-MODIFIED:20260420T001716Z
UID:6948-1777658400-1777669200@newflorenceborough.org
SUMMARY:NF VFD Drag Queen Bingo
DESCRIPTION:Please check out this fundraiser the fire department will holding.  It’s not your grandmas B I N G O ….. BUT one that you won’t want to miss on Friday\, May 1st\, 2026.  The doors open at 6:00pm and the event starts 7:00pm.  The cost is $30 per person in advance and $35 at the door.  Dinner and refreshments are included.  You must be 18 or older to attend and BYOB for those 21 years old and older.  There will be 50/50s\, rippie tickets\, baskets\, and such.  Please come out and have FUN while raising some money for the local fire company.  Thanks. \n \nHere is an updated flyer the fire department put out. \n \n 
URL:https://newflorenceborough.org/event/nf-vfd-drag-queen-bingo-4/
LOCATION:New Florence Volunteer Fire Department\, 177 13th Street\, New Florence\, PA\, 15944
ATTACH;FMTTYPE=image/png:https://newflorenceborough.org/wp-content/uploads/2017/11/photo.png
END:VEVENT
BEGIN:VEVENT
DTSTART;TZID=America/New_York:20260502T090000
DTEND;TZID=America/New_York:20260502T130000
DTSTAMP:20260423T125421
CREATED:20260408T013637Z
LAST-MODIFIED:20260408T013637Z
UID:7038-1777712400-1777726800@newflorenceborough.org
SUMMARY:New Florence VFD Sub Sale
DESCRIPTION:The New Florence Volunteer Fire Department will be having their next sub sale on May 2nd.  Pre-order your subs until April 25th for the 2nd!  The fire department now offers local delivery for those who cannot come pick-up subs within a 3-mile radius of the station.  If you need more information\, contact the fire department.  Thank you.
URL:https://newflorenceborough.org/event/new-florence-vfd-sub-sale-40/
LOCATION:New Florence Volunteer Fire Department\, 177 13th Street\, New Florence\, PA\, 15944
ATTACH;FMTTYPE=image/png:https://newflorenceborough.org/wp-content/uploads/2017/11/photo.png
END:VEVENT
BEGIN:VEVENT
DTSTART;TZID=America/New_York:20260502T173000
DTEND;TZID=America/New_York:20260502T210000
DTSTAMP:20260423T125421
CREATED:20260408T013256Z
LAST-MODIFIED:20260408T013256Z
UID:7036-1777743000-1777755600@newflorenceborough.org
SUMMARY:New Florence VFD Rippie Night
DESCRIPTION:The New Florence Volunteer Fire Department will be having their next rippie party on May 2nd.   If you need more information\, contact the fire department.  Thank you.
URL:https://newflorenceborough.org/event/new-florence-vfd-rippie-night-50/
LOCATION:New Florence Volunteer Fire Department\, 177 13th Street\, New Florence\, PA\, 15944
ATTACH;FMTTYPE=image/png:https://newflorenceborough.org/wp-content/uploads/2017/11/photo.png
END:VEVENT
BEGIN:VEVENT
DTSTART;TZID=America/New_York:20260507T183000
DTEND;TZID=America/New_York:20260507T193000
DTSTAMP:20260423T125421
CREATED:20260106T193333Z
LAST-MODIFIED:20260106T193333Z
UID:6747-1778178600-1778182200@newflorenceborough.org
SUMMARY:New Florence/St Clair Sanitation Authority Meeting
DESCRIPTION:The New Florence/St. Clair Township Sanitation Authority holds their regularly scheduled meetings at the New Florence Sewage Authority office at 117 Franklin St.\, New Florence\, PA 15944 at 6:30 pm on the first Thursday of every other month starting in January.  The meetings are open to the public.  Any changes to the schedule are published in the Johnstown Tribune Democrat newspaper.
URL:https://newflorenceborough.org/event/new-florence-st-clair-sanitation-authority-meeting-40/
LOCATION:New Florence/St. Clair Township Sanitation Authority\, 117 Franklin Street\, New Florence\, PA\, 15944\, United States
ATTACH;FMTTYPE=image/png:https://newflorenceborough.org/wp-content/uploads/2017/11/photo.png
END:VEVENT
BEGIN:VEVENT
DTSTART;TZID=America/New_York:20260509T190000
DTEND;TZID=America/New_York:20260509T190000
DTSTAMP:20260423T125421
CREATED:20260408T014707Z
LAST-MODIFIED:20260408T014707Z
UID:7044-1778353200-1778353200@newflorenceborough.org
SUMMARY:New Florence Community Library "Welcome Summer" $500 CASH Quick Ticket
DESCRIPTION:Please check out this exciting summer raffle the library is holding as a fundraiser.  If you need more information\, please give the library a call.
URL:https://newflorenceborough.org/event/new-florence-community-library-welcome-summer-500-cash-quick-ticket/
LOCATION:New Florence Community Library\, 122 N Ligonier St.\, New Florence\, PA\, 15944
ATTACH;FMTTYPE=image/png:https://newflorenceborough.org/wp-content/uploads/2017/11/photo.png
END:VEVENT
BEGIN:VEVENT
DTSTART;TZID=America/New_York:20260517T120000
DTEND;TZID=America/New_York:20260517T153000
DTSTAMP:20260423T125421
CREATED:20260408T015134Z
LAST-MODIFIED:20260408T015134Z
UID:7046-1779019200-1779031800@newflorenceborough.org
SUMMARY:NF VFD Basket Party - May 2026
DESCRIPTION:The New Florence VFD will be holding a Basket Party on May 17th.  The VFD is looking for businesses\, organizations\, or individuals to make and or donate a basket for the Basket Party to promote your business or venture. Gift Cards are also welcomed. Please call Amber at 814-270-1786 with any questions or if you want to donate a basket for the fundraiser. Thanks.
URL:https://newflorenceborough.org/event/nf-vfd-basket-party-may-2026/
LOCATION:New Florence Volunteer Fire Department\, 177 13th Street\, New Florence\, PA\, 15944
ATTACH;FMTTYPE=image/png:https://newflorenceborough.org/wp-content/uploads/2017/11/photo.png
END:VEVENT
BEGIN:VEVENT
DTSTART;TZID=America/New_York:20260519T183000
DTEND;TZID=America/New_York:20260519T193000
DTSTAMP:20260423T125421
CREATED:20260106T195754Z
LAST-MODIFIED:20260106T195754Z
UID:6759-1779215400-1779219000@newflorenceborough.org
SUMMARY:Borough Council Meeting
DESCRIPTION:The borough council meets monthly on the third Tuesday of each month at the borough building located at 119 Franklin Street in New Florence at 6:30 p.m. The meetings are open to the public and all are encouraged to attend. \nHere is the agenda for the meeting.  PENDING
URL:https://newflorenceborough.org/event/borough-council-meeting-94/
LOCATION:Borough Building\, 119 Franklin Street\, New Florence\, PA\, 15944
ATTACH;FMTTYPE=image/png:https://newflorenceborough.org/wp-content/uploads/2017/11/photo.png
END:VEVENT
BEGIN:VEVENT
DTSTART;VALUE=DATE:20260525
DTEND;VALUE=DATE:20260526
DTSTAMP:20260423T125421
CREATED:20260106T201821Z
LAST-MODIFIED:20260106T201821Z
UID:6779-1779667200-1779753599@newflorenceborough.org
SUMMARY:Federal Holiday - Memorial Day
DESCRIPTION:Today is a federal holiday.  Governments and many businesses are closed.  Enjoy the day!
URL:https://newflorenceborough.org/event/federal-holiday-memorial-day/
LOCATION:New Florence\, PA: Multiple Locations\, New Florence\, PA\, 15944
ATTACH;FMTTYPE=image/png:https://newflorenceborough.org/wp-content/uploads/2017/11/photo.png
END:VEVENT
BEGIN:VEVENT
DTSTART;TZID=America/New_York:20260604T070000
DTEND;TZID=America/New_York:20260604T213000
DTSTAMP:20260423T125421
CREATED:20260420T031525Z
LAST-MODIFIED:20260420T031525Z
UID:7077-1780556400-1780608600@newflorenceborough.org
SUMMARY:New Florence VFW Washington DC Bus Trip
DESCRIPTION:New Florence VFW Post 7622 will be sponsoring a bus trip to Washington DC on June 4th.  Please see the flyer below for more information on this exciting trip.  Pay particular attention to the RSVP date so you can reserve a seat on the bus.  If you have any questions please give Crystal a call at 814-952-0929 or the club a call at 724-235-9904.
URL:https://newflorenceborough.org/event/new-florence-vfw-washington-dc-bus-trip/
LOCATION:New Florence VFW\, 6215 Route 711\, New Florence\, PA\, 15944
ATTACH;FMTTYPE=image/png:https://newflorenceborough.org/wp-content/uploads/2017/11/photo.png
END:VEVENT
BEGIN:VEVENT
DTSTART;TZID=America/New_York:20260613T120000
DTEND;TZID=America/New_York:20260613T180000
DTSTAMP:20260423T125421
CREATED:20260301T135405Z
LAST-MODIFIED:20260301T135405Z
UID:6950-1781352000-1781373600@newflorenceborough.org
SUMMARY:New Florence VFW Summer Bash 2026
DESCRIPTION:New Florence VFW Post 7622 will be holding their annual gun bash fundraiser on June 13th.  Please see the flyer below for more information.  Images of the gun bash ticket will be added as soon as they’re available.  The club is also selling 1000 tickets this year unlike the 500 they only sold last year.  Last year they ran out of tickets 2 months before the event.  If you have any questions please give the club a call at 724-235-9904. \n \n 
URL:https://newflorenceborough.org/event/new-florence-vfw-summer-bash-2026/
LOCATION:New Florence VFW\, 6215 Route 711\, New Florence\, PA\, 15944
ATTACH;FMTTYPE=image/png:https://newflorenceborough.org/wp-content/uploads/2017/11/photo.png
END:VEVENT
BEGIN:VEVENT
DTSTART;TZID=America/New_York:20260616T183000
DTEND;TZID=America/New_York:20260616T193000
DTSTAMP:20260423T125421
CREATED:20260106T195856Z
LAST-MODIFIED:20260106T195856Z
UID:6761-1781634600-1781638200@newflorenceborough.org
SUMMARY:Borough Council Meeting
DESCRIPTION:The borough council meets monthly on the third Tuesday of each month at the borough building located at 119 Franklin Street in New Florence at 6:30 p.m. The meetings are open to the public and all are encouraged to attend. \nHere is the agenda for the meeting.  PENDING
URL:https://newflorenceborough.org/event/borough-council-meeting-95/
LOCATION:Borough Building\, 119 Franklin Street\, New Florence\, PA\, 15944
ATTACH;FMTTYPE=image/png:https://newflorenceborough.org/wp-content/uploads/2017/11/photo.png
END:VEVENT
BEGIN:VEVENT
DTSTART;VALUE=DATE:20260619
DTEND;VALUE=DATE:20260620
DTSTAMP:20260423T125421
CREATED:20260106T202009Z
LAST-MODIFIED:20260106T202009Z
UID:6781-1781827200-1781913599@newflorenceborough.org
SUMMARY:Federal Holiday - Juneteenth National Independence Day
DESCRIPTION:Today is a federal holiday.  Governments and many businesses are closed.  Enjoy the day!
URL:https://newflorenceborough.org/event/federal-holiday-juneteenth-national-independence-day/
LOCATION:New Florence\, PA: Multiple Locations\, New Florence\, PA\, 15944
ATTACH;FMTTYPE=image/png:https://newflorenceborough.org/wp-content/uploads/2017/11/photo.png
END:VEVENT
BEGIN:VEVENT
DTSTART;TZID=America/New_York:20260620T123000
DTEND;TZID=America/New_York:20260620T133000
DTSTAMP:20260423T125421
CREATED:20260420T002426Z
LAST-MODIFIED:20260420T002426Z
UID:7074-1781958600-1781962200@newflorenceborough.org
SUMMARY:Blessing of the Bikes
DESCRIPTION:There will be a Blessing of the Bikes at the fire hall on June 20th.  If you ride\, please come out and participate.  Motorcycles are a joy to ride but come with added dangers.  Blessings and prayers are always welcome.  Additionally\, the fire department will have food and drinks for sale.  Be safe everyone.
URL:https://newflorenceborough.org/event/blessing-of-the-bikes/
LOCATION:New Florence Volunteer Fire Department\, 177 13th Street\, New Florence\, PA\, 15944
ATTACH;FMTTYPE=image/png:https://newflorenceborough.org/wp-content/uploads/2017/11/photo.png
END:VEVENT
BEGIN:VEVENT
DTSTART;TZID=America/New_York:20260702T183000
DTEND;TZID=America/New_York:20260702T193000
DTSTAMP:20260423T125421
CREATED:20260106T193452Z
LAST-MODIFIED:20260106T193452Z
UID:6749-1783017000-1783020600@newflorenceborough.org
SUMMARY:New Florence/St Clair Sanitation Authority Meeting
DESCRIPTION:The New Florence/St. Clair Township Sanitation Authority holds their regularly scheduled meetings at the New Florence Sewage Authority office at 117 Franklin St.\, New Florence\, PA 15944 at 6:30 pm on the first Thursday of every other month starting in January.  The meetings are open to the public.  Any changes to the schedule are published in the Johnstown Tribune Democrat newspaper.
URL:https://newflorenceborough.org/event/new-florence-st-clair-sanitation-authority-meeting-41/
LOCATION:New Florence/St. Clair Township Sanitation Authority\, 117 Franklin Street\, New Florence\, PA\, 15944\, United States
ATTACH;FMTTYPE=image/png:https://newflorenceborough.org/wp-content/uploads/2017/11/photo.png
END:VEVENT
BEGIN:VEVENT
DTSTART;VALUE=DATE:20260703
DTEND;VALUE=DATE:20260704
DTSTAMP:20260423T125421
CREATED:20260106T202147Z
LAST-MODIFIED:20260106T202147Z
UID:6783-1783036800-1783123199@newflorenceborough.org
SUMMARY:Federal Holiday - Independence Day (Observed)
DESCRIPTION:Today is a federal holiday.  Governments and many businesses are closed.  Enjoy the day!
URL:https://newflorenceborough.org/event/federal-holiday-independence-day-observed/
LOCATION:New Florence\, PA: Multiple Locations\, New Florence\, PA\, 15944
ATTACH;FMTTYPE=image/png:https://newflorenceborough.org/wp-content/uploads/2017/11/photo.png
END:VEVENT
BEGIN:VEVENT
DTSTART;TZID=America/New_York:20260721T183000
DTEND;TZID=America/New_York:20260721T193000
DTSTAMP:20260423T125421
CREATED:20260106T200023Z
LAST-MODIFIED:20260106T200023Z
UID:6763-1784658600-1784662200@newflorenceborough.org
SUMMARY:Borough Council Meeting
DESCRIPTION:The borough council meets monthly on the third Tuesday of each month at the borough building located at 119 Franklin Street in New Florence at 6:30 p.m. The meetings are open to the public and all are encouraged to attend. \nHere is the agenda for the meeting.  PENDING
URL:https://newflorenceborough.org/event/borough-council-meeting-96/
LOCATION:Borough Building\, 119 Franklin Street\, New Florence\, PA\, 15944
ATTACH;FMTTYPE=image/png:https://newflorenceborough.org/wp-content/uploads/2017/11/photo.png
END:VEVENT
BEGIN:VEVENT
DTSTART;TZID=America/New_York:20260801T100000
DTEND;TZID=America/New_York:20260801T170000
DTSTAMP:20260423T125421
CREATED:20260306T010346Z
LAST-MODIFIED:20260306T010346Z
UID:6965-1785578400-1785603600@newflorenceborough.org
SUMMARY:LVHS Class of 1969 75th Birthday Picnic
DESCRIPTION:Check out this event one of the older classes from Laurel Valley High School is planning.  This should be a lot of fun.  They posted the initial announcement Facebook.  More will be added as I see it posted.  The times are just a guess for now.  Thanks.
URL:https://newflorenceborough.org/event/lvhs-class-of-1969-75th-birthday-picnic/
LOCATION:New Florence VFW\, 6215 Route 711\, New Florence\, PA\, 15944
ATTACH;FMTTYPE=image/png:https://newflorenceborough.org/wp-content/uploads/2017/11/photo.png
END:VEVENT
BEGIN:VEVENT
DTSTART;TZID=America/New_York:20260818T183000
DTEND;TZID=America/New_York:20260818T193000
DTSTAMP:20260423T125421
CREATED:20260106T200132Z
LAST-MODIFIED:20260106T200132Z
UID:6765-1787077800-1787081400@newflorenceborough.org
SUMMARY:Borough Council Meeting
DESCRIPTION:The borough council meets monthly on the third Tuesday of each month at the borough building located at 119 Franklin Street in New Florence at 6:30 p.m. The meetings are open to the public and all are encouraged to attend. \nHere is the agenda for the meeting.  PENDING
URL:https://newflorenceborough.org/event/borough-council-meeting-97/
LOCATION:Borough Building\, 119 Franklin Street\, New Florence\, PA\, 15944
ATTACH;FMTTYPE=image/png:https://newflorenceborough.org/wp-content/uploads/2017/11/photo.png
END:VEVENT
BEGIN:VEVENT
DTSTART;TZID=America/New_York:20260903T183000
DTEND;TZID=America/New_York:20260903T193000
DTSTAMP:20260423T125421
CREATED:20260106T193613Z
LAST-MODIFIED:20260106T193613Z
UID:6751-1788460200-1788463800@newflorenceborough.org
SUMMARY:New Florence/St Clair Sanitation Authority Meeting
DESCRIPTION:The New Florence/St. Clair Township Sanitation Authority holds their regularly scheduled meetings at the New Florence Sewage Authority office at 117 Franklin St.\, New Florence\, PA 15944 at 6:30 pm on the first Thursday of every other month starting in January.  The meetings are open to the public.  Any changes to the schedule are published in the Johnstown Tribune Democrat newspaper.
URL:https://newflorenceborough.org/event/new-florence-st-clair-sanitation-authority-meeting-42/
LOCATION:New Florence/St. Clair Township Sanitation Authority\, 117 Franklin Street\, New Florence\, PA\, 15944\, United States
ATTACH;FMTTYPE=image/png:https://newflorenceborough.org/wp-content/uploads/2017/11/photo.png
END:VEVENT
BEGIN:VEVENT
DTSTART;VALUE=DATE:20260907
DTEND;VALUE=DATE:20260908
DTSTAMP:20260423T125421
CREATED:20260106T204413Z
LAST-MODIFIED:20260106T204413Z
UID:6785-1788739200-1788825599@newflorenceborough.org
SUMMARY:Federal Holiday - Labor Day
DESCRIPTION:Today is a federal holiday.  Governments and many businesses are closed.  Enjoy the day!
URL:https://newflorenceborough.org/event/federal-holiday-labor-day/
LOCATION:New Florence\, PA: Multiple Locations\, New Florence\, PA\, 15944
ATTACH;FMTTYPE=image/png:https://newflorenceborough.org/wp-content/uploads/2017/11/photo.png
END:VEVENT
BEGIN:VEVENT
DTSTART;TZID=America/New_York:20260915T183000
DTEND;TZID=America/New_York:20260915T193000
DTSTAMP:20260423T125421
CREATED:20260106T200245Z
LAST-MODIFIED:20260106T200245Z
UID:6767-1789497000-1789500600@newflorenceborough.org
SUMMARY:Borough Council Meeting
DESCRIPTION:The borough council meets monthly on the third Tuesday of each month at the borough building located at 119 Franklin Street in New Florence at 6:30 p.m. The meetings are open to the public and all are encouraged to attend. \nHere is the agenda for the meeting.  PENDING
URL:https://newflorenceborough.org/event/borough-council-meeting-98/
LOCATION:Borough Building\, 119 Franklin Street\, New Florence\, PA\, 15944
ATTACH;FMTTYPE=image/png:https://newflorenceborough.org/wp-content/uploads/2017/11/photo.png
END:VEVENT
BEGIN:VEVENT
DTSTART;TZID=America/New_York:20260926T130000
DTEND;TZID=America/New_York:20260926T170000
DTSTAMP:20260423T125421
CREATED:20260306T005502Z
LAST-MODIFIED:20260306T005502Z
UID:6963-1790427600-1790442000@newflorenceborough.org
SUMMARY:New Florence Craft and Vendor Show - 2026
DESCRIPTION:The New Florence Community Development announced their Craft and Vendor Show will be on September 26th.  The event will be at the borough’s playground.  Times will be updated when they’re announced. Come and enjoy a day full of local vendors.  There will be something for everyone!  These events have really been nice in past years.  Stay tuned for more updates. \nHere is their call for vendors. \nScreenshot
URL:https://newflorenceborough.org/event/new-florence-craft-and-vendor-show-2026/
LOCATION:New Florence Playground\, 13th Street\, New Florence\, PA\, 15944\, United States
ATTACH;FMTTYPE=image/png:https://newflorenceborough.org/wp-content/uploads/2017/11/photo.png
END:VEVENT
BEGIN:VEVENT
DTSTART;VALUE=DATE:20261012
DTEND;VALUE=DATE:20261013
DTSTAMP:20260423T125421
CREATED:20260106T204608Z
LAST-MODIFIED:20260106T204608Z
UID:6787-1791763200-1791849599@newflorenceborough.org
SUMMARY:Federal Holiday - Columbus Day (Indigenous Peoples' Day)
DESCRIPTION:Today is a federal holiday.  Governments and many businesses are closed.  Enjoy the day!
URL:https://newflorenceborough.org/event/federal-holiday-columbus-day-indigenous-peoples-day/
LOCATION:New Florence\, PA: Multiple Locations\, New Florence\, PA\, 15944
ATTACH;FMTTYPE=image/png:https://newflorenceborough.org/wp-content/uploads/2017/11/photo.png
END:VEVENT
END:VCALENDAR