BEGIN:VCALENDAR
VERSION:2.0
PRODID:-//New Florence Borough - ECPv6.15.20//NONSGML v1.0//EN
CALSCALE:GREGORIAN
METHOD:PUBLISH
X-ORIGINAL-URL:https://newflorenceborough.org
X-WR-CALDESC:Events for New Florence Borough
REFRESH-INTERVAL;VALUE=DURATION:PT1H
X-Robots-Tag:noindex
X-PUBLISHED-TTL:PT1H
BEGIN:VTIMEZONE
TZID:America/New_York
BEGIN:DAYLIGHT
TZOFFSETFROM:-0500
TZOFFSETTO:-0400
TZNAME:EDT
DTSTART:20230312T070000
END:DAYLIGHT
BEGIN:STANDARD
TZOFFSETFROM:-0400
TZOFFSETTO:-0500
TZNAME:EST
DTSTART:20231105T060000
END:STANDARD
BEGIN:DAYLIGHT
TZOFFSETFROM:-0500
TZOFFSETTO:-0400
TZNAME:EDT
DTSTART:20240310T070000
END:DAYLIGHT
BEGIN:STANDARD
TZOFFSETFROM:-0400
TZOFFSETTO:-0500
TZNAME:EST
DTSTART:20241103T060000
END:STANDARD
BEGIN:DAYLIGHT
TZOFFSETFROM:-0500
TZOFFSETTO:-0400
TZNAME:EDT
DTSTART:20250309T070000
END:DAYLIGHT
BEGIN:STANDARD
TZOFFSETFROM:-0400
TZOFFSETTO:-0500
TZNAME:EST
DTSTART:20251102T060000
END:STANDARD
BEGIN:DAYLIGHT
TZOFFSETFROM:-0500
TZOFFSETTO:-0400
TZNAME:EDT
DTSTART:20260308T070000
END:DAYLIGHT
BEGIN:STANDARD
TZOFFSETFROM:-0400
TZOFFSETTO:-0500
TZNAME:EST
DTSTART:20261101T060000
END:STANDARD
END:VTIMEZONE
BEGIN:VEVENT
DTSTART;TZID=America/New_York:20241231T200000
DTEND;TZID=America/New_York:20250101T000000
DTSTAMP:20260425T084604
CREATED:20241229T225001Z
LAST-MODIFIED:20241229T225001Z
UID:5678-1735675200-1735689600@newflorenceborough.org
SUMMARY:New Florence VFW New Year's Eve Dance
DESCRIPTION:The New Florence Veterans of Foreign Wars (VFW Post 7622) will be having a New Year’s Eve Dance hosted by DJ Wayne.  The dance is open to the public.  There is a $5 cover charge.  For more information give the club a call at 724-235-9904.  Thank you.
URL:https://newflorenceborough.org/event/new-florence-vfw-new-years-eve-dance/
LOCATION:New Florence VFW\, 6215 Route 711\, New Florence\, PA\, 15944
ATTACH;FMTTYPE=image/png:https://newflorenceborough.org/wp-content/uploads/2017/11/photo.png
END:VEVENT
BEGIN:VEVENT
DTSTART;TZID=America/New_York:20250102T130000
DTEND;TZID=America/New_York:20250102T160000
DTSTAMP:20260425T084604
CREATED:20241229T224308Z
LAST-MODIFIED:20241229T224308Z
UID:5676-1735822800-1735833600@newflorenceborough.org
SUMMARY:New Florence Senior Center Special New Year's Bingo
DESCRIPTION:We are excited to announce that we will be holding a special New Year’s bingo!  There is a $500 jackpot at 59 numbers.  Please call the center or message us on our Facebook page New Florence Senior Center to reserve your spot!
URL:https://newflorenceborough.org/event/new-florence-senior-center-special-new-years-bingo/
LOCATION:New Florence Senior Center\, 216 Ligonier Street\, New Florence\, PA\, 15944\, United States
ATTACH;FMTTYPE=image/png:https://newflorenceborough.org/wp-content/uploads/2017/11/photo.png
END:VEVENT
BEGIN:VEVENT
DTSTART;TZID=America/New_York:20250104T090000
DTEND;TZID=America/New_York:20250104T140000
DTSTAMP:20260425T084604
CREATED:20241229T225655Z
LAST-MODIFIED:20241229T225655Z
UID:5682-1735981200-1735999200@newflorenceborough.org
SUMMARY:New Florence VFD Sub Sale
DESCRIPTION:The New Florence Volunteer Fire Department will be holding another sub sale fundraiser. Subs will be available from 9 am until they are sold out. If you need more information\, contact the fire department. Thank you.
URL:https://newflorenceborough.org/event/new-florence-vfd-sub-sale-25/
LOCATION:New Florence Volunteer Fire Department\, 177 13th Street\, New Florence\, PA\, 15944
ATTACH;FMTTYPE=image/png:https://newflorenceborough.org/wp-content/uploads/2017/11/photo.png
END:VEVENT
BEGIN:VEVENT
DTSTART;TZID=America/New_York:20250104T173000
DTEND;TZID=America/New_York:20250104T200000
DTSTAMP:20260425T084604
CREATED:20241229T225901Z
LAST-MODIFIED:20241229T225901Z
UID:5684-1736011800-1736020800@newflorenceborough.org
SUMMARY:New Florence VFD Rippie Night
DESCRIPTION:The New Florence Volunteer Fire Department will be holding their next rippie fundraiser.  If you need more information\, please contact the fire department.  Thanks.
URL:https://newflorenceborough.org/event/new-florence-vfd-rippie-night-35/
LOCATION:New Florence Volunteer Fire Department\, 177 13th Street\, New Florence\, PA\, 15944
ATTACH;FMTTYPE=image/png:https://newflorenceborough.org/wp-content/uploads/2017/11/photo.png
END:VEVENT
BEGIN:VEVENT
DTSTART;TZID=America/New_York:20250114T180000
DTEND;TZID=America/New_York:20250114T190000
DTSTAMP:20260425T084604
CREATED:20241229T223225Z
LAST-MODIFIED:20241231T215253Z
UID:5672-1736877600-1736881200@newflorenceborough.org
SUMMARY:New Florence Community Library Literary Escape Book Club for Adults
DESCRIPTION:Please consider participating in the library’s adult book club.  January’s book\, The Sun Down Motel\, is by Simon St. James. Stop by the Library and pick up your copy if you don’t already have it.  Give the library a call if you need more information.  Thanks.  NOTE:  Here’s the updated flyer for the event\, it’s Tuesday\, the 10th. \n 
URL:https://newflorenceborough.org/event/new-florence-community-library-literary-escape-book-club-for-adults-4/
LOCATION:New Florence Community Library\, 122 N Ligonier St.\, New Florence\, PA\, 15944
ATTACH;FMTTYPE=image/png:https://newflorenceborough.org/wp-content/uploads/2017/11/photo.png
END:VEVENT
BEGIN:VEVENT
DTSTART;TZID=America/New_York:20250118T200000
DTEND;TZID=America/New_York:20250118T230000
DTSTAMP:20260425T084604
CREATED:20241229T225356Z
LAST-MODIFIED:20241229T230035Z
UID:5680-1737230400-1737241200@newflorenceborough.org
SUMMARY:New Florence VFW Post 7622 4th Annual Keith Boring Dance
DESCRIPTION:On January 18th the New Florence VFW Post 7622 will be hosting the 4th Annual Keith Boring Dance.  The group K-4 Kountry will be playing from 8:00 to 11:00 pm.  You must be 21 or over to attend the event.  Give the club a call if you have questions. \nAttention! We are accepting preorders for these shirts for the Keith Boring Dance. The shirts are military green. The front will have the New Florence VFW logo on left chest and this design on the back. Shirts are $16 for sizes up to 2x and $18 for 3x and up. You must pay when you order. The deadline for preorders is January 1st. Shirts will be in for the Keith Boring Dance with K4 Country on January 18th. \nThanks.
URL:https://newflorenceborough.org/event/new-florence-vfw-post-7622-4th-annual-keith-boring-dance/
LOCATION:New Florence VFW\, 6215 Route 711\, New Florence\, PA\, 15944
ATTACH;FMTTYPE=image/png:https://newflorenceborough.org/wp-content/uploads/2017/11/photo.png
END:VEVENT
BEGIN:VEVENT
DTSTART;TZID=America/New_York:20250121T183000
DTEND;TZID=America/New_York:20250121T193000
DTSTAMP:20260425T084604
CREATED:20250105T015127Z
LAST-MODIFIED:20250105T015127Z
UID:5696-1737484200-1737487800@newflorenceborough.org
SUMMARY:Borough Council Meeting
DESCRIPTION:The borough council meets monthly on the third Tuesday of each month at the borough building located at 119 Franklin Street in New Florence at 6:30 p.m. The meetings are open to the public and all are encouraged to attend. \nHere is the agenda for the meeting. PENDING
URL:https://newflorenceborough.org/event/borough-council-meeting-78/
LOCATION:Borough Building\, 119 Franklin Street\, New Florence\, PA\, 15944
ATTACH;FMTTYPE=image/png:https://newflorenceborough.org/wp-content/uploads/2017/11/photo.png
END:VEVENT
BEGIN:VEVENT
DTSTART;TZID=America/New_York:20250123T200000
DTEND;TZID=America/New_York:20250123T213000
DTSTAMP:20260425T084604
CREATED:20250112T030337Z
LAST-MODIFIED:20250112T030337Z
UID:5767-1737662400-1737667800@newflorenceborough.org
SUMMARY:New Florence Community Library "Take Control of Your Money" Livestream Watch Party - First Session
DESCRIPTION:Livestream Watch Party!!  The New Florence Community Library is hosting “Take Control of Your Money” Livestream presented by Ramsey Solutions\, January 23rd at 8:00pm. There will be a repeat showing Saturday\, January 25th at 3:00pm. Get 2025 off to a strong start with your financial goals.  There will be a question and answer discussion after the livestream.  This is a **FREE** program.  See the flyer below or give the library a call for more information.  Thanks.
URL:https://newflorenceborough.org/event/new-florence-community-library-take-control-of-your-money-livestream-watch-party-first-session/
LOCATION:New Florence Community Library\, 122 N Ligonier St.\, New Florence\, PA\, 15944
ATTACH;FMTTYPE=image/png:https://newflorenceborough.org/wp-content/uploads/2017/11/photo.png
END:VEVENT
BEGIN:VEVENT
DTSTART;TZID=America/New_York:20250125T150000
DTEND;TZID=America/New_York:20250125T163000
DTSTAMP:20260425T084604
CREATED:20250112T030529Z
LAST-MODIFIED:20250112T030529Z
UID:5769-1737817200-1737822600@newflorenceborough.org
SUMMARY:New Florence Community Library "Take Control of Your Money" Livestream Watch Party - Second Session
DESCRIPTION:Livestream Watch Party!!  The New Florence Community Library is hosting “Take Control of Your Money” Livestream presented by Ramsey Solutions\, January 23rd at 8:00pm. There will be a repeat showing Saturday\, January 25th at 3:00pm. Get 2025 off to a strong start with your financial goals.  There will be a question-and-answer discussion after the livestream.  This is a **FREE** program.  See the flyer below or give the library a call for more information.  Thanks.
URL:https://newflorenceborough.org/event/new-florence-community-library-take-control-of-your-money-livestream-watch-party-second-session/
LOCATION:New Florence Community Library\, 122 N Ligonier St.\, New Florence\, PA\, 15944
ATTACH;FMTTYPE=image/png:https://newflorenceborough.org/wp-content/uploads/2017/11/photo.png
END:VEVENT
BEGIN:VEVENT
DTSTART;TZID=America/New_York:20250127T180000
DTEND;TZID=America/New_York:20250127T190000
DTSTAMP:20260425T084604
CREATED:20241229T223828Z
LAST-MODIFIED:20241229T223828Z
UID:5674-1738000800-1738004400@newflorenceborough.org
SUMMARY:New Florence Community Library Essential Oils Workshop
DESCRIPTION:There’s an Oil for That meets Monday\, January 27th at 6:00pm. This is a *FREE* monthly workshop to try out and learn how to adapt essential oils into your daily routine and cut out the toxic chemicals in your life. Learn about the doTERRA company and how they source and make their oils. Hosted by doTERRA Wellness Advocate\, Kimberly Green.  Opportunities to order products will be available but purchases are not required.  For more details\, see the flyer below or give the library a call.  Thanks.
URL:https://newflorenceborough.org/event/new-florence-community-library-essential-oils-workshop-5/
LOCATION:New Florence Community Library\, 122 N Ligonier St.\, New Florence\, PA\, 15944
ATTACH;FMTTYPE=image/png:https://newflorenceborough.org/wp-content/uploads/2017/11/photo.png
END:VEVENT
BEGIN:VEVENT
DTSTART;TZID=America/New_York:20250201T090000
DTEND;TZID=America/New_York:20250201T140000
DTSTAMP:20260425T084604
CREATED:20250117T162721Z
LAST-MODIFIED:20250131T230904Z
UID:5811-1738400400-1738418400@newflorenceborough.org
SUMMARY:New Florence VFD Sub Sale
DESCRIPTION:The New Florence Volunteer Fire Department will be holding another sub sale fundraiser. Subs will be available from 9 am until they are sold out. If you need more information\, contact the fire department.  Here’s an updated flyer for the sale.  Thank you.
URL:https://newflorenceborough.org/event/new-florence-vfd-sub-sale-26/
LOCATION:New Florence Volunteer Fire Department\, 177 13th Street\, New Florence\, PA\, 15944
ATTACH;FMTTYPE=image/png:https://newflorenceborough.org/wp-content/uploads/2017/11/photo.png
END:VEVENT
BEGIN:VEVENT
DTSTART;TZID=America/New_York:20250201T173000
DTEND;TZID=America/New_York:20250201T200000
DTSTAMP:20260425T084604
CREATED:20250117T162047Z
LAST-MODIFIED:20250131T231000Z
UID:5802-1738431000-1738440000@newflorenceborough.org
SUMMARY:New Florence VFD Rippie Night
DESCRIPTION:The New Florence Volunteer Fire Department will be holding their next rippie fundraiser.  If you need more information\, please contact the fire department. Here’s an updated flyer for the party.  Thank you.
URL:https://newflorenceborough.org/event/new-florence-vfd-rippie-night-36/
LOCATION:New Florence Volunteer Fire Department\, 177 13th Street\, New Florence\, PA\, 15944
ATTACH;FMTTYPE=image/png:https://newflorenceborough.org/wp-content/uploads/2017/11/photo.png
END:VEVENT
BEGIN:VEVENT
DTSTART;TZID=America/New_York:20250204T180000
DTEND;TZID=America/New_York:20250204T190000
DTSTAMP:20260425T084604
CREATED:20250112T153044Z
LAST-MODIFIED:20250112T153044Z
UID:5779-1738692000-1738695600@newflorenceborough.org
SUMMARY:New Florence Community Development Monthly Meeting
DESCRIPTION:The New Florence Community Development organization holds monthly meetings on the first Tuesday of the month.  The meetings start at 6 pm at the borough building.  The meetings are open to the public and all are welcome to attend.  If you need more information\, you can email the group at contactnfcd@gmail.com or call Misty Clawson\, the President\, at 724-464-7984.  The group also posts regularly on their Facebook page.  New Florence Community Development.  Thank you.
URL:https://newflorenceborough.org/event/new-florence-community-development-monthly-meeting/
LOCATION:Borough Building\, 119 Franklin Street\, New Florence\, PA\, 15944
ATTACH;FMTTYPE=image/png:https://newflorenceborough.org/wp-content/uploads/2017/11/photo.png
END:VEVENT
BEGIN:VEVENT
DTSTART;TZID=America/New_York:20250204T180000
DTEND;TZID=America/New_York:20250204T193000
DTSTAMP:20260425T084604
CREATED:20250201T014203Z
LAST-MODIFIED:20250201T014203Z
UID:5855-1738692000-1738697400@newflorenceborough.org
SUMMARY:New Florence Community Library "Summer 2024 Paris Olympics Review" Guest Speaker
DESCRIPTION:Please check out this interesting guest speaker at the library.  If you have questions\, give the library a call.  Thanks.
URL:https://newflorenceborough.org/event/new-florence-community-library-summer-2024-paris-olympics-review-guest-speaker/
LOCATION:New Florence Community Library\, 122 N Ligonier St.\, New Florence\, PA\, 15944
ATTACH;FMTTYPE=image/png:https://newflorenceborough.org/wp-content/uploads/2017/11/photo.png
END:VEVENT
BEGIN:VEVENT
DTSTART;TZID=America/New_York:20250209T163000
DTEND;TZID=America/New_York:20250209T190000
DTSTAMP:20260425T084604
CREATED:20250112T025546Z
LAST-MODIFIED:20250112T025546Z
UID:5764-1739118600-1739127600@newflorenceborough.org
SUMMARY:New Florence VFW Great Chili Cook Off 2025
DESCRIPTION:The New Florence Veterans of Foreign Wars (VFW Post 7622) will be holding a chili cook off on Super Bowl Sunday.  The club will be providing lots of the chili fixings.  Based on how the Steelers vs Ravens game is going while I post this event\, I don’t expect the Steelers to be there Super Bowl Sunday.  Oh well.  For more information give the club a call at 724-235-9904.  Thank you.
URL:https://newflorenceborough.org/event/new-florence-vfw-great-chili-cook-off-2025/
LOCATION:New Florence VFW\, 6215 Route 711\, New Florence\, PA\, 15944
ATTACH;FMTTYPE=image/png:https://newflorenceborough.org/wp-content/uploads/2017/11/photo.png
END:VEVENT
BEGIN:VEVENT
DTSTART;TZID=America/New_York:20250211T180000
DTEND;TZID=America/New_York:20250211T193000
DTSTAMP:20260425T084604
CREATED:20250131T230727Z
LAST-MODIFIED:20250131T230727Z
UID:5850-1739296800-1739302200@newflorenceborough.org
SUMMARY:New Florence Community Library Literary Escape Book Club for Adults
DESCRIPTION:Please consider participating in the library’s adult book club.  February’s book is\, The Path Between the Seas: The Creation of the Panama Canal 1870 – 1914\, by David McCullough. Stop by the Library and pick up your copy if you don’t already have it.  Give the library a call if you need more information.  Thanks.
URL:https://newflorenceborough.org/event/new-florence-community-library-literary-escape-book-club-for-adults-5/
LOCATION:New Florence Community Library\, 122 N Ligonier St.\, New Florence\, PA\, 15944
ATTACH;FMTTYPE=image/png:https://newflorenceborough.org/wp-content/uploads/2017/11/photo.png
END:VEVENT
BEGIN:VEVENT
DTSTART;TZID=America/New_York:20250212T130000
DTEND;TZID=America/New_York:20250212T150000
DTSTAMP:20260425T084604
CREATED:20250112T024701Z
LAST-MODIFIED:20250112T024701Z
UID:5762-1739365200-1739372400@newflorenceborough.org
SUMMARY:New Florence Senior Center Oldies But Goodies Tribute
DESCRIPTION:Check out this fun activity at the senior center.
URL:https://newflorenceborough.org/event/new-florence-senior-center-oldies-but-goodies-tribute-2/
LOCATION:New Florence Senior Center\, 216 Ligonier Street\, New Florence\, PA\, 15944\, United States
ATTACH;FMTTYPE=image/png:https://newflorenceborough.org/wp-content/uploads/2017/11/photo.png
END:VEVENT
BEGIN:VEVENT
DTSTART;TZID=America/New_York:20250215T200000
DTEND;TZID=America/New_York:20250215T230000
DTSTAMP:20260425T084604
CREATED:20250208T040817Z
LAST-MODIFIED:20250215T175936Z
UID:5879-1739649600-1739660400@newflorenceborough.org
SUMMARY:New Florence VFW Valentine's Day Dance 2025
DESCRIPTION:Change of plans. Krazy Kat Daddies cancelled so DJ Wayne will be here tonight. $5 cover. All proceeds are going towards to Adam Bills. He’s a life member that recently lost his house in a fire. \nThe New Florence Veterans of Foreign Wars (VFW Post 7622) will be having a Valentine’s Day Dance hosted by Krazy Kat Daddies.  The dance is open to the public so bring your sweetheart for a fun night out!  There is a $5 cover charge.  There will be food for guests and drinks are available for purchase.  For more information give the club a call at 724-235-9904.  Thank you.
URL:https://newflorenceborough.org/event/new-florence-vfw-valentines-day-dance-2025/
LOCATION:New Florence VFW\, 6215 Route 711\, New Florence\, PA\, 15944
ATTACH;FMTTYPE=image/png:https://newflorenceborough.org/wp-content/uploads/2017/11/photo.png
END:VEVENT
BEGIN:VEVENT
DTSTART;TZID=America/New_York:20250218T170000
DTEND;TZID=America/New_York:20250218T170000
DTSTAMP:20260425T084604
CREATED:20250112T031706Z
LAST-MODIFIED:20250117T170850Z
UID:5775-1739898000-1739898000@newflorenceborough.org
SUMMARY:New Florence Community Library Annual Basket Party - Donation Deadline
DESCRIPTION:Here’s another flyer the library put out on ticket sales. \n \nThe New Florence Community Library had put out a notice for their annual basket party which will be February 23rd at the Fairfield Fire Hall.  Please save the date and consider donating a basket for the party.  Please see the flyer below or give the library a call for more information.  Thanks.
URL:https://newflorenceborough.org/event/new-florence-community-library-annual-basket-party-donation-deadline/
LOCATION:New Florence Community Library\, 122 N Ligonier St.\, New Florence\, PA\, 15944
ATTACH;FMTTYPE=image/png:https://newflorenceborough.org/wp-content/uploads/2017/11/photo.png
END:VEVENT
BEGIN:VEVENT
DTSTART;TZID=America/New_York:20250218T183000
DTEND;TZID=America/New_York:20250218T193000
DTSTAMP:20260425T084604
CREATED:20250105T015244Z
LAST-MODIFIED:20250105T015244Z
UID:5698-1739903400-1739907000@newflorenceborough.org
SUMMARY:Borough Council Meeting
DESCRIPTION:The borough council meets monthly on the third Tuesday of each month at the borough building located at 119 Franklin Street in New Florence at 6:30 p.m. The meetings are open to the public and all are encouraged to attend. \nHere is the agenda for the meeting. PENDING
URL:https://newflorenceborough.org/event/borough-council-meeting-79/
LOCATION:Borough Building\, 119 Franklin Street\, New Florence\, PA\, 15944
ATTACH;FMTTYPE=image/png:https://newflorenceborough.org/wp-content/uploads/2017/11/photo.png
END:VEVENT
BEGIN:VEVENT
DTSTART;TZID=America/New_York:20250223T120000
DTEND;TZID=America/New_York:20250223T160000
DTSTAMP:20260425T084604
CREATED:20250112T031500Z
LAST-MODIFIED:20250117T170733Z
UID:5773-1740312000-1740326400@newflorenceborough.org
SUMMARY:New Florence Community Library Annual Basket Party
DESCRIPTION:Here’s another flyer the library put out on ticket sales. \n \nThe New Florence Community Library had put out a notice for their annual basket party which will be February 23rd at the Fairfield Fire Hall.  Please save the date and consider donating a basket for the party.  Please see the flyer below or give the library a call for more information.  Thanks.
URL:https://newflorenceborough.org/event/new-florence-community-library-annual-basket-party-5/
LOCATION:Fairfield Township VFD\, 5414 Rt. 711\, New Florence\, PA\, 15944\, United States
ATTACH;FMTTYPE=image/png:https://newflorenceborough.org/wp-content/uploads/2017/11/photo.png
END:VEVENT
BEGIN:VEVENT
DTSTART;TZID=America/New_York:20250301T090000
DTEND;TZID=America/New_York:20250301T130000
DTSTAMP:20260425T084604
CREATED:20250224T123437Z
LAST-MODIFIED:20250224T123437Z
UID:5898-1740819600-1740834000@newflorenceborough.org
SUMMARY:New Florence VFD Sub Sale
DESCRIPTION:The New Florence Volunteer Fire Department will be holding another sub sale fundraiser. Subs will be available from 9 am until they are sold out. If you need more information\, contact the fire department.  Here’s an updated flyer for the sale.  Thank you.
URL:https://newflorenceborough.org/event/new-florence-vfd-sub-sale-27/
LOCATION:New Florence Volunteer Fire Department\, 177 13th Street\, New Florence\, PA\, 15944
ATTACH;FMTTYPE=image/png:https://newflorenceborough.org/wp-content/uploads/2017/11/photo.png
END:VEVENT
BEGIN:VEVENT
DTSTART;TZID=America/New_York:20250304T180000
DTEND;TZID=America/New_York:20250304T190000
DTSTAMP:20260425T084604
CREATED:20250112T153329Z
LAST-MODIFIED:20250112T153329Z
UID:5781-1741111200-1741114800@newflorenceborough.org
SUMMARY:New Florence Community Development Monthly Meeting
DESCRIPTION:The New Florence Community Development organization holds monthly meetings on the first Tuesday of the month.  The meetings start at 6 pm at the borough building.  The meetings are open to the public and all are welcome to attend.  If you need more information\, you can email the group at contactnfcd@gmail.com or call Misty Clawson\, the President\, at 724-464-7984.  The group also posts regularly on their Facebook page.  New Florence Community Development.  Thank you.
URL:https://newflorenceborough.org/event/new-florence-community-development-monthly-meeting-2/
LOCATION:Borough Building\, 119 Franklin Street\, New Florence\, PA\, 15944
ATTACH;FMTTYPE=image/png:https://newflorenceborough.org/wp-content/uploads/2017/11/photo.png
END:VEVENT
BEGIN:VEVENT
DTSTART;TZID=America/New_York:20250306T183000
DTEND;TZID=America/New_York:20250306T193000
DTSTAMP:20260425T084604
CREATED:20250201T023446Z
LAST-MODIFIED:20250201T023446Z
UID:5861-1741285800-1741289400@newflorenceborough.org
SUMMARY:New Florence/St Clair Sanitation Authority Meeting
DESCRIPTION:The New Florence/St. Clair Township Sanitation Authority will hold their regularly scheduled meetings at the New Florence Sewage Authority office at 117 Franklin St.\, New Florence\, PA 15944 at 6:30 pm on the first Thursday of every month starting March 2025.  The meetings are open to the public.  Any changes to the schedule are published in the Johnstown Tribune Democrat newspaper. \nNew Florence/St. Clair Township Sanitation Authority Tribune Democrat Notice December 2024
URL:https://newflorenceborough.org/event/new-florence-st-clair-sanitation-authority-meeting-33/
LOCATION:New Florence/St. Clair Township Sanitation Authority\, 117 Franklin Street\, New Florence\, PA\, 15944\, United States
ATTACH;FMTTYPE=image/png:https://newflorenceborough.org/wp-content/uploads/2017/11/photo.png
END:VEVENT
BEGIN:VEVENT
DTSTART;TZID=America/New_York:20250308T173000
DTEND;TZID=America/New_York:20250308T200000
DTSTAMP:20260425T084604
CREATED:20250224T123725Z
LAST-MODIFIED:20250226T115524Z
UID:5900-1741455000-1741464000@newflorenceborough.org
SUMMARY:New Florence VFD Rippie Night - Date Changed
DESCRIPTION:A quick date change for the New Florence Volunteer Fire Department’s rippie party.  It is delayed a week to March 8th.  The sub sale is still on March 1st.  Cheers.  Greg \n \nThe New Florence Volunteer Fire Department will be holding their next rippie fundraiser.  If you need more information\, please contact the fire department. Here’s an updated flyer for the party.  Thank you.
URL:https://newflorenceborough.org/event/new-florence-vfd-rippie-night-37/
LOCATION:New Florence Volunteer Fire Department\, 177 13th Street\, New Florence\, PA\, 15944
ATTACH;FMTTYPE=image/png:https://newflorenceborough.org/wp-content/uploads/2017/11/photo.png
END:VEVENT
BEGIN:VEVENT
DTSTART;TZID=America/New_York:20250310T110000
DTEND;TZID=America/New_York:20250404T130000
DTSTAMP:20260425T084604
CREATED:20250201T015046Z
LAST-MODIFIED:20250402T110925Z
UID:5858-1741604400-1743771600@newflorenceborough.org
SUMMARY:New Florence Senior Center Open Walk-Through Basket Party 2025
DESCRIPTION:The New Florence Center for Active Adults will be holding a walk-through basket party starting on March 10th.  The center is starting to collect baskets\, gift cards\, and donations.  This party is a great way to support your local seniors.  Come out and have some fun!!  Please call the center for more details. \n \nHere are some photos of the baskets. \n \n \n \n \n \nDon’t forget the drawing date is almost here.  Come join us at the center as we cross the finish line.
URL:https://newflorenceborough.org/event/new-florence-senior-center-open-walk-through-basket-party-2025/
LOCATION:New Florence Senior Center\, 216 Ligonier Street\, New Florence\, PA\, 15944\, United States
ATTACH;FMTTYPE=image/png:https://newflorenceborough.org/wp-content/uploads/2017/11/photo.png
END:VEVENT
BEGIN:VEVENT
DTSTART;TZID=America/New_York:20250311T180000
DTEND;TZID=America/New_York:20250311T193000
DTSTAMP:20260425T084604
CREATED:20250224T124246Z
LAST-MODIFIED:20250224T124246Z
UID:5902-1741716000-1741721400@newflorenceborough.org
SUMMARY:New Florence Community Library Literary Escape Book Club for Adults
DESCRIPTION:Please consider participating in the library’s adult book club.  March’s book is\, Mr. Churchill’s Secretary\, by Susan Elia MacNeal. Stop by the Library and pick up your copy if you don’t already have it.  Give the library a call if you need more information.  Thanks.
URL:https://newflorenceborough.org/event/new-florence-community-library-literary-escape-book-club-for-adults-6/
LOCATION:New Florence Community Library\, 122 N Ligonier St.\, New Florence\, PA\, 15944
ATTACH;FMTTYPE=image/png:https://newflorenceborough.org/wp-content/uploads/2017/11/photo.png
END:VEVENT
BEGIN:VEVENT
DTSTART;TZID=America/New_York:20250315T200000
DTEND;TZID=America/New_York:20250315T230000
DTSTAMP:20260425T084604
CREATED:20250313T131737Z
LAST-MODIFIED:20250313T131737Z
UID:5938-1742068800-1742079600@newflorenceborough.org
SUMMARY:New Florence VFW St. Patrick's Day Dance 2025
DESCRIPTION:Celebrate St. Patrick’s weekend with us at the VFW.  DJ Wayne will be leading the party with all your favorite party tunes!  The event is open to the public.  There is a $5 cover charge and participants must be 21 to attend.  Call the club if you need more information.
URL:https://newflorenceborough.org/event/new-florence-vfw-st-patricks-day-dance-2025/
LOCATION:New Florence VFW\, 6215 Route 711\, New Florence\, PA\, 15944
ATTACH;FMTTYPE=image/png:https://newflorenceborough.org/wp-content/uploads/2017/11/photo.png
END:VEVENT
BEGIN:VEVENT
DTSTART;TZID=America/New_York:20250318T183000
DTEND;TZID=America/New_York:20250318T193000
DTSTAMP:20260425T084604
CREATED:20250105T015410Z
LAST-MODIFIED:20250105T015410Z
UID:5700-1742322600-1742326200@newflorenceborough.org
SUMMARY:Borough Council Meeting
DESCRIPTION:The borough council meets monthly on the third Tuesday of each month at the borough building located at 119 Franklin Street in New Florence at 6:30 p.m. The meetings are open to the public and all are encouraged to attend. \nHere is the agenda for the meeting. PENDING
URL:https://newflorenceborough.org/event/borough-council-meeting-80/
LOCATION:Borough Building\, 119 Franklin Street\, New Florence\, PA\, 15944
ATTACH;FMTTYPE=image/png:https://newflorenceborough.org/wp-content/uploads/2017/11/photo.png
END:VEVENT
BEGIN:VEVENT
DTSTART;TZID=America/New_York:20250329T080000
DTEND;TZID=America/New_York:20250329T193000
DTSTAMP:20260425T084604
CREATED:20250117T163834Z
LAST-MODIFIED:20250117T163834Z
UID:5813-1743235200-1743276600@newflorenceborough.org
SUMMARY:Mentored Youth Trout Day 2025
DESCRIPTION:Check out this fun event the state is having for kids.  For more information check out the Mentored Youth Program website.
URL:https://newflorenceborough.org/event/mentored-youth-trout-day-2025/
LOCATION:New Florence\, PA: Multiple Locations\, New Florence\, PA\, 15944
ATTACH;FMTTYPE=image/png:https://newflorenceborough.org/wp-content/uploads/2017/11/photo.png
END:VEVENT
END:VCALENDAR