BEGIN:VCALENDAR
VERSION:2.0
PRODID:-//New Florence Borough - ECPv6.15.20//NONSGML v1.0//EN
CALSCALE:GREGORIAN
METHOD:PUBLISH
X-WR-CALNAME:New Florence Borough
X-ORIGINAL-URL:https://newflorenceborough.org
X-WR-CALDESC:Events for New Florence Borough
REFRESH-INTERVAL;VALUE=DURATION:PT1H
X-Robots-Tag:noindex
X-PUBLISHED-TTL:PT1H
BEGIN:VTIMEZONE
TZID:America/New_York
BEGIN:DAYLIGHT
TZOFFSETFROM:-0500
TZOFFSETTO:-0400
TZNAME:EDT
DTSTART:20230312T070000
END:DAYLIGHT
BEGIN:STANDARD
TZOFFSETFROM:-0400
TZOFFSETTO:-0500
TZNAME:EST
DTSTART:20231105T060000
END:STANDARD
BEGIN:DAYLIGHT
TZOFFSETFROM:-0500
TZOFFSETTO:-0400
TZNAME:EDT
DTSTART:20240310T070000
END:DAYLIGHT
BEGIN:STANDARD
TZOFFSETFROM:-0400
TZOFFSETTO:-0500
TZNAME:EST
DTSTART:20241103T060000
END:STANDARD
BEGIN:DAYLIGHT
TZOFFSETFROM:-0500
TZOFFSETTO:-0400
TZNAME:EDT
DTSTART:20250309T070000
END:DAYLIGHT
BEGIN:STANDARD
TZOFFSETFROM:-0400
TZOFFSETTO:-0500
TZNAME:EST
DTSTART:20251102T060000
END:STANDARD
END:VTIMEZONE
BEGIN:VEVENT
DTSTART;TZID=America/New_York:20240502T183000
DTEND;TZID=America/New_York:20240502T193000
DTSTAMP:20260425T124404
CREATED:20240107T192634Z
LAST-MODIFIED:20240107T192634Z
UID:4745-1714674600-1714678200@newflorenceborough.org
SUMMARY:New Florence/St Clair Sanitation Authority Meeting
DESCRIPTION:The New Florence/St. Clair Township Sanitation Authority holds their regularly scheduled meetings at the New Florence Sewage Authority office at 117 Franklin St.\, New Florence\, PA 15944 at 6:30 pm on the first Thursday of every month.  The meetings are open to the public.  Any changes to the schedule are published in the Johnstown Tribune Democrat newspaper.
URL:https://newflorenceborough.org/event/new-florence-st-clair-sanitation-authority-meeting-25/
LOCATION:New Florence/St. Clair Township Sanitation Authority\, 117 Franklin Street\, New Florence\, PA\, 15944\, United States
ATTACH;FMTTYPE=image/png:https://newflorenceborough.org/wp-content/uploads/2017/11/photo.png
END:VEVENT
BEGIN:VEVENT
DTSTART;TZID=America/New_York:20240504T090000
DTEND;TZID=America/New_York:20240504T140000
DTSTAMP:20260425T124404
CREATED:20240427T125335Z
LAST-MODIFIED:20240427T125335Z
UID:5003-1714813200-1714831200@newflorenceborough.org
SUMMARY:New Florence VFD Sub Sale
DESCRIPTION:The New Florence Volunteer Fire Department will be holding another sub sale fundraiser. Subs will be available from 9 am until they are sold out.  If you need more information\, contact the fire department.   Thank you.
URL:https://newflorenceborough.org/event/new-florence-vfd-sub-sale-18/
LOCATION:New Florence Volunteer Fire Department\, 177 13th Street\, New Florence\, PA\, 15944
ATTACH;FMTTYPE=image/png:https://newflorenceborough.org/wp-content/uploads/2017/11/photo.png
END:VEVENT
BEGIN:VEVENT
DTSTART;TZID=America/New_York:20240504T173000
DTEND;TZID=America/New_York:20240504T210000
DTSTAMP:20260425T124404
CREATED:20240427T125549Z
LAST-MODIFIED:20240427T125549Z
UID:5007-1714843800-1714856400@newflorenceborough.org
SUMMARY:New Florence VFD Rippie Night
DESCRIPTION:The New Florence Volunteer Fire Department will be holding their next rippie fundraiser.  If you need more information\, please contact the fire department.  Thanks.
URL:https://newflorenceborough.org/event/new-florence-vfd-rippie-night-27/
LOCATION:New Florence Volunteer Fire Department\, 177 13th Street\, New Florence\, PA\, 15944
ATTACH;FMTTYPE=image/png:https://newflorenceborough.org/wp-content/uploads/2017/11/photo.png
END:VEVENT
BEGIN:VEVENT
DTSTART;TZID=America/New_York:20240505T100000
DTEND;TZID=America/New_York:20240505T160000
DTSTAMP:20260425T124404
CREATED:20240326T145037Z
LAST-MODIFIED:20240326T145037Z
UID:4955-1714903200-1714924800@newflorenceborough.org
SUMMARY:Museums of the Ligonier Valley - Free Museum Day 2024
DESCRIPTION:Please check out this free event at five of our local museums.  Here is a link from the Lincoln Highway Heritage Corridor.  Free Museum Day 2024  To learn more please call the museum you are interested in.\nHere are the various telephone numbers: \nCompass Inn Museum\, 724-238-6818\nFort Ligonier\, 724-238-9701\nLincoln Highway Heritage Corridor\, 724-879-4241\nLigonier Valley Rail Road Museum\, 724-238-7819\nSouthern Alleghenies Museum of Art\, 724-238-6015 \nI’ll post more information when it becomes available. \n  \n \n 
URL:https://newflorenceborough.org/event/museums-of-the-ligonier-valley-free-museum-day-2024/
LOCATION:PA
ATTACH;FMTTYPE=image/png:https://newflorenceborough.org/wp-content/uploads/2017/11/photo.png
END:VEVENT
BEGIN:VEVENT
DTSTART;TZID=America/New_York:20240508T180000
DTEND;TZID=America/New_York:20240508T190000
DTSTAMP:20260425T124404
CREATED:20240506T123237Z
LAST-MODIFIED:20240506T123237Z
UID:5034-1715191200-1715194800@newflorenceborough.org
SUMMARY:New Florence Community Library "Summer Fun" Essential Oils Workshop
DESCRIPTION:Free Workshop!! Enjoy your time outside! This Wednesday\, May 8th at 6pm\, join us in learning how to incorporate essential oils into summer outdoor activities.  Whether you gardening\, hiking\, playing/watching sports\, hanging out at the pool/beach\, or having a backyard party\, essential oils offer protection from the sun and bugs\, naturally without toxic chemicals.  For more details\, see the flyer below or give the library a call.  Thanks.
URL:https://newflorenceborough.org/event/new-florence-community-library-summer-fun-essential-oils-workshop/
LOCATION:New Florence Community Library\, 122 N Ligonier St.\, New Florence\, PA\, 15944
ATTACH;FMTTYPE=image/png:https://newflorenceborough.org/wp-content/uploads/2017/11/photo.png
END:VEVENT
BEGIN:VEVENT
DTSTART;TZID=America/New_York:20240509T190000
DTEND;TZID=America/New_York:20240509T200000
DTSTAMP:20260425T124404
CREATED:20240415T113650Z
LAST-MODIFIED:20240427T125059Z
UID:4991-1715281200-1715284800@newflorenceborough.org
SUMMARY:Scouts BSA Open House Night 2024 - Date Changed
DESCRIPTION:The Scouting Open House Night date has changed.  It will now be Thursday May 9th instead of Thursday\, May 2nd.  Please be aware of the change. \nThere will be a Scouting Open House Night for youth ages 11 to 17 on Thursday\, May 9nd\, (new date) at 7 pm for Scouts BSA Troop 1123 (boys) & Troop 2123 (girls) at the New Florence United Methodist Church.  For more information on the Scouting Open House please contact Scott Hamley at enonvalleyinc@hotmail.com or at 724-859-6745.  Thank you.
URL:https://newflorenceborough.org/event/scouts-bsa-open-house-night-2024/
LOCATION:New Florence United Methodist Church\, 200 9th St.\, New Florence\, PA\, 15944\, United States
ATTACH;FMTTYPE=image/png:https://newflorenceborough.org/wp-content/uploads/2017/11/photo.png
END:VEVENT
BEGIN:VEVENT
DTSTART;TZID=America/New_York:20240511T150000
DTEND;TZID=America/New_York:20240511T170000
DTSTAMP:20260425T124404
CREATED:20240326T143637Z
LAST-MODIFIED:20240326T143637Z
UID:4951-1715439600-1715446800@newflorenceborough.org
SUMMARY:New Florence VFW Post 7622 Meat Raffle - 2024
DESCRIPTION:Check out this fundraiser the VFW is holding.  This event is open to the public.  Good luck!
URL:https://newflorenceborough.org/event/new-florence-vfw-post-7622-meat-raffle-2024/
LOCATION:New Florence VFW\, 6215 Route 711\, New Florence\, PA\, 15944
ATTACH;FMTTYPE=image/png:https://newflorenceborough.org/wp-content/uploads/2017/11/photo.png
END:VEVENT
BEGIN:VEVENT
DTSTART;TZID=America/New_York:20240519T120000
DTEND;TZID=America/New_York:20240519T160000
DTSTAMP:20260425T124404
CREATED:20240427T130134Z
LAST-MODIFIED:20240427T130134Z
UID:5009-1716120000-1716134400@newflorenceborough.org
SUMMARY:NF VFD Basket Party - May 2024
DESCRIPTION:The New Florence VFD will be holding a Basket Party on May 19th.  The VFD is looking for businesses\, organizations\, or individuals to make and donate a basket for the Basket Party to promote your business or venture. Gift Cards are also welcomed. Please call Amber at 814-270-1786 with any questions or if you want to donate a basket for the fundraiser. Projected pick up date will be May 16th for donated items.  Please see the flyer below.
URL:https://newflorenceborough.org/event/nf-vfd-basket-party-may-2024/
LOCATION:New Florence Volunteer Fire Department\, 177 13th Street\, New Florence\, PA\, 15944
ATTACH;FMTTYPE=image/png:https://newflorenceborough.org/wp-content/uploads/2017/11/photo.png
END:VEVENT
BEGIN:VEVENT
DTSTART;TZID=America/New_York:20240520T080000
DTEND;TZID=America/New_York:20240602T170000
DTSTAMP:20260425T124404
CREATED:20240513T120346Z
LAST-MODIFIED:20240514T215956Z
UID:5052-1716192000-1717347600@newflorenceborough.org
SUMMARY:New Florence Community Library Online Book Fair - Spring 2024
DESCRIPTION:The library is teaming up with BookFair.org for a 2-week online Book Fair from May 20th through June 2nd.  The library earns a portion of every sale.  Please check out the flyer below if you’d like to participate.  The link to the bookstore can be found here.  BookFair.org Link \n 
URL:https://newflorenceborough.org/event/new-florence-community-library-online-book-fair-spring-2024/
LOCATION:New Florence Community Library\, 122 N Ligonier St.\, New Florence\, PA\, 15944
ATTACH;FMTTYPE=image/png:https://newflorenceborough.org/wp-content/uploads/2017/11/photo.png
END:VEVENT
BEGIN:VEVENT
DTSTART;TZID=America/New_York:20240521T183000
DTEND;TZID=America/New_York:20240521T193000
DTSTAMP:20260425T124404
CREATED:20240107T000655Z
LAST-MODIFIED:20240107T000655Z
UID:4713-1716316200-1716319800@newflorenceborough.org
SUMMARY:Borough Council Meeting
DESCRIPTION:The borough council meets monthly on the third Tuesday of each month at the borough building located at 119 Franklin Street in New Florence at 6:30 p.m. The meetings are open to the public and all are encouraged to attend. \nHere is the agenda for the meeting. PENDING
URL:https://newflorenceborough.org/event/borough-council-meeting-70/
LOCATION:Borough Building\, 119 Franklin Street\, New Florence\, PA\, 15944
ATTACH;FMTTYPE=image/png:https://newflorenceborough.org/wp-content/uploads/2017/11/photo.png
END:VEVENT
BEGIN:VEVENT
DTSTART;TZID=America/New_York:20240601T080000
DTEND;TZID=America/New_York:20240601T160000
DTSTAMP:20260425T124404
CREATED:20240506T122839Z
LAST-MODIFIED:20240531T020105Z
UID:5032-1717228800-1717257600@newflorenceborough.org
SUMMARY:New Florence Town-Wide Yard Sale
DESCRIPTION:Here’s the list of participants and a map the library put together with those who’d signed up with them. \n \n \nHere’s another flyer for the yard sale. \n \nThe annual yard sale is scheduled for this day.  As in years past\, the town library will have a list of residents participating in the sale.  There is a $5 fee to have your name and address added to the list.  Please contact the New Florence Community Library at 724-235-2249 to be included.  Thanks to the Community Development organization for putting this together.  If you have any questions please contact Taylor Solich\, President\, at 724-235-9993  or via Email at nflcommunitydev@yahoo.com.
URL:https://newflorenceborough.org/event/new-florence-town-wide-yard-sale-6/
LOCATION:New Florence\, PA: Multiple Locations\, New Florence\, PA\, 15944
ATTACH;FMTTYPE=image/png:https://newflorenceborough.org/wp-content/uploads/2017/11/photo.png
END:VEVENT
BEGIN:VEVENT
DTSTART;TZID=America/New_York:20240601T100000
DTEND;TZID=America/New_York:20240601T150000
DTSTAMP:20260425T124404
CREATED:20240526T210952Z
LAST-MODIFIED:20240526T210952Z
UID:5088-1717236000-1717254000@newflorenceborough.org
SUMMARY:New Florence VFD Chicken BBQ
DESCRIPTION:The New Florence VFD will be holding their next Chicken BBQ fundraiser on June 1st.  They will start at 10 am.  They will go till sold out.  Preorders are welcome.  Please come out and support the fire department.  Thanks.
URL:https://newflorenceborough.org/event/new-florence-vfd-chicken-bbq-14/
LOCATION:New Florence Volunteer Fire Department\, 177 13th Street\, New Florence\, PA\, 15944
ATTACH;FMTTYPE=image/png:https://newflorenceborough.org/wp-content/uploads/2017/11/photo.png
END:VEVENT
BEGIN:VEVENT
DTSTART;TZID=America/New_York:20240601T173000
DTEND;TZID=America/New_York:20240601T210000
DTSTAMP:20260425T124404
CREATED:20240526T211222Z
LAST-MODIFIED:20240526T211222Z
UID:5090-1717263000-1717275600@newflorenceborough.org
SUMMARY:New Florence VFD Rippie Night
DESCRIPTION:The New Florence Volunteer Fire Department will be holding their next rippie fundraiser.  If you need more information\, please contact the fire department.  Thanks.
URL:https://newflorenceborough.org/event/new-florence-vfd-rippie-night-28/
LOCATION:New Florence Volunteer Fire Department\, 177 13th Street\, New Florence\, PA\, 15944
ATTACH;FMTTYPE=image/png:https://newflorenceborough.org/wp-content/uploads/2017/11/photo.png
END:VEVENT
BEGIN:VEVENT
DTSTART;TZID=America/New_York:20240606T183000
DTEND;TZID=America/New_York:20240606T193000
DTSTAMP:20260425T124404
CREATED:20240107T192750Z
LAST-MODIFIED:20240107T192750Z
UID:4747-1717698600-1717702200@newflorenceborough.org
SUMMARY:New Florence/St Clair Sanitation Authority Meeting
DESCRIPTION:The New Florence/St. Clair Township Sanitation Authority holds their regularly scheduled meetings at the New Florence Sewage Authority office at 117 Franklin St.\, New Florence\, PA 15944 at 6:30 pm on the first Thursday of every month.  The meetings are open to the public.  Any changes to the schedule are published in the Johnstown Tribune Democrat newspaper.
URL:https://newflorenceborough.org/event/new-florence-st-clair-sanitation-authority-meeting-26/
LOCATION:New Florence/St. Clair Township Sanitation Authority\, 117 Franklin Street\, New Florence\, PA\, 15944\, United States
ATTACH;FMTTYPE=image/png:https://newflorenceborough.org/wp-content/uploads/2017/11/photo.png
END:VEVENT
BEGIN:VEVENT
DTSTART;TZID=America/New_York:20240608T120000
DTEND;TZID=America/New_York:20240608T180000
DTSTAMP:20260425T124404
CREATED:20240504T141205Z
LAST-MODIFIED:20240518T172841Z
UID:5022-1717848000-1717869600@newflorenceborough.org
SUMMARY:New Florence VFW Gun Bash 2024
DESCRIPTION:New Florence VFW Post 7622 will be holding their annual gun bash fundraiser.  Save the date of June 8th.  Any image of the gun bash ticket will be added as it becomes available.  If you have questions please give the club a call at 724-235-9904. \n \nHere are images of the ticket.  Sorry they’re not the greatest.
URL:https://newflorenceborough.org/event/new-florence-vfw-gun-bash-2024/
LOCATION:New Florence VFW\, 6215 Route 711\, New Florence\, PA\, 15944
ATTACH;FMTTYPE=image/png:https://newflorenceborough.org/wp-content/uploads/2017/11/photo.png
END:VEVENT
BEGIN:VEVENT
DTSTART;TZID=America/New_York:20240614T080000
DTEND;TZID=America/New_York:20240614T160000
DTSTAMP:20260425T124404
CREATED:20240513T114937Z
LAST-MODIFIED:20240523T012032Z
UID:5043-1718352000-1718380800@newflorenceborough.org
SUMMARY:2024 Spring Dumpster Days - Day 1
DESCRIPTION:At the May borough meeting\, the council made a few tweaks on what would be accepted during the June Dumpster Days.  Lead acid batteries and tires (some restrictions) will now be taken.  Please see the updated flyer.  Thanks. \n \n 
URL:https://newflorenceborough.org/event/2024-spring-dumpster-days-day-1/
LOCATION:Old Yellow Brick School Building\, N. Ligonier St. and 8th St.\, New Florence\, PA
ATTACH;FMTTYPE=image/png:https://newflorenceborough.org/wp-content/uploads/2017/11/photo.png
END:VEVENT
BEGIN:VEVENT
DTSTART;TZID=America/New_York:20240615T080000
DTEND;TZID=America/New_York:20240615T160000
DTSTAMP:20260425T124404
CREATED:20240513T115111Z
LAST-MODIFIED:20240615T125849Z
UID:5045-1718438400-1718467200@newflorenceborough.org
SUMMARY:2024 Spring Dumpster Days - Day 2 - Finished
DESCRIPTION:The borough could not find someone to bring more empty dumpsters so the collection event is over. Sorry. \n \nAt the May borough meeting\, the council made a few tweaks on what would be accepted during the June Dumpster Days.  Lead acid batteries and tires (some restrictions) will now be taken.  Please see the updated flyer.  Thanks.
URL:https://newflorenceborough.org/event/2024-spring-dumpster-days-day-2/
LOCATION:Old Yellow Brick School Building\, N. Ligonier St. and 8th St.\, New Florence\, PA
ATTACH;FMTTYPE=image/png:https://newflorenceborough.org/wp-content/uploads/2017/11/photo.png
END:VEVENT
BEGIN:VEVENT
DTSTART;TZID=America/New_York:20240618T183000
DTEND;TZID=America/New_York:20240618T193000
DTSTAMP:20260425T124404
CREATED:20240107T000808Z
LAST-MODIFIED:20240617T112916Z
UID:4715-1718735400-1718739000@newflorenceborough.org
SUMMARY:Borough Council Meeting
DESCRIPTION:The borough council meets monthly on the third Tuesday of each month at the borough building located at 119 Franklin Street in New Florence at 6:30 p.m. The meetings are open to the public and all are encouraged to attend. \nHere is the agenda for this month’s borough council meeting.  AGENDA 06-18-24  Thanks.
URL:https://newflorenceborough.org/event/borough-council-meeting-71/
LOCATION:Borough Building\, 119 Franklin Street\, New Florence\, PA\, 15944
ATTACH;FMTTYPE=image/png:https://newflorenceborough.org/wp-content/uploads/2017/11/photo.png
END:VEVENT
BEGIN:VEVENT
DTSTART;TZID=America/New_York:20240624T070000
DTEND;TZID=America/New_York:20240703T170000
DTSTAMP:20260425T124404
CREATED:20240615T124109Z
LAST-MODIFIED:20240702T012624Z
UID:5130-1719212400-1720026000@newflorenceborough.org
SUMMARY:Road Now Open - Rt. 711 at Tubmill Creek near Mirror Lake
DESCRIPTION:Hoorah\, Rt 711 by Mirror Lake is now open.  The bridge replacement project is in the cleanup stage.  Not bad replacing a bridge in a week.  Looks nice.  Cheers. \n \n \n  \nStarting June 24th\, Route 711 will be closed on the New Florence side of Fairfield hill for bridge work.  The Tubmill Creek bridge\, which is listed in “poor to serious” condition\, will be replaced with a wider pre-cast concrete box culvert.  A multi-week detour is anticipated\, with passenger cars diverted along a northbound route of nearly 9 miles and a southbound route of almost 14 miles.  The official detour for trucks and RV campers will take them nearly 28 miles out of the way.  Detour signs should be in place soon.  Please use caution on the detour roads.  Hopefully this work can be completed quickly.  The dates on this post are just estimates.  Changes are likely.  Please be careful.
URL:https://newflorenceborough.org/event/road-closure-rt-711-at-tubmill-creek-near-mirror-lake/
LOCATION:PA
ATTACH;FMTTYPE=image/png:https://newflorenceborough.org/wp-content/uploads/2017/11/photo.png
END:VEVENT
BEGIN:VEVENT
DTSTART;TZID=America/New_York:20240626T140000
DTEND;TZID=America/New_York:20240626T160000
DTSTAMP:20260425T124404
CREATED:20240625T020120Z
LAST-MODIFIED:20240625T020120Z
UID:5174-1719410400-1719417600@newflorenceborough.org
SUMMARY:New Florence Community Library "When you Read\, you Score" Tomahawks Chopper Storyteller
DESCRIPTION:Please check out this unique event where the Tomahawks mascot\, Chopper\, interacts with the kids.  See the flyer below or give the library a call for more details.  Thanks.
URL:https://newflorenceborough.org/event/new-florence-community-library-when-you-read-you-score-tomahawks-chopper-storyteller/
LOCATION:New Florence Community Library\, 122 N Ligonier St.\, New Florence\, PA\, 15944
ATTACH;FMTTYPE=image/png:https://newflorenceborough.org/wp-content/uploads/2017/11/photo.png
END:VEVENT
BEGIN:VEVENT
DTSTART;TZID=America/New_York:20240629T110000
DTEND;TZID=America/New_York:20240629T150000
DTSTAMP:20260425T124404
CREATED:20240504T141949Z
LAST-MODIFIED:20240504T141949Z
UID:5024-1719658800-1719673200@newflorenceborough.org
SUMMARY:New Florence Senior Center Special Saturday Bingo
DESCRIPTION:We are excited to announce that we will be holding our first SATURDAY bingo!  Please call the center or message us on our Facebook page New Florence Senior Center to reserve your spot!
URL:https://newflorenceborough.org/event/new-florence-senior-center-special-saturday-bingo/
LOCATION:New Florence Senior Center\, 216 Ligonier Street\, New Florence\, PA\, 15944\, United States
ATTACH;FMTTYPE=image/png:https://newflorenceborough.org/wp-content/uploads/2017/11/photo.png
END:VEVENT
BEGIN:VEVENT
DTSTART;TZID=America/New_York:20240629T190000
DTEND;TZID=America/New_York:20240629T190000
DTSTAMP:20260425T124404
CREATED:20240521T112328Z
LAST-MODIFIED:20240521T112328Z
UID:5073-1719687600-1719687600@newflorenceborough.org
SUMMARY:Squirrel Hill Hunting Club Accident Victim Ticket June 2024
DESCRIPTION:The Squirrel Hill Hunting Club is selling a raffle ticket to benefit a member that was recently in a car accident. The tickets are only $10 with 333 tickets being sold. It goes off the PA Lottery Pick 3 7 pm daily number on June 29th.  The winner can pick either the rifle or $1000.  Please contact any club member to purchase tickets.  You can also contact Sue or Gary Buckles through the club’s Facebook page Squirrel Hill Hunting Club Lifetime Hunts for more information.  Sue can also be reached at 724-600-9734 for tickets.  Thank you.
URL:https://newflorenceborough.org/event/squirrel-hill-hunting-club-accident-victim-ticket-june-2024/
LOCATION:New Florence\, PA: Multiple Locations\, New Florence\, PA\, 15944
ATTACH;FMTTYPE=image/png:https://newflorenceborough.org/wp-content/uploads/2017/11/photo.png
END:VEVENT
BEGIN:VEVENT
DTSTART;TZID=America/New_York:20240702T140000
DTEND;TZID=America/New_York:20240702T160000
DTSTAMP:20260425T124404
CREATED:20240625T015134Z
LAST-MODIFIED:20240625T015134Z
UID:5170-1719928800-1719936000@newflorenceborough.org
SUMMARY:New Florence Community Library - Imagine Your Adventure Magic Show
DESCRIPTION:Please check out this fun event for the kids.  See the flyer below for more details or give the library a call.  Thanks. \n \n 
URL:https://newflorenceborough.org/event/new-florence-community-library-imagine-your-adventure-magic-show/
LOCATION:New Florence Community Library\, 122 N Ligonier St.\, New Florence\, PA\, 15944
ATTACH;FMTTYPE=image/png:https://newflorenceborough.org/wp-content/uploads/2017/11/photo.png
END:VEVENT
BEGIN:VEVENT
DTSTART;TZID=America/New_York:20240702T183000
DTEND;TZID=America/New_York:20240702T193000
DTSTAMP:20260425T124404
CREATED:20240615T122345Z
LAST-MODIFIED:20240615T122345Z
UID:5123-1719945000-1719948600@newflorenceborough.org
SUMMARY:New Florence Community Development Public Meeting - July 2024
DESCRIPTION:The New Florence Community Development will be holding a public meeting on July 2nd at the playground.  Please bring any concerns or events to the meeting you’d like the group to consider.  They are also accepting new members.
URL:https://newflorenceborough.org/event/new-florence-community-development-public-meeting-july-2024/
LOCATION:New Florence Playground\, 13th Street\, New Florence\, PA\, 15944\, United States
ATTACH;FMTTYPE=image/png:https://newflorenceborough.org/wp-content/uploads/2017/11/photo.png
END:VEVENT
BEGIN:VEVENT
DTSTART;TZID=America/New_York:20240704T190000
DTEND;TZID=America/New_York:20240704T190000
DTSTAMP:20260425T124404
CREATED:20240513T115652Z
LAST-MODIFIED:20240513T115652Z
UID:5049-1720119600-1720119600@newflorenceborough.org
SUMMARY:New Florence Community Library Firecracker $500 CASH Quick Ticket
DESCRIPTION:Please check out this exciting 4th of July raffle the library is holding as a fundraiser.  If you need more information\, please give the library a call.
URL:https://newflorenceborough.org/event/new-florence-community-library-firecracker-500-cash-quick-ticket/
LOCATION:New Florence Community Library\, 122 N Ligonier St.\, New Florence\, PA\, 15944
ATTACH;FMTTYPE=image/png:https://newflorenceborough.org/wp-content/uploads/2017/11/photo.png
END:VEVENT
BEGIN:VEVENT
DTSTART;TZID=America/New_York:20240706T090000
DTEND;TZID=America/New_York:20240706T140000
DTSTAMP:20260425T124404
CREATED:20240625T013752Z
LAST-MODIFIED:20240706T001646Z
UID:5164-1720256400-1720274400@newflorenceborough.org
SUMMARY:New Florence VFD Sub Sale
DESCRIPTION:The New Florence Volunteer Fire Department will be holding another sub sale fundraiser. Subs will be available from 9 am until they are sold out.  If you need more information\, contact the fire department.   Thank you.
URL:https://newflorenceborough.org/event/new-florence-vfd-sub-sale-19/
LOCATION:New Florence Volunteer Fire Department\, 177 13th Street\, New Florence\, PA\, 15944
ATTACH;FMTTYPE=image/png:https://newflorenceborough.org/wp-content/uploads/2017/11/photo.png
END:VEVENT
BEGIN:VEVENT
DTSTART;TZID=America/New_York:20240706T173000
DTEND;TZID=America/New_York:20240706T210000
DTSTAMP:20260425T124404
CREATED:20240625T013454Z
LAST-MODIFIED:20240706T001733Z
UID:5162-1720287000-1720299600@newflorenceborough.org
SUMMARY:New Florence VFD Rippie Night
DESCRIPTION:The New Florence Volunteer Fire Department will be holding their next rippie fundraiser.  If you need more information\, please contact the fire department.  Thanks.
URL:https://newflorenceborough.org/event/new-florence-vfd-rippie-night-29/
LOCATION:New Florence Volunteer Fire Department\, 177 13th Street\, New Florence\, PA\, 15944
ATTACH;FMTTYPE=image/png:https://newflorenceborough.org/wp-content/uploads/2017/11/photo.png
END:VEVENT
BEGIN:VEVENT
DTSTART;TZID=America/New_York:20240711T140000
DTEND;TZID=America/New_York:20240711T160000
DTSTAMP:20260425T124404
CREATED:20240625T015631Z
LAST-MODIFIED:20240625T015631Z
UID:5172-1720706400-1720713600@newflorenceborough.org
SUMMARY:New Florence Community Library "Into the Forest" Alan Irvine Storyteller
DESCRIPTION:Please check out this fun storytelling event for the kids.  See the flyer below for more details or give the library a call.  Thanks.
URL:https://newflorenceborough.org/event/new-florence-community-library-into-the-forest-alan-irvine-storyteller/
LOCATION:New Florence Community Library\, 122 N Ligonier St.\, New Florence\, PA\, 15944
ATTACH;FMTTYPE=image/png:https://newflorenceborough.org/wp-content/uploads/2017/11/photo.png
END:VEVENT
BEGIN:VEVENT
DTSTART;TZID=America/New_York:20240711T173000
DTEND;TZID=America/New_York:20240711T193000
DTSTAMP:20260425T124404
CREATED:20240615T123331Z
LAST-MODIFIED:20240615T123331Z
UID:5127-1720719000-1720726200@newflorenceborough.org
SUMMARY:New Florence VFW Post 7622 Korean Cooking Night Fundraiser
DESCRIPTION:The New Florence VFW Post 7622 is also hosting a Korean Cooking Night to benefit a local family in need on July 11th.  Please see the flyer below or contact the club for more information.
URL:https://newflorenceborough.org/event/new-florence-vfw-post-7622-korean-cooking-night-fundraiser/
LOCATION:New Florence VFW\, 6215 Route 711\, New Florence\, PA\, 15944
ATTACH;FMTTYPE=image/png:https://newflorenceborough.org/wp-content/uploads/2017/11/photo.png
END:VEVENT
BEGIN:VEVENT
DTSTART;TZID=America/New_York:20240711T183000
DTEND;TZID=America/New_York:20240711T193000
DTSTAMP:20260425T124404
CREATED:20240107T193018Z
LAST-MODIFIED:20240615T121843Z
UID:4749-1720722600-1720726200@newflorenceborough.org
SUMMARY:New Florence/St Clair Sanitation Authority Meeting - Rescheduled
DESCRIPTION:This meeting has been rescheduled to the 11th from the 4th due to the Federal Holiday. \nThe New Florence/St. Clair Township Sanitation Authority holds their regularly scheduled meetings at the New Florence Sewage Authority office at 117 Franklin St.\, New Florence\, PA 15944 at 6:30 pm on the first Thursday of every month.  The meetings are open to the public.  Any changes to the schedule are published in the Johnstown Tribune Democrat newspaper. \nNote: Since this meeting falls on the holiday it will probably be rescheduled.  Stay tuned for an update.  Thanks.
URL:https://newflorenceborough.org/event/new-florence-st-clair-sanitation-authority-meeting-27/
LOCATION:New Florence/St. Clair Township Sanitation Authority\, 117 Franklin Street\, New Florence\, PA\, 15944\, United States
ATTACH;FMTTYPE=image/png:https://newflorenceborough.org/wp-content/uploads/2017/11/photo.png
END:VEVENT
END:VCALENDAR