BEGIN:VCALENDAR
VERSION:2.0
PRODID:-//New Florence Borough - ECPv6.15.20//NONSGML v1.0//EN
CALSCALE:GREGORIAN
METHOD:PUBLISH
X-WR-CALNAME:New Florence Borough
X-ORIGINAL-URL:https://newflorenceborough.org
X-WR-CALDESC:Events for New Florence Borough
REFRESH-INTERVAL;VALUE=DURATION:PT1H
X-Robots-Tag:noindex
X-PUBLISHED-TTL:PT1H
BEGIN:VTIMEZONE
TZID:America/New_York
BEGIN:DAYLIGHT
TZOFFSETFROM:-0500
TZOFFSETTO:-0400
TZNAME:EDT
DTSTART:20240310T070000
END:DAYLIGHT
BEGIN:STANDARD
TZOFFSETFROM:-0400
TZOFFSETTO:-0500
TZNAME:EST
DTSTART:20241103T060000
END:STANDARD
BEGIN:DAYLIGHT
TZOFFSETFROM:-0500
TZOFFSETTO:-0400
TZNAME:EDT
DTSTART:20250309T070000
END:DAYLIGHT
BEGIN:STANDARD
TZOFFSETFROM:-0400
TZOFFSETTO:-0500
TZNAME:EST
DTSTART:20251102T060000
END:STANDARD
BEGIN:DAYLIGHT
TZOFFSETFROM:-0500
TZOFFSETTO:-0400
TZNAME:EDT
DTSTART:20260308T070000
END:DAYLIGHT
BEGIN:STANDARD
TZOFFSETFROM:-0400
TZOFFSETTO:-0500
TZNAME:EST
DTSTART:20261101T060000
END:STANDARD
BEGIN:DAYLIGHT
TZOFFSETFROM:-0500
TZOFFSETTO:-0400
TZNAME:EDT
DTSTART:20270314T070000
END:DAYLIGHT
BEGIN:STANDARD
TZOFFSETFROM:-0400
TZOFFSETTO:-0500
TZNAME:EST
DTSTART:20271107T060000
END:STANDARD
END:VTIMEZONE
BEGIN:VEVENT
DTSTART;TZID=America/New_York:20260317T183000
DTEND;TZID=America/New_York:20260317T193000
DTSTAMP:20260425T121334
CREATED:20260106T194109Z
LAST-MODIFIED:20260313T132758Z
UID:6755-1773772200-1773775800@newflorenceborough.org
SUMMARY:Borough Council Meeting
DESCRIPTION:The borough council meets monthly on the third Tuesday of each month at the borough building located at 119 Franklin Street in New Florence at 6:30 p.m. The meetings are open to the public and all are encouraged to attend. \nHere is the agenda for the meeting. AGENDA 03-17-26
URL:https://newflorenceborough.org/event/borough-council-meeting-92/
LOCATION:Borough Building\, 119 Franklin Street\, New Florence\, PA\, 15944
ATTACH;FMTTYPE=image/png:https://newflorenceborough.org/wp-content/uploads/2017/11/photo.png
END:VEVENT
BEGIN:VEVENT
DTSTART;TZID=America/New_York:20260314T173000
DTEND;TZID=America/New_York:20260314T210000
DTSTAMP:20260425T121334
CREATED:20260301T131749Z
LAST-MODIFIED:20260301T131749Z
UID:6938-1773509400-1773522000@newflorenceborough.org
SUMMARY:New Florence VFD Rippie Night
DESCRIPTION:The New Florence Volunteer Fire Department will be having their next rippie party on March 14th.   The rippie party was delayed a week from it’s normal date due to a conflict with another fundraiser in the area on the 7th.  If you need more information\, contact the fire department.  Thank you. \n \n 
URL:https://newflorenceborough.org/event/new-florence-vfd-rippie-night-48/
LOCATION:New Florence Volunteer Fire Department\, 177 13th Street\, New Florence\, PA\, 15944
ATTACH;FMTTYPE=image/png:https://newflorenceborough.org/wp-content/uploads/2017/11/photo.png
END:VEVENT
BEGIN:VEVENT
DTSTART;TZID=America/New_York:20260314T094500
DTEND;TZID=America/New_York:20260314T123000
DTSTAMP:20260425T121334
CREATED:20260301T130924Z
LAST-MODIFIED:20260301T130924Z
UID:6934-1773481500-1773491400@newflorenceborough.org
SUMMARY:LV Varsity Football Sub Sale
DESCRIPTION:The Ligonier Valley Varsity Football team will be holding a sub sale on Saturday\, March14th.  The New Florence sales location is the main corner in the borough at the intersection of Ligonier St and 13th St.  The team will have Italian subs for sale until they are sold out.  Please come buy a sub and support the football team. \n \n 
URL:https://newflorenceborough.org/event/lv-varsity-football-sub-sale-2/
LOCATION:Intersection of Ligonier St and 13th St\, New Florence\, PA\, 15944
ATTACH;FMTTYPE=image/png:https://newflorenceborough.org/wp-content/uploads/2017/11/photo.png
END:VEVENT
BEGIN:VEVENT
DTSTART;TZID=America/New_York:20260308T020000
DTEND;TZID=America/New_York:20260308T020000
DTSTAMP:20260425T121334
CREATED:20260306T010832Z
LAST-MODIFIED:20260306T010832Z
UID:6969-1772935200-1772935200@newflorenceborough.org
SUMMARY:Daylight Savings Time - Spring Forward 2026
DESCRIPTION:Daylight Saving Time will begin Sunday\, March 8\, at 2 am local time in the U.S.  The clocks “spring forward” by one hour\, meaning sunrise and sunset will occur one hour later.  DST will end the first Sunday of November\, which this year will be on November 1st when clocks “fall back” by one hour.  Enjoy the time change.
URL:https://newflorenceborough.org/event/daylight-savings-time-spring-forward-2026/
LOCATION:New Florence\, PA: Multiple Locations\, New Florence\, PA\, 15944
ATTACH;FMTTYPE=image/png:https://newflorenceborough.org/wp-content/uploads/2017/11/photo.png
END:VEVENT
BEGIN:VEVENT
DTSTART;TZID=America/New_York:20260307T200000
DTEND;TZID=America/New_York:20260307T230000
DTSTAMP:20260425T121334
CREATED:20260301T132149Z
LAST-MODIFIED:20260301T132149Z
UID:6940-1772913600-1772924400@newflorenceborough.org
SUMMARY:New Florence VFW St. Patrick's Day Dance 2026
DESCRIPTION:Celebrate St. Patrick’s weekend with us at the VFW.  DJ Tom Hoover will be leading the party with all your favorite party tunes!  The event is open to the public.  There is a $5 cover charge and participants must be 21 to attend.  Call the club if you need more information.
URL:https://newflorenceborough.org/event/new-florence-vfw-st-patricks-day-dance-2026/
LOCATION:New Florence VFW\, 6215 Route 711\, New Florence\, PA\, 15944
ATTACH;FMTTYPE=image/png:https://newflorenceborough.org/wp-content/uploads/2017/11/photo.png
END:VEVENT
BEGIN:VEVENT
DTSTART;TZID=America/New_York:20260307T090000
DTEND;TZID=America/New_York:20260307T130000
DTSTAMP:20260425T121334
CREATED:20260301T131228Z
LAST-MODIFIED:20260301T131228Z
UID:6936-1772874000-1772888400@newflorenceborough.org
SUMMARY:New Florence VFD Sub Sale
DESCRIPTION:The New Florence Volunteer Fire Department will be having their next sub sale on March 7th.   If you need more information\, contact the fire department.  Thank you.
URL:https://newflorenceborough.org/event/new-florence-vfd-sub-sale-38/
LOCATION:New Florence Volunteer Fire Department\, 177 13th Street\, New Florence\, PA\, 15944
ATTACH;FMTTYPE=image/png:https://newflorenceborough.org/wp-content/uploads/2017/11/photo.png
END:VEVENT
BEGIN:VEVENT
DTSTART;TZID=America/New_York:20260305T183000
DTEND;TZID=America/New_York:20260305T193000
DTSTAMP:20260425T121334
CREATED:20260106T193205Z
LAST-MODIFIED:20260106T193205Z
UID:6745-1772735400-1772739000@newflorenceborough.org
SUMMARY:New Florence/St Clair Sanitation Authority Meeting
DESCRIPTION:The New Florence/St. Clair Township Sanitation Authority holds their regularly scheduled meetings at the New Florence Sewage Authority office at 117 Franklin St.\, New Florence\, PA 15944 at 6:30 pm on the first Thursday of every other month starting in January.  The meetings are open to the public.  Any changes to the schedule are published in the Johnstown Tribune Democrat newspaper.
URL:https://newflorenceborough.org/event/new-florence-st-clair-sanitation-authority-meeting-39/
LOCATION:New Florence/St. Clair Township Sanitation Authority\, 117 Franklin Street\, New Florence\, PA\, 15944\, United States
ATTACH;FMTTYPE=image/png:https://newflorenceborough.org/wp-content/uploads/2017/11/photo.png
END:VEVENT
BEGIN:VEVENT
DTSTART;TZID=America/New_York:20260301T120000
DTEND;TZID=America/New_York:20260301T160000
DTSTAMP:20260425T121334
CREATED:20260131T041626Z
LAST-MODIFIED:20260301T133519Z
UID:6865-1772366400-1772380800@newflorenceborough.org
SUMMARY:New Florence Community Library Annual Basket Party
DESCRIPTION:The New Florence Community Library has put out a notice for their annual basket party which will be Sunday\, March 1st at the Fairfield Fire Hall.  Please save the date and consider donating a basket for the party.  Please see the flyer below or give the library a call for more information.  Thanks. \n \nThe library has posted on their Facebook page lots of images of the baskets available at the party.  They showed a picture of the Fairfield Fire Hall all decorated and ready for the party.  Please go and enjoy yourself. \n 
URL:https://newflorenceborough.org/event/new-florence-community-library-annual-basket-party-6/
LOCATION:Fairfield Township VFD\, 5414 Rt. 711\, New Florence\, PA\, 15944\, United States
ATTACH;FMTTYPE=image/png:https://newflorenceborough.org/wp-content/uploads/2017/11/photo.png
END:VEVENT
BEGIN:VEVENT
DTSTART;TZID=America/New_York:20260224T170000
DTEND;TZID=America/New_York:20260224T170000
DTSTAMP:20260425T121334
CREATED:20260131T041339Z
LAST-MODIFIED:20260131T041420Z
UID:6862-1771952400-1771952400@newflorenceborough.org
SUMMARY:New Florence Community Library Annual Basket Party - Donation Deadline
DESCRIPTION:The New Florence Community Library has put out a notice for their annual basket party which will be Sunday\, March 1st at the Fairfield Fire Hall.  Please save the date and consider donating a basket for the party.  Please see the flyer below or give the library a call for more information.  Thanks.
URL:https://newflorenceborough.org/event/new-florence-community-library-annual-basket-party-donation-deadline-2/
LOCATION:New Florence Community Library\, 122 N Ligonier St.\, New Florence\, PA\, 15944
ATTACH;FMTTYPE=image/png:https://newflorenceborough.org/wp-content/uploads/2017/11/photo.png
END:VEVENT
BEGIN:VEVENT
DTSTART;TZID=America/New_York:20260217T183000
DTEND;TZID=America/New_York:20260217T193000
DTSTAMP:20260425T121334
CREATED:20260105T023916Z
LAST-MODIFIED:20260216T134809Z
UID:6739-1771353000-1771356600@newflorenceborough.org
SUMMARY:Borough Council Meeting
DESCRIPTION:The borough council meets monthly on the third Tuesday of each month at the borough building located at 119 Franklin Street in New Florence at 6:30 p.m. The meetings are open to the public and all are encouraged to attend. \nHere is the agenda for the meeting. AGENDA 02-17-26
URL:https://newflorenceborough.org/event/borough-council-meeting-91/
LOCATION:Borough Building\, 119 Franklin Street\, New Florence\, PA\, 15944
ATTACH;FMTTYPE=image/png:https://newflorenceborough.org/wp-content/uploads/2017/11/photo.png
END:VEVENT
BEGIN:VEVENT
DTSTART;VALUE=DATE:20260216
DTEND;VALUE=DATE:20260217
DTSTAMP:20260425T121334
CREATED:20260106T201645Z
LAST-MODIFIED:20260106T201645Z
UID:6777-1771200000-1771286399@newflorenceborough.org
SUMMARY:Federal Holiday - Washington's Birthday (Presidents' Day)
DESCRIPTION:Today is a federal holiday.  Governments and many businesses are closed.  Enjoy the day!
URL:https://newflorenceborough.org/event/federal-holiday-washingtons-birthday-presidents-day/
LOCATION:New Florence\, PA: Multiple Locations\, New Florence\, PA\, 15944
ATTACH;FMTTYPE=image/png:https://newflorenceborough.org/wp-content/uploads/2017/11/photo.png
END:VEVENT
BEGIN:VEVENT
DTSTART;TZID=America/New_York:20260214T200000
DTEND;TZID=America/New_York:20260214T230000
DTSTAMP:20260425T121334
CREATED:20260204T014422Z
LAST-MODIFIED:20260204T014422Z
UID:6881-1771099200-1771110000@newflorenceborough.org
SUMMARY:New Florence VFW Valentine's Day Dance 2026
DESCRIPTION:The New Florence Veterans of Foreign Wars (VFW Post 7622) will be having a Valentine’s Day Dance hosted by DJ Renee.  The dance is open to the public so bring your sweetheart for a fun night out!  There is a $5 cover charge.  There will be food for guests and drinks are available for purchase.  For more information give the club a call at 724-235-9904.  Thank you.
URL:https://newflorenceborough.org/event/new-florence-vfw-valentines-day-dance-2026/
LOCATION:New Florence VFW\, 6215 Route 711\, New Florence\, PA\, 15944
ATTACH;FMTTYPE=image/png:https://newflorenceborough.org/wp-content/uploads/2017/11/photo.png
END:VEVENT
BEGIN:VEVENT
DTSTART;TZID=America/New_York:20260214T190000
DTEND;TZID=America/New_York:20260214T190000
DTSTAMP:20260425T121334
CREATED:20251228T222811Z
LAST-MODIFIED:20251228T222811Z
UID:6718-1771095600-1771095600@newflorenceborough.org
SUMMARY:New Florence Community Library "Hugs & Kisses" $500 CASH Quick Ticket
DESCRIPTION:Please check out this exciting Valentine’s Day raffle the library is holding as a fundraiser.  If you need more information\, please give the library a call. \nNF Library Hugs and Kisses Quick Ticket 14Feb2026
URL:https://newflorenceborough.org/event/new-florence-community-library-hugs-kisses-500-cash-quick-ticket/
LOCATION:New Florence Community Library\, 122 N Ligonier St.\, New Florence\, PA\, 15944
ATTACH;FMTTYPE=image/png:https://newflorenceborough.org/wp-content/uploads/2017/11/photo.png
END:VEVENT
BEGIN:VEVENT
DTSTART;TZID=America/New_York:20260214T100000
DTEND;TZID=America/New_York:20260214T190000
DTSTAMP:20260425T121334
CREATED:20251223T141015Z
LAST-MODIFIED:20251223T141015Z
UID:6709-1771063200-1771095600@newflorenceborough.org
SUMMARY:New Florence Community Library Wicked\, The Musical Bus Trip
DESCRIPTION:The New Florence Community Library is doing a Wicked\, The Musical Bus Trip.  The trip includes lunch at the Lamplighter Restaurant in Delmont.  The show is at the Benedum Center in Pittsburgh.  The cost for the trip is $150.00 per person.  Stop by the library to reserve your seat on the bus. Please see the flyer below or call the library at 724-235-2249 for more information.  Additional details will be published as they become available.
URL:https://newflorenceborough.org/event/new-florence-community-library-wicked-the-musical-bus-trip/
LOCATION:New Florence Community Library\, 122 N Ligonier St.\, New Florence\, PA\, 15944
ATTACH;FMTTYPE=image/png:https://newflorenceborough.org/wp-content/uploads/2017/11/photo.png
END:VEVENT
BEGIN:VEVENT
DTSTART;TZID=America/New_York:20260214T094500
DTEND;TZID=America/New_York:20260214T120000
DTSTAMP:20260425T121334
CREATED:20260116T224434Z
LAST-MODIFIED:20260116T224434Z
UID:6839-1771062300-1771070400@newflorenceborough.org
SUMMARY:LV Varsity Football Sub Sale
DESCRIPTION:The Ligonier Valley Varsity Football team will be holding a sub sale on Saturday\, February 14th.  The New Florence sales location is the main corner in the borough at the intersection of Ligonier St and 13th St.  The team will have Italian subs for sale until they are sold out.  Please come buy a sub and support the football team.
URL:https://newflorenceborough.org/event/lv-varsity-football-sub-sale/
LOCATION:Intersection of Ligonier St and 13th St\, New Florence\, PA\, 15944
ATTACH;FMTTYPE=image/png:https://newflorenceborough.org/wp-content/uploads/2017/11/photo.png
END:VEVENT
BEGIN:VEVENT
DTSTART;TZID=America/New_York:20260210T180000
DTEND;TZID=America/New_York:20260210T190000
DTSTAMP:20260425T121334
CREATED:20260120T042611Z
LAST-MODIFIED:20260120T042611Z
UID:6846-1770746400-1770750000@newflorenceborough.org
SUMMARY:New Florence Community Library Literary Escape Book Club for Adults
DESCRIPTION:Please consider participating in the library’s adult book club.  February’s book is\, The Guest List\, by Lucy Foley.  Stop by the library and pick up your copy if you don’t already have it.  Give the library a call if you need more information.  Thanks.
URL:https://newflorenceborough.org/event/new-florence-community-library-literary-escape-book-club-for-adults-14/
LOCATION:New Florence Community Library\, 122 N Ligonier St.\, New Florence\, PA\, 15944
ATTACH;FMTTYPE=image/png:https://newflorenceborough.org/wp-content/uploads/2017/11/photo.png
END:VEVENT
BEGIN:VEVENT
DTSTART;TZID=America/New_York:20260208T150000
DTEND;TZID=America/New_York:20260208T183000
DTSTAMP:20260425T121334
CREATED:20260204T014006Z
LAST-MODIFIED:20260204T014006Z
UID:6879-1770562800-1770575400@newflorenceborough.org
SUMMARY:New Florence VFW Chili Cook Off 2026
DESCRIPTION:The New Florence Veterans of Foreign Wars (VFW Post 7622) will be holding a chili cook off on Super Bowl LX on Sunday\, February 8th.  The club will be providing lots of the chili fixings.  Drop off begins at 3 pm at the rear kitchen door.  Tasting begins at 4 pm with the winner being announced at 6 pm.  The football game kicks off at 6:30 pm.  For more information give the club a call at 724-235-9904.  Thank you.
URL:https://newflorenceborough.org/event/new-florence-vfw-chili-cook-off-2026/
LOCATION:New Florence VFW\, 6215 Route 711\, New Florence\, PA\, 15944
ATTACH;FMTTYPE=image/png:https://newflorenceborough.org/wp-content/uploads/2017/11/photo.png
END:VEVENT
BEGIN:VEVENT
DTSTART;TZID=America/New_York:20260207T173000
DTEND;TZID=America/New_York:20260207T210000
DTSTAMP:20260425T121334
CREATED:20260116T223538Z
LAST-MODIFIED:20260116T223538Z
UID:6837-1770485400-1770498000@newflorenceborough.org
SUMMARY:New Florence VFD Rippie Night
DESCRIPTION:The New Florence Volunteer Fire Department will be having their next sub sale and rippie party on February 7th.   If you need more information\, contact the fire department.  Thank you.
URL:https://newflorenceborough.org/event/new-florence-vfd-rippie-night-47/
LOCATION:New Florence Volunteer Fire Department\, 177 13th Street\, New Florence\, PA\, 15944
ATTACH;FMTTYPE=image/png:https://newflorenceborough.org/wp-content/uploads/2017/11/photo.png
END:VEVENT
BEGIN:VEVENT
DTSTART;TZID=America/New_York:20260207T090000
DTEND;TZID=America/New_York:20260207T130000
DTSTAMP:20260425T121334
CREATED:20260116T223343Z
LAST-MODIFIED:20260116T223343Z
UID:6835-1770454800-1770469200@newflorenceborough.org
SUMMARY:New Florence VFD Sub Sale
DESCRIPTION:The New Florence Volunteer Fire Department will be having their next sub sale and rippie party on February 7th.   If you need more information\, contact the fire department.  Thank you.
URL:https://newflorenceborough.org/event/new-florence-vfd-sub-sale-37/
LOCATION:New Florence Volunteer Fire Department\, 177 13th Street\, New Florence\, PA\, 15944
ATTACH;FMTTYPE=image/png:https://newflorenceborough.org/wp-content/uploads/2017/11/photo.png
END:VEVENT
BEGIN:VEVENT
DTSTART;TZID=America/New_York:20260120T183000
DTEND;TZID=America/New_York:20260120T193000
DTSTAMP:20260425T121334
CREATED:20260105T023755Z
LAST-MODIFIED:20260116T222250Z
UID:6737-1768933800-1768937400@newflorenceborough.org
SUMMARY:Borough Council Meeting
DESCRIPTION:The borough council meets monthly on the third Tuesday of each month at the borough building located at 119 Franklin Street in New Florence at 6:30 p.m. The meetings are open to the public and all are encouraged to attend. \nHere is the agenda for the meeting. AGENDA 01-20-26
URL:https://newflorenceborough.org/event/borough-council-meeting-90/
LOCATION:Borough Building\, 119 Franklin Street\, New Florence\, PA\, 15944
ATTACH;FMTTYPE=image/png:https://newflorenceborough.org/wp-content/uploads/2017/11/photo.png
END:VEVENT
BEGIN:VEVENT
DTSTART;VALUE=DATE:20260119
DTEND;VALUE=DATE:20260120
DTSTAMP:20260425T121334
CREATED:20260106T201455Z
LAST-MODIFIED:20260106T201455Z
UID:6775-1768780800-1768867199@newflorenceborough.org
SUMMARY:Federal Holiday - Martin Luther King Jr.'s Birthday
DESCRIPTION:Today is a federal holiday.  Governments and many businesses are closed.  Enjoy the day!
URL:https://newflorenceborough.org/event/federal-holiday-martin-luther-king-jr-s-birthday/
LOCATION:New Florence\, PA: Multiple Locations\, New Florence\, PA\, 15944
ATTACH;FMTTYPE=image/png:https://newflorenceborough.org/wp-content/uploads/2017/11/photo.png
END:VEVENT
BEGIN:VEVENT
DTSTART;TZID=America/New_York:20260113T180000
DTEND;TZID=America/New_York:20260113T190000
DTSTAMP:20260425T121334
CREATED:20251228T222416Z
LAST-MODIFIED:20251228T222416Z
UID:6716-1768327200-1768330800@newflorenceborough.org
SUMMARY:New Florence Community Library Literary Escape Book Club for Adults
DESCRIPTION:Please consider participating in the library’s adult book club.  January’s book is\, Queens of Crime\, by Marie Benedict.  Stop by the library and pick up your copy if you don’t already have it.  Give the library a call if you need more information.  Thanks.
URL:https://newflorenceborough.org/event/new-florence-community-library-literary-escape-book-club-for-adults-13/
LOCATION:New Florence Community Library\, 122 N Ligonier St.\, New Florence\, PA\, 15944
ATTACH;FMTTYPE=image/png:https://newflorenceborough.org/wp-content/uploads/2017/11/photo.png
END:VEVENT
BEGIN:VEVENT
DTSTART;TZID=America/New_York:20260108T200000
DTEND;TZID=America/New_York:20260108T210000
DTSTAMP:20260425T121334
CREATED:20260105T021806Z
LAST-MODIFIED:20260105T021806Z
UID:6732-1767902400-1767906000@newflorenceborough.org
SUMMARY:New Florence Community Library "Take Back Your Money" Livestream
DESCRIPTION:Check out this very interesting livestream party the library will be hosting.  This should be really educational and maybe give some good ideas on how to make your money go further.  Thanks.
URL:https://newflorenceborough.org/event/new-florence-community-library-take-back-your-money-livestream/
LOCATION:New Florence Community Library\, 122 N Ligonier St.\, New Florence\, PA\, 15944
ATTACH;FMTTYPE=image/png:https://newflorenceborough.org/wp-content/uploads/2017/11/photo.png
END:VEVENT
BEGIN:VEVENT
DTSTART;TZID=America/New_York:20260108T183000
DTEND;TZID=America/New_York:20260108T193000
DTSTAMP:20260425T121334
CREATED:20260105T021222Z
LAST-MODIFIED:20260105T021222Z
UID:6730-1767897000-1767900600@newflorenceborough.org
SUMMARY:New Florence/St Clair Sanitation Authority Meeting
DESCRIPTION:The New Florence/St. Clair Township Sanitation Authority holds their regularly scheduled meetings at the New Florence Sewage Authority office at 117 Franklin St.\, New Florence\, PA 15944 at 6:30 pm on the first Thursday of every other month starting in January.  The meetings are open to the public.  Any changes to the schedule are published in the Johnstown Tribune Democrat newspaper.
URL:https://newflorenceborough.org/event/new-florence-st-clair-sanitation-authority-meeting-38/
LOCATION:New Florence/St. Clair Township Sanitation Authority\, 117 Franklin Street\, New Florence\, PA\, 15944\, United States
ATTACH;FMTTYPE=image/png:https://newflorenceborough.org/wp-content/uploads/2017/11/photo.png
END:VEVENT
BEGIN:VEVENT
DTSTART;TZID=America/New_York:20260103T173000
DTEND;TZID=America/New_York:20260103T210000
DTSTAMP:20260425T121334
CREATED:20251223T135938Z
LAST-MODIFIED:20251223T135938Z
UID:6705-1767461400-1767474000@newflorenceborough.org
SUMMARY:New Florence VFD Rippie Night
DESCRIPTION:The New Florence Volunteer Fire Department will be having their next sub sale and rippie party on January 3rd.   If you need more information\, contact the fire department.  Thank you.
URL:https://newflorenceborough.org/event/new-florence-vfd-rippie-night-46/
LOCATION:New Florence Volunteer Fire Department\, 177 13th Street\, New Florence\, PA\, 15944
ATTACH;FMTTYPE=image/png:https://newflorenceborough.org/wp-content/uploads/2017/11/photo.png
END:VEVENT
BEGIN:VEVENT
DTSTART;TZID=America/New_York:20260103T090000
DTEND;TZID=America/New_York:20260103T130000
DTSTAMP:20260425T121334
CREATED:20251223T135752Z
LAST-MODIFIED:20251223T135752Z
UID:6703-1767430800-1767445200@newflorenceborough.org
SUMMARY:New Florence VFD Sub Sale
DESCRIPTION:The New Florence Volunteer Fire Department will be having their next sub sale and rippie party on January 3rd.   If you need more information\, contact the fire department.  Thank you.
URL:https://newflorenceborough.org/event/new-florence-vfd-sub-sale-36/
LOCATION:New Florence Volunteer Fire Department\, 177 13th Street\, New Florence\, PA\, 15944
ATTACH;FMTTYPE=image/png:https://newflorenceborough.org/wp-content/uploads/2017/11/photo.png
END:VEVENT
BEGIN:VEVENT
DTSTART;TZID=America/New_York:20251224T160000
DTEND;TZID=America/New_York:20251224T180000
DTSTAMP:20260425T121334
CREATED:20251207T154053Z
LAST-MODIFIED:20251207T154053Z
UID:6677-1766592000-1766599200@newflorenceborough.org
SUMMARY:New Florence VFW Christmas Party for Members Event
DESCRIPTION:The New Florence VFW Post 7622 will be having a Members Only Christmas Party on December 24th from 4 to 6pm.  Please come out and enjoy some comradery with fellow club members.  If you need more information\, please give the club a call.  Thanks.
URL:https://newflorenceborough.org/event/new-florence-vfw-christmas-party-for-members-event/
LOCATION:New Florence VFW\, 6215 Route 711\, New Florence\, PA\, 15944
ATTACH;FMTTYPE=image/png:https://newflorenceborough.org/wp-content/uploads/2017/11/photo.png
END:VEVENT
BEGIN:VEVENT
DTSTART;TZID=America/New_York:20251224T130000
DTEND;TZID=America/New_York:20251224T140000
DTSTAMP:20260425T121334
CREATED:20251125T223747Z
LAST-MODIFIED:20251223T140059Z
UID:6647-1766581200-1766584800@newflorenceborough.org
SUMMARY:2025 Santa Express
DESCRIPTION:The New Florence Volunteer Fire Department will be helping with the Santa Express again this year.  Santa will be visiting New Florence on Christmas eve while his sleigh is in for a last-minute tune-up.  Santa has asked the fire department to help out. Of course\, the firefighters volunteered to drive their truck all around New Florence to give Santa a chance to see all the good little boys and girls. \n \nMerry Christmas everyone.
URL:https://newflorenceborough.org/event/2025-santa-express/
LOCATION:New Florence\, PA: Multiple Locations\, New Florence\, PA\, 15944
ATTACH;FMTTYPE=image/png:https://newflorenceborough.org/wp-content/uploads/2017/11/photo.png
END:VEVENT
BEGIN:VEVENT
DTSTART;TZID=America/New_York:20251217T190000
DTEND;TZID=America/New_York:20251217T190000
DTSTAMP:20260425T121334
CREATED:20251117T125444Z
LAST-MODIFIED:20251117T125444Z
UID:6626-1765998000-1765998000@newflorenceborough.org
SUMMARY:New Florence Community Development "Christmas Cash" Raffle
DESCRIPTION:The New Florence Community Development is selling a “Christmas Cash” raffle ticket that’s drawn on December 17th.  Monies raised will help fund their activities.  You can contact a member through their Facebook page to purchase tickets.  You can also email the group at ContactNFCD@gmail.com.  Or give Misty a call at 724-464-7954. They’ll also be selling tickets at various activities in the community.  Keep an eye out for them
URL:https://newflorenceborough.org/event/new-florence-community-development-christmas-cash-raffle-2/
LOCATION:New Florence\, PA: Multiple Locations\, New Florence\, PA\, 15944
ATTACH;FMTTYPE=image/png:https://newflorenceborough.org/wp-content/uploads/2017/11/photo.png
END:VEVENT
BEGIN:VEVENT
DTSTART;TZID=America/New_York:20251216T183000
DTEND;TZID=America/New_York:20251216T193000
DTSTAMP:20260425T121334
CREATED:20250107T225525Z
LAST-MODIFIED:20251215T140810Z
UID:5719-1765909800-1765913400@newflorenceborough.org
SUMMARY:Borough Council Meeting
DESCRIPTION:The borough council meets monthly on the third Tuesday of each month at the borough building located at 119 Franklin Street in New Florence at 6:30 p.m. The meetings are open to the public and all are encouraged to attend. \nHere is the agenda for the meeting. AGENDA 12-16-25
URL:https://newflorenceborough.org/event/borough-council-meeting-89/
LOCATION:Borough Building\, 119 Franklin Street\, New Florence\, PA\, 15944
ATTACH;FMTTYPE=image/png:https://newflorenceborough.org/wp-content/uploads/2017/11/photo.png
END:VEVENT
END:VCALENDAR