BEGIN:VCALENDAR
VERSION:2.0
PRODID:-//New Florence Borough - ECPv6.15.20//NONSGML v1.0//EN
CALSCALE:GREGORIAN
METHOD:PUBLISH
X-WR-CALNAME:New Florence Borough
X-ORIGINAL-URL:https://newflorenceborough.org
X-WR-CALDESC:Events for New Florence Borough
REFRESH-INTERVAL;VALUE=DURATION:PT1H
X-Robots-Tag:noindex
X-PUBLISHED-TTL:PT1H
BEGIN:VTIMEZONE
TZID:America/New_York
BEGIN:DAYLIGHT
TZOFFSETFROM:-0500
TZOFFSETTO:-0400
TZNAME:EDT
DTSTART:20230312T070000
END:DAYLIGHT
BEGIN:STANDARD
TZOFFSETFROM:-0400
TZOFFSETTO:-0500
TZNAME:EST
DTSTART:20231105T060000
END:STANDARD
BEGIN:DAYLIGHT
TZOFFSETFROM:-0500
TZOFFSETTO:-0400
TZNAME:EDT
DTSTART:20240310T070000
END:DAYLIGHT
BEGIN:STANDARD
TZOFFSETFROM:-0400
TZOFFSETTO:-0500
TZNAME:EST
DTSTART:20241103T060000
END:STANDARD
BEGIN:DAYLIGHT
TZOFFSETFROM:-0500
TZOFFSETTO:-0400
TZNAME:EDT
DTSTART:20250309T070000
END:DAYLIGHT
BEGIN:STANDARD
TZOFFSETFROM:-0400
TZOFFSETTO:-0500
TZNAME:EST
DTSTART:20251102T060000
END:STANDARD
END:VTIMEZONE
BEGIN:VEVENT
DTSTART;TZID=America/New_York:20241015T183000
DTEND;TZID=America/New_York:20241015T193000
DTSTAMP:20260425T124653
CREATED:20240107T001337Z
LAST-MODIFIED:20240107T001337Z
UID:4723-1729017000-1729020600@newflorenceborough.org
SUMMARY:Borough Council Meeting
DESCRIPTION:The borough council meets monthly on the third Tuesday of each month at the borough building located at 119 Franklin Street in New Florence at 6:30 p.m. The meetings are open to the public and all are encouraged to attend. \nHere is the agenda for the meeting. PENDING
URL:https://newflorenceborough.org/event/borough-council-meeting-75/
LOCATION:Borough Building\, 119 Franklin Street\, New Florence\, PA\, 15944
ATTACH;FMTTYPE=image/png:https://newflorenceborough.org/wp-content/uploads/2017/11/photo.png
END:VEVENT
BEGIN:VEVENT
DTSTART;TZID=America/New_York:20241012T190000
DTEND;TZID=America/New_York:20241012T190000
DTSTAMP:20260425T124653
CREATED:20240828T015222Z
LAST-MODIFIED:20240828T015222Z
UID:5328-1728759600-1728759600@newflorenceborough.org
SUMMARY:New Florence Community Library "Fall into Cash" $500 CASH Quick Ticket
DESCRIPTION:Please check out this exciting fall raffle the library is holding as a fundraiser.  If you need more information\, please give the library a call.
URL:https://newflorenceborough.org/event/new-florence-community-library-fall-into-cash-500-cash-quick-ticket/
LOCATION:New Florence Community Library\, 122 N Ligonier St.\, New Florence\, PA\, 15944
ATTACH;FMTTYPE=image/png:https://newflorenceborough.org/wp-content/uploads/2017/11/photo.png
END:VEVENT
BEGIN:VEVENT
DTSTART;TZID=America/New_York:20241012T110000
DTEND;TZID=America/New_York:20241012T150000
DTSTAMP:20260425T124653
CREATED:20240828T014651Z
LAST-MODIFIED:20240828T014651Z
UID:5326-1728730800-1728745200@newflorenceborough.org
SUMMARY:New Florence Senior Center Special Saturday Bingo
DESCRIPTION:We are excited to announce that we will be holding another SATURDAY bingo!  Please call the center or message us on our Facebook page New Florence Senior Center to reserve your spot!
URL:https://newflorenceborough.org/event/new-florence-senior-center-special-saturday-bingo-2/
LOCATION:New Florence Senior Center\, 216 Ligonier Street\, New Florence\, PA\, 15944\, United States
ATTACH;FMTTYPE=image/png:https://newflorenceborough.org/wp-content/uploads/2017/11/photo.png
END:VEVENT
BEGIN:VEVENT
DTSTART;TZID=America/New_York:20241010T160000
DTEND;TZID=America/New_York:20241010T200000
DTSTAMP:20260425T124653
CREATED:20240926T204057Z
LAST-MODIFIED:20241010T122919Z
UID:5450-1728576000-1728590400@newflorenceborough.org
SUMMARY:New Florence Community Library "Fall Decor" Crafting with Sue Class - Day 2 - Cancelled
DESCRIPTION:Sorry\, the library has had to cancel this class. \n \nCheck out this fun class the library is hosting.  The class is going to be two different days with two halves.  There’s the pumpkin decorating half and then the Halloween decorating half.  The two halves are flip-flopped on the days to help accommodate folks schedules.  The flyer below has more information or you can give the library a call to help figure out the scheduling.  Thanks.
URL:https://newflorenceborough.org/event/new-florence-community-library-fall-decor-crafting-with-sue-class-day-2/
LOCATION:New Florence Community Library\, 122 N Ligonier St.\, New Florence\, PA\, 15944
ATTACH;FMTTYPE=image/png:https://newflorenceborough.org/wp-content/uploads/2017/11/photo.png
END:VEVENT
BEGIN:VEVENT
DTSTART;TZID=America/New_York:20241009T160000
DTEND;TZID=America/New_York:20241009T200000
DTSTAMP:20260425T124653
CREATED:20240926T203831Z
LAST-MODIFIED:20240926T203831Z
UID:5447-1728489600-1728504000@newflorenceborough.org
SUMMARY:New Florence Community Library "Fall Decor" Crafting with Sue Class - Day 1
DESCRIPTION:Check out this fun class the library is hosting.  The class is going to be two different days with two halves.  There’s the pumpkin decorating half and then the Halloween decorating half.  The two halves are flip-flopped on the days to help accommodate folks schedules.  The flyer below has more information or you can give the library a call to help figure out the scheduling.  Thanks.
URL:https://newflorenceborough.org/event/new-florence-community-library-fall-decor-crafting-with-sue-class-day-1/
LOCATION:New Florence Community Library\, 122 N Ligonier St.\, New Florence\, PA\, 15944
ATTACH;FMTTYPE=image/png:https://newflorenceborough.org/wp-content/uploads/2017/11/photo.png
END:VEVENT
BEGIN:VEVENT
DTSTART;TZID=America/New_York:20241008T180000
DTEND;TZID=America/New_York:20241008T190000
DTSTAMP:20260425T124653
CREATED:20240926T202728Z
LAST-MODIFIED:20240926T202728Z
UID:5445-1728410400-1728414000@newflorenceborough.org
SUMMARY:New Florence Community Library Literary Escape Book Club for Adults
DESCRIPTION:Please consider participating in the library’s adult book club.  October’s book\, The Hazelbourne Ladies Motorcycle and Flying Club\, is by Helen Simonson. Stop by the Library and pick up your copy if you don’t already have it.  Give the library a call if you need more information.  Thanks.
URL:https://newflorenceborough.org/event/new-florence-community-library-literary-escape-book-club-for-adults-2/
LOCATION:New Florence Community Library\, 122 N Ligonier St.\, New Florence\, PA\, 15944
ATTACH;FMTTYPE=image/png:https://newflorenceborough.org/wp-content/uploads/2017/11/photo.png
END:VEVENT
BEGIN:VEVENT
DTSTART;TZID=America/New_York:20241008T123000
DTEND;TZID=America/New_York:20241008T140000
DTSTAMP:20260425T124653
CREATED:20241001T180507Z
LAST-MODIFIED:20241001T180507Z
UID:5463-1728390600-1728396000@newflorenceborough.org
SUMMARY:New Florence Senior Center Flu Shot Event
DESCRIPTION:Staff from Roadway Pharmacy will be at the New Florence Senior Center on October 8th administering flu shots.  Participants should have their insurance card with them and the shots are typically free.  Please give the center a call if you need more information.  Thanks.
URL:https://newflorenceborough.org/event/new-florence-senior-center-flu-shot-event/
LOCATION:New Florence Senior Center\, 216 Ligonier Street\, New Florence\, PA\, 15944\, United States
ATTACH;FMTTYPE=image/png:https://newflorenceborough.org/wp-content/uploads/2017/11/photo.png
END:VEVENT
BEGIN:VEVENT
DTSTART;TZID=America/New_York:20241005T173000
DTEND;TZID=America/New_York:20241005T210000
DTSTAMP:20260425T124653
CREATED:20240923T220302Z
LAST-MODIFIED:20240923T220302Z
UID:5430-1728149400-1728162000@newflorenceborough.org
SUMMARY:New Florence VFD Rippie Night
DESCRIPTION:The New Florence Volunteer Fire Department will be holding their next rippie fundraiser.  If you need more information\, please contact the fire department.  Thanks.
URL:https://newflorenceborough.org/event/new-florence-vfd-rippie-night-32/
LOCATION:New Florence Volunteer Fire Department\, 177 13th Street\, New Florence\, PA\, 15944
ATTACH;FMTTYPE=image/png:https://newflorenceborough.org/wp-content/uploads/2017/11/photo.png
END:VEVENT
BEGIN:VEVENT
DTSTART;TZID=America/New_York:20241005T090000
DTEND;TZID=America/New_York:20241005T140000
DTSTAMP:20260425T124653
CREATED:20240923T220021Z
LAST-MODIFIED:20240923T220021Z
UID:5428-1728118800-1728136800@newflorenceborough.org
SUMMARY:New Florence VFD Sub Sale
DESCRIPTION:The New Florence Volunteer Fire Department will be holding another sub sale fundraiser. Subs will be available from 9 am until they are sold out.  If you need more information\, contact the fire department.   Thank you.
URL:https://newflorenceborough.org/event/new-florence-vfd-sub-sale-22/
LOCATION:New Florence Volunteer Fire Department\, 177 13th Street\, New Florence\, PA\, 15944
ATTACH;FMTTYPE=image/png:https://newflorenceborough.org/wp-content/uploads/2017/11/photo.png
END:VEVENT
BEGIN:VEVENT
DTSTART;TZID=America/New_York:20241005T080000
DTEND;TZID=America/New_York:20241005T160000
DTSTAMP:20260425T124653
CREATED:20240920T134045Z
LAST-MODIFIED:20240920T134045Z
UID:5413-1728115200-1728144000@newflorenceborough.org
SUMMARY:2024 Fall Dumpster Days - Day 2
DESCRIPTION:The fall dumpster days will be November 4th and 5th.  This time the borough council is planning on getting four dumpsters instead of the usual three.  During this past spring dumpster days\, so much junk was turned in the event ended early.  Please see the flyer below for more information.  Thanks.
URL:https://newflorenceborough.org/event/2024-fall-dumpster-days-day-2/
LOCATION:Old Yellow Brick School Building\, N. Ligonier St. and 8th St.\, New Florence\, PA
ATTACH;FMTTYPE=image/png:https://newflorenceborough.org/wp-content/uploads/2017/11/photo.png
END:VEVENT
BEGIN:VEVENT
DTSTART;TZID=America/New_York:20241004T080000
DTEND;TZID=America/New_York:20241004T160000
DTSTAMP:20260425T124653
CREATED:20240920T133859Z
LAST-MODIFIED:20240920T133859Z
UID:5409-1728028800-1728057600@newflorenceborough.org
SUMMARY:2024 Fall Dumpster Days - Day 1
DESCRIPTION:The fall dumpster days will be November 4th and 5th.  This time the borough council is planning on getting four dumpsters instead of the usual three.  During this past spring dumpster days\, so much junk was turned in the event ended early.  Please see the flyer below for more information.  Thanks.
URL:https://newflorenceborough.org/event/2024-fall-dumpster-days-day-1/
LOCATION:Old Yellow Brick School Building\, N. Ligonier St. and 8th St.\, New Florence\, PA
ATTACH;FMTTYPE=image/png:https://newflorenceborough.org/wp-content/uploads/2017/11/photo.png
END:VEVENT
BEGIN:VEVENT
DTSTART;TZID=America/New_York:20241003T183000
DTEND;TZID=America/New_York:20241003T193000
DTSTAMP:20260425T124653
CREATED:20240107T193436Z
LAST-MODIFIED:20240107T193436Z
UID:4755-1727980200-1727983800@newflorenceborough.org
SUMMARY:New Florence/St Clair Sanitation Authority Meeting
DESCRIPTION:The New Florence/St. Clair Township Sanitation Authority holds their regularly scheduled meetings at the New Florence Sewage Authority office at 117 Franklin St.\, New Florence\, PA 15944 at 6:30 pm on the first Thursday of every month.  The meetings are open to the public.  Any changes to the schedule are published in the Johnstown Tribune Democrat newspaper.
URL:https://newflorenceborough.org/event/new-florence-st-clair-sanitation-authority-meeting-30/
LOCATION:New Florence/St. Clair Township Sanitation Authority\, 117 Franklin Street\, New Florence\, PA\, 15944\, United States
ATTACH;FMTTYPE=image/png:https://newflorenceborough.org/wp-content/uploads/2017/11/photo.png
END:VEVENT
BEGIN:VEVENT
DTSTART;TZID=America/New_York:20240927T093000
DTEND;TZID=America/New_York:20240927T160000
DTSTAMP:20260425T124653
CREATED:20240825T205348Z
LAST-MODIFIED:20240828T014206Z
UID:5312-1727429400-1727452800@newflorenceborough.org
SUMMARY:New Florence Senior Center Open House September 2024
DESCRIPTION:Join us for our Open House on September 27th! Starts at 9:30am! Vendors\, entertainment\, and food! Come and socialize and see what all the Center offers to seniors! \n 
URL:https://newflorenceborough.org/event/new-florence-senior-center-open-house-september-2024/
LOCATION:New Florence Senior Center\, 216 Ligonier Street\, New Florence\, PA\, 15944\, United States
ATTACH;FMTTYPE=image/png:https://newflorenceborough.org/wp-content/uploads/2017/11/photo.png
END:VEVENT
BEGIN:VEVENT
DTSTART;TZID=America/New_York:20240923T180000
DTEND;TZID=America/New_York:20240923T190000
DTSTAMP:20260425T124653
CREATED:20240720T031409Z
LAST-MODIFIED:20240720T031409Z
UID:5239-1727114400-1727118000@newflorenceborough.org
SUMMARY:New Florence Community Library Essential Oils Workshop
DESCRIPTION:There’s an Oil for That meets Monday\, September 23rd at 6:00pm. This is a *FREE* monthly workshop to try out and learn how to adapt essential oils into your daily routine and cut out the toxic chemicals in your life. Learn about the doTERRA company and how they source and make their oils. Hosted by doTERRA Wellness Advocate\, Kimberly Green.  Opportunities to order products will be available but purchases are not required.  For more details\, see the flyer below or give the library a call.  Thanks.
URL:https://newflorenceborough.org/event/new-florence-community-library-essential-oils-workshop-3/
LOCATION:New Florence Community Library\, 122 N Ligonier St.\, New Florence\, PA\, 15944
ATTACH;FMTTYPE=image/png:https://newflorenceborough.org/wp-content/uploads/2017/11/photo.png
END:VEVENT
BEGIN:VEVENT
DTSTART;TZID=America/New_York:20240922T130000
DTEND;TZID=America/New_York:20240922T170000
DTSTAMP:20260425T124653
CREATED:20240227T202809Z
LAST-MODIFIED:20240911T002132Z
UID:4870-1727010000-1727024400@newflorenceborough.org
SUMMARY:New Florence Craft and Vendor Show - 2024
DESCRIPTION:Here are a few more updates for this event. \nSchedule of events: \nFood and craft Vendors open at 1\nBasket party starts at 1\nLive music from Ben Plowman at 2\nCornhole Tournament starts at 2 (sign up by 130)\nTickets pulled from Basket party at 4 \n \nHere is an update to the show. \nThe New Florence Community Development would like to remind folks the deadline for signing up for the Vendor and Craft show is August 1st.  There’s been some great additions to this year’s event.  The event is growing\, and we are expecting more vendors than last year and adding in several more food options!   The New Florence Volunteer Fire Company and New Florence Lions Club will both be there selling food along with a Kona Ice truck. \n \nThe New Florence Community Development announced their Craft and Vendor Show will be on September 22nd.  The event will be at the town’s playground.  Come and enjoy a day full of local vendors.  There will be something for everyone!  Stay tuned for more updates. \n \n 
URL:https://newflorenceborough.org/event/new-florence-craft-and-vendor-show-2024/
LOCATION:New Florence Playground\, 13th Street\, New Florence\, PA\, 15944\, United States
ATTACH;FMTTYPE=image/png:https://newflorenceborough.org/wp-content/uploads/2017/11/photo.png
END:VEVENT
BEGIN:VEVENT
DTSTART;TZID=America/New_York:20240921T150000
DTEND;TZID=America/New_York:20240921T210000
DTSTAMP:20260425T124653
CREATED:20240815T011814Z
LAST-MODIFIED:20240820T020542Z
UID:5272-1726930800-1726952400@newflorenceborough.org
SUMMARY:NF VFD Fall Pistol Bash - September 2024
DESCRIPTION:The New Florence Volunteer Fire Department will be holding their Third Annual Keith Boring Memorial Fall Pistol Bash on Saturday\, September 21st\, 2024.  The doors open at 3 pm.  This is a great fundraiser for the fire department.  Please come out and support them.  Thank you.
URL:https://newflorenceborough.org/event/nf-vfd-fall-pistol-bash-september-2024/
LOCATION:New Florence Volunteer Fire Department\, 177 13th Street\, New Florence\, PA\, 15944
ATTACH;FMTTYPE=image/png:https://newflorenceborough.org/wp-content/uploads/2017/11/photo.png
END:VEVENT
BEGIN:VEVENT
DTSTART;TZID=America/New_York:20240919T190000
DTEND;TZID=America/New_York:20240919T203000
DTSTAMP:20260425T124653
CREATED:20240905T125053Z
LAST-MODIFIED:20240905T125053Z
UID:5351-1726772400-1726777800@newflorenceborough.org
SUMMARY:New Florence Women's Club Meeting - Guest Speaker Sue Majoris
DESCRIPTION:The New Florence Woman’s Club will have a guest speaker\, Sue Majoris\, at their meeting on September 19th.  The topic is “The Granny Women of the Appalachians” and you can learn how they helped shape the country.  All are invited to attend.  Refreshments will be served afterwards.  If you have any questions\, please give Sue Buckles a call at 724-600-9734. \nGranny women in the Appalachians were older women who served as healers\, midwives\, and stewards of ancestral knowledge. They practiced Appalachian folk healing\, which is also known as “granny magic” or “granny witchcraft”. This tradition was a result of the combination of traditional practices from Scottish\, Irish\, and English settlers\, along with Native American knowledge\, and wisdom from people of African descent and German settlers. \n \n 
URL:https://newflorenceborough.org/event/new-florence-womens-club-meeting-guest-speaker-sue-majoris/
LOCATION:Trinity Presbyterian Church\, 117 Chestnut Street\, New Florence\, PA\, 15944
ATTACH;FMTTYPE=image/png:https://newflorenceborough.org/wp-content/uploads/2017/11/photo.png
END:VEVENT
BEGIN:VEVENT
DTSTART;TZID=America/New_York:20240919T160000
DTEND;TZID=America/New_York:20240919T180000
DTSTAMP:20260425T124653
CREATED:20240913T180440Z
LAST-MODIFIED:20240913T180440Z
UID:5378-1726761600-1726768800@newflorenceborough.org
SUMMARY:Auker's Farmer's Market
DESCRIPTION:The Aukers are coming back to the storage parking lot next to the post office on September 19th to set up another farmers market starting at 4 pm.  There will be lots of nice fall produce.  Please come out and support them.  Thanks.
URL:https://newflorenceborough.org/event/aukers-farmers-market-7/
LOCATION:Auker Farmer’s Market\, 179 Ligonier St\, New Florence\, PA\, 15944\, United States
ATTACH;FMTTYPE=image/png:https://newflorenceborough.org/wp-content/uploads/2017/11/photo.png
END:VEVENT
BEGIN:VEVENT
DTSTART;VALUE=DATE:20240918
DTEND;VALUE=DATE:20240919
DTSTAMP:20260425T124653
CREATED:20240825T210218Z
LAST-MODIFIED:20240825T210218Z
UID:5316-1726617600-1726703999@newflorenceborough.org
SUMMARY:New Florence Community Library "Readers in Stitches" Group
DESCRIPTION:The New Florence Community Library will be hosting the last meeting of their summer “Readers in Stitches” series.  Please see the flyer below for more information.  Thanks.
URL:https://newflorenceborough.org/event/new-florence-community-library-readers-in-stitches-group/
LOCATION:New Florence Community Library\, 122 N Ligonier St.\, New Florence\, PA\, 15944
ATTACH;FMTTYPE=image/png:https://newflorenceborough.org/wp-content/uploads/2017/11/photo.png
END:VEVENT
BEGIN:VEVENT
DTSTART;TZID=America/New_York:20240917T183000
DTEND;TZID=America/New_York:20240917T193000
DTSTAMP:20260425T124653
CREATED:20240107T001221Z
LAST-MODIFIED:20240913T184626Z
UID:4721-1726597800-1726601400@newflorenceborough.org
SUMMARY:Borough Council Meeting
DESCRIPTION:The borough council meets monthly on the third Tuesday of each month at the borough building located at 119 Franklin Street in New Florence at 6:30 p.m. The meetings are open to the public and all are encouraged to attend. \nHere is the agenda for the meeting. AGENDA 09-17-24
URL:https://newflorenceborough.org/event/borough-council-meeting-74/
LOCATION:Borough Building\, 119 Franklin Street\, New Florence\, PA\, 15944
ATTACH;FMTTYPE=image/png:https://newflorenceborough.org/wp-content/uploads/2017/11/photo.png
END:VEVENT
BEGIN:VEVENT
DTSTART;TZID=America/New_York:20240916T180000
DTEND;TZID=America/New_York:20240916T200000
DTSTAMP:20260425T124653
CREATED:20240825T205722Z
LAST-MODIFIED:20240825T205722Z
UID:5314-1726509600-1726516800@newflorenceborough.org
SUMMARY:New Florence Community Library "Deco Dots" Crafting with Sue Class
DESCRIPTION:Check out this fun class the library is hosting.  The flyer below has more information.  Thanks.
URL:https://newflorenceborough.org/event/new-florence-community-library-deco-dots-crafting-with-sue-class/
LOCATION:New Florence Community Library\, 122 N Ligonier St.\, New Florence\, PA\, 15944
ATTACH;FMTTYPE=image/png:https://newflorenceborough.org/wp-content/uploads/2017/11/photo.png
END:VEVENT
BEGIN:VEVENT
DTSTART;TZID=America/New_York:20240910T024500
DTEND;TZID=America/New_York:20240910T180000
DTSTAMP:20260425T124653
CREATED:20240825T204849Z
LAST-MODIFIED:20240825T204849Z
UID:5309-1725936300-1725991200@newflorenceborough.org
SUMMARY:PA Hunter-Trapper Education Class
DESCRIPTION:Please see the flyer below for a class the Pennsylvania Game Commission will be conducting for first-time hunters and trappers.  Please note this is a two day class but only the first day is shown on the calendar.  Thanks.
URL:https://newflorenceborough.org/event/pa-hunter-trapper-education-class/
LOCATION:Ligonier Valley Middle School\, 536 Bell Street\, Ligonier\, PA\, 15658\, United States
ATTACH;FMTTYPE=image/png:https://newflorenceborough.org/wp-content/uploads/2017/11/photo.png
END:VEVENT
BEGIN:VEVENT
DTSTART;TZID=America/New_York:20240909T100000
DTEND;TZID=America/New_York:20240913T170000
DTSTAMP:20260425T124653
CREATED:20240905T124334Z
LAST-MODIFIED:20240905T124334Z
UID:5348-1725876000-1726246800@newflorenceborough.org
SUMMARY:New Florence Community Library 9/11 Week of Service Food Drive
DESCRIPTION:The New Florence Community Library will be participating in a food drive from September 9th through the 13th.  The Westmoreland Library Network organized some of the libraries to be drop off points for a food drive by the Westmoreland Food Bank. Our library is going to be one of those drop-offs. They are focusing on light weight stuff like Hamburger Helper\, instant potatoes\, cereals\, and other boxed meals. Our couriers will be the ones transporting these items.  Please see the flyers below.  Drop-offs can be made any time during normal library hours.  If you have any questions\, please give the library a call for more information.
URL:https://newflorenceborough.org/event/new-florence-community-library-9-11-week-of-service-food-drive/
LOCATION:New Florence Community Library\, 122 N Ligonier St.\, New Florence\, PA\, 15944
ATTACH;FMTTYPE=image/png:https://newflorenceborough.org/wp-content/uploads/2017/11/photo.png
END:VEVENT
BEGIN:VEVENT
DTSTART;TZID=America/New_York:20240907T173000
DTEND;TZID=America/New_York:20240907T210000
DTSTAMP:20260425T124653
CREATED:20240820T015424Z
LAST-MODIFIED:20240907T165008Z
UID:5292-1725730200-1725742800@newflorenceborough.org
SUMMARY:New Florence VFD Rippie Night - Cancelled
DESCRIPTION:Unfortunately the VFD had to cancel this event.  Sorry. \n \nThe New Florence Volunteer Fire Department will be holding their next rippie fundraiser.  If you need more information\, please contact the fire department.  Thanks.
URL:https://newflorenceborough.org/event/new-florence-vfd-rippie-night-31/
LOCATION:New Florence Volunteer Fire Department\, 177 13th Street\, New Florence\, PA\, 15944
ATTACH;FMTTYPE=image/png:https://newflorenceborough.org/wp-content/uploads/2017/11/photo.png
END:VEVENT
BEGIN:VEVENT
DTSTART;TZID=America/New_York:20240907T090000
DTEND;TZID=America/New_York:20240907T140000
DTSTAMP:20260425T124653
CREATED:20240820T015658Z
LAST-MODIFIED:20240905T123552Z
UID:5294-1725699600-1725717600@newflorenceborough.org
SUMMARY:New Florence VFD Sub Sale
DESCRIPTION:The New Florence Volunteer Fire Department will be holding another sub sale fundraiser. Subs will be available from 9 am until they are sold out.  If you need more information\, contact the fire department.   Thank you.
URL:https://newflorenceborough.org/event/new-florence-vfd-sub-sale-21/
LOCATION:New Florence Volunteer Fire Department\, 177 13th Street\, New Florence\, PA\, 15944
ATTACH;FMTTYPE=image/png:https://newflorenceborough.org/wp-content/uploads/2017/11/photo.png
END:VEVENT
BEGIN:VEVENT
DTSTART;TZID=America/New_York:20240905T183000
DTEND;TZID=America/New_York:20240905T193000
DTSTAMP:20260425T124653
CREATED:20240107T193337Z
LAST-MODIFIED:20240107T193337Z
UID:4753-1725561000-1725564600@newflorenceborough.org
SUMMARY:New Florence/St Clair Sanitation Authority Meeting
DESCRIPTION:The New Florence/St. Clair Township Sanitation Authority holds their regularly scheduled meetings at the New Florence Sewage Authority office at 117 Franklin St.\, New Florence\, PA 15944 at 6:30 pm on the first Thursday of every month.  The meetings are open to the public.  Any changes to the schedule are published in the Johnstown Tribune Democrat newspaper.
URL:https://newflorenceborough.org/event/new-florence-st-clair-sanitation-authority-meeting-29/
LOCATION:New Florence/St. Clair Township Sanitation Authority\, 117 Franklin Street\, New Florence\, PA\, 15944\, United States
ATTACH;FMTTYPE=image/png:https://newflorenceborough.org/wp-content/uploads/2017/11/photo.png
END:VEVENT
BEGIN:VEVENT
DTSTART;VALUE=DATE:20240826
DTEND;VALUE=DATE:20240827
DTSTAMP:20260425T124653
CREATED:20240820T015146Z
LAST-MODIFIED:20240820T015146Z
UID:5290-1724630400-1724716799@newflorenceborough.org
SUMMARY:First Day of School
DESCRIPTION:This is the first day of school.  Please be careful.
URL:https://newflorenceborough.org/event/first-day-of-school-2/
LOCATION:New Florence\, PA: Multiple Locations\, New Florence\, PA\, 15944
ATTACH;FMTTYPE=image/png:https://newflorenceborough.org/wp-content/uploads/2017/11/photo.png
END:VEVENT
BEGIN:VEVENT
DTSTART;TZID=America/New_York:20240823T170000
DTEND;TZID=America/New_York:20240823T170000
DTSTAMP:20260425T124653
CREATED:20240815T011415Z
LAST-MODIFIED:20240815T011415Z
UID:5270-1724432400-1724432400@newflorenceborough.org
SUMMARY:New Florence VFW Post 7622 Backpack Give-a-Way
DESCRIPTION:Please check out this backpack give-a-way the VFW is having.  Also\, remember that the kitchen is open to the public.  Thanks.
URL:https://newflorenceborough.org/event/new-florence-vfw-post-7622-backpack-give-a-way/
LOCATION:New Florence VFW\, 6215 Route 711\, New Florence\, PA\, 15944
ATTACH;FMTTYPE=image/png:https://newflorenceborough.org/wp-content/uploads/2017/11/photo.png
END:VEVENT
BEGIN:VEVENT
DTSTART;TZID=America/New_York:20240820T183000
DTEND;TZID=America/New_York:20240820T193000
DTSTAMP:20260425T124653
CREATED:20240107T001100Z
LAST-MODIFIED:20240107T001100Z
UID:4719-1724178600-1724182200@newflorenceborough.org
SUMMARY:Borough Council Meeting
DESCRIPTION:The borough council meets monthly on the third Tuesday of each month at the borough building located at 119 Franklin Street in New Florence at 6:30 p.m. The meetings are open to the public and all are encouraged to attend. \nHere is the agenda for the meeting. PENDING
URL:https://newflorenceborough.org/event/borough-council-meeting-73/
LOCATION:Borough Building\, 119 Franklin Street\, New Florence\, PA\, 15944
ATTACH;FMTTYPE=image/png:https://newflorenceborough.org/wp-content/uploads/2017/11/photo.png
END:VEVENT
BEGIN:VEVENT
DTSTART;TZID=America/New_York:20240819T180000
DTEND;TZID=America/New_York:20240819T190000
DTSTAMP:20260425T124653
CREATED:20240720T031152Z
LAST-MODIFIED:20240720T031152Z
UID:5237-1724090400-1724094000@newflorenceborough.org
SUMMARY:New Florence Community Library Essential Oils Workshop
DESCRIPTION:There’s an Oil for That meets Monday\, August 19th at 6:00pm. This is a *FREE* monthly workshop to try out and learn how to adapt essential oils into your daily routine and cut out the toxic chemicals in your life. Learn about the doTERRA company and how they source and make their oils. Hosted by doTERRA Wellness Advocate\, Kimberly Green.  Opportunities to order products will be available but purchases are not required.  Future upcoming workshops will be on the 4th Monday of the month.  The next workshop will be September 23rd.  For more details\, see the flyer below or give the library a call.  Thanks.
URL:https://newflorenceborough.org/event/new-florence-community-library-essential-oils-workshop-2/
LOCATION:New Florence Community Library\, 122 N Ligonier St.\, New Florence\, PA\, 15944
ATTACH;FMTTYPE=image/png:https://newflorenceborough.org/wp-content/uploads/2017/11/photo.png
END:VEVENT
END:VCALENDAR