BEGIN:VCALENDAR
VERSION:2.0
PRODID:-//New Florence Borough - ECPv6.15.20//NONSGML v1.0//EN
CALSCALE:GREGORIAN
METHOD:PUBLISH
X-WR-CALNAME:New Florence Borough
X-ORIGINAL-URL:https://newflorenceborough.org
X-WR-CALDESC:Events for New Florence Borough
REFRESH-INTERVAL;VALUE=DURATION:PT1H
X-Robots-Tag:noindex
X-PUBLISHED-TTL:PT1H
BEGIN:VTIMEZONE
TZID:America/New_York
BEGIN:DAYLIGHT
TZOFFSETFROM:-0500
TZOFFSETTO:-0400
TZNAME:EDT
DTSTART:20250309T070000
END:DAYLIGHT
BEGIN:STANDARD
TZOFFSETFROM:-0400
TZOFFSETTO:-0500
TZNAME:EST
DTSTART:20251102T060000
END:STANDARD
BEGIN:DAYLIGHT
TZOFFSETFROM:-0500
TZOFFSETTO:-0400
TZNAME:EDT
DTSTART:20260308T070000
END:DAYLIGHT
BEGIN:STANDARD
TZOFFSETFROM:-0400
TZOFFSETTO:-0500
TZNAME:EST
DTSTART:20261101T060000
END:STANDARD
BEGIN:DAYLIGHT
TZOFFSETFROM:-0500
TZOFFSETTO:-0400
TZNAME:EDT
DTSTART:20270314T070000
END:DAYLIGHT
BEGIN:STANDARD
TZOFFSETFROM:-0400
TZOFFSETTO:-0500
TZNAME:EST
DTSTART:20271107T060000
END:STANDARD
END:VTIMEZONE
BEGIN:VEVENT
DTSTART;TZID=America/New_York:20260613T120000
DTEND;TZID=America/New_York:20260613T180000
DTSTAMP:20260424T083531
CREATED:20260301T135405Z
LAST-MODIFIED:20260301T135405Z
UID:6950-1781352000-1781373600@newflorenceborough.org
SUMMARY:New Florence VFW Summer Bash 2026
DESCRIPTION:New Florence VFW Post 7622 will be holding their annual gun bash fundraiser on June 13th.  Please see the flyer below for more information.  Images of the gun bash ticket will be added as soon as they’re available.  The club is also selling 1000 tickets this year unlike the 500 they only sold last year.  Last year they ran out of tickets 2 months before the event.  If you have any questions please give the club a call at 724-235-9904. \n \n 
URL:https://newflorenceborough.org/event/new-florence-vfw-summer-bash-2026/
LOCATION:New Florence VFW\, 6215 Route 711\, New Florence\, PA\, 15944
ATTACH;FMTTYPE=image/png:https://newflorenceborough.org/wp-content/uploads/2017/11/photo.png
END:VEVENT
END:VCALENDAR