BEGIN:VCALENDAR
VERSION:2.0
PRODID:-//New Florence Borough - ECPv6.15.20//NONSGML v1.0//EN
CALSCALE:GREGORIAN
METHOD:PUBLISH
X-ORIGINAL-URL:https://newflorenceborough.org
X-WR-CALDESC:Events for New Florence Borough
REFRESH-INTERVAL;VALUE=DURATION:PT1H
X-Robots-Tag:noindex
X-PUBLISHED-TTL:PT1H
BEGIN:VTIMEZONE
TZID:America/New_York
BEGIN:DAYLIGHT
TZOFFSETFROM:-0500
TZOFFSETTO:-0400
TZNAME:EDT
DTSTART:20240310T070000
END:DAYLIGHT
BEGIN:STANDARD
TZOFFSETFROM:-0400
TZOFFSETTO:-0500
TZNAME:EST
DTSTART:20241103T060000
END:STANDARD
BEGIN:DAYLIGHT
TZOFFSETFROM:-0500
TZOFFSETTO:-0400
TZNAME:EDT
DTSTART:20250309T070000
END:DAYLIGHT
BEGIN:STANDARD
TZOFFSETFROM:-0400
TZOFFSETTO:-0500
TZNAME:EST
DTSTART:20251102T060000
END:STANDARD
BEGIN:DAYLIGHT
TZOFFSETFROM:-0500
TZOFFSETTO:-0400
TZNAME:EDT
DTSTART:20260308T070000
END:DAYLIGHT
BEGIN:STANDARD
TZOFFSETFROM:-0400
TZOFFSETTO:-0500
TZNAME:EST
DTSTART:20261101T060000
END:STANDARD
END:VTIMEZONE
BEGIN:VEVENT
DTSTART;TZID=America/New_York:20250828T070000
DTEND;TZID=America/New_York:20250828T170000
DTSTAMP:20260424T181959
CREATED:20250710T134020Z
LAST-MODIFIED:20250810T142303Z
UID:6280-1756364400-1756400400@newflorenceborough.org
SUMMARY:New Florence Community Library Summer Train Ride & Lincoln Caverns Tour
DESCRIPTION:This trip is now full.  However\, the library has a waitlist for those still interesting in going.  Give the library a call for more information. \n \nHere is an updated flyer for the trip. \n \nCheck out this exciting day trip the library is doing.  More information will be posted as it becomes available.  The times listed are just a place holder for now.  I’ll update them as I know more.  Thanks.
URL:https://newflorenceborough.org/event/new-florence-community-library-summer-train-ride-lincoln-caverns-tour/
LOCATION:New Florence Community Library\, 122 N Ligonier St.\, New Florence\, PA\, 15944
ATTACH;FMTTYPE=image/png:https://newflorenceborough.org/wp-content/uploads/2017/11/photo.png
END:VEVENT
BEGIN:VEVENT
DTSTART;TZID=America/New_York:20250828T170000
DTEND;TZID=America/New_York:20250828T183000
DTSTAMP:20260424T181959
CREATED:20250827T023656Z
LAST-MODIFIED:20250827T023656Z
UID:6383-1756400400-1756405800@newflorenceborough.org
SUMMARY:Auker's Farmer's Market
DESCRIPTION:The Aukers are coming back to the storage parking lot next to the post office on August 28th to set up another farmers market starting at 5 pm.  Please come out and support them.  The end time is a guess at the moment.  The end time wasn’t posted in the Bowers Mini-Storage announcement.  Thanks.
URL:https://newflorenceborough.org/event/aukers-farmers-market-9/
LOCATION:Auker Farmer’s Market\, 179 Ligonier St\, New Florence\, PA\, 15944\, United States
ATTACH;FMTTYPE=image/png:https://newflorenceborough.org/wp-content/uploads/2017/11/photo.png
END:VEVENT
END:VCALENDAR