BEGIN:VCALENDAR
VERSION:2.0
PRODID:-//New Florence Borough - ECPv6.15.20//NONSGML v1.0//EN
CALSCALE:GREGORIAN
METHOD:PUBLISH
X-WR-CALNAME:New Florence Borough
X-ORIGINAL-URL:https://newflorenceborough.org
X-WR-CALDESC:Events for New Florence Borough
REFRESH-INTERVAL;VALUE=DURATION:PT1H
X-Robots-Tag:noindex
X-PUBLISHED-TTL:PT1H
BEGIN:VTIMEZONE
TZID:America/New_York
BEGIN:DAYLIGHT
TZOFFSETFROM:-0500
TZOFFSETTO:-0400
TZNAME:EDT
DTSTART:20240310T070000
END:DAYLIGHT
BEGIN:STANDARD
TZOFFSETFROM:-0400
TZOFFSETTO:-0500
TZNAME:EST
DTSTART:20241103T060000
END:STANDARD
BEGIN:DAYLIGHT
TZOFFSETFROM:-0500
TZOFFSETTO:-0400
TZNAME:EDT
DTSTART:20250309T070000
END:DAYLIGHT
BEGIN:STANDARD
TZOFFSETFROM:-0400
TZOFFSETTO:-0500
TZNAME:EST
DTSTART:20251102T060000
END:STANDARD
BEGIN:DAYLIGHT
TZOFFSETFROM:-0500
TZOFFSETTO:-0400
TZNAME:EDT
DTSTART:20260308T070000
END:DAYLIGHT
BEGIN:STANDARD
TZOFFSETFROM:-0400
TZOFFSETTO:-0500
TZNAME:EST
DTSTART:20261101T060000
END:STANDARD
END:VTIMEZONE
BEGIN:VEVENT
DTSTART;TZID=America/New_York:20250724T080000
DTEND;TZID=America/New_York:20250808T170000
DTSTAMP:20260424T182631
CREATED:20250724T185509Z
LAST-MODIFIED:20250724T185509Z
UID:6310-1753344000-1754672400@newflorenceborough.org
SUMMARY:Back To School - School Supply Drive
DESCRIPTION:The New Florence Community Development and the Somerset Trust Company are collecting school supplies to use at the Back To School event.  More information is in the flyer below.  Please help out if you can.  Thanks.
URL:https://newflorenceborough.org/event/back-to-school-school-supply-drive/
LOCATION:Somerset Trust Company – New Florence Branch\, 161 12th Street\, New Florence\, PA\, 15944
ATTACH;FMTTYPE=image/png:https://newflorenceborough.org/wp-content/uploads/2017/11/photo.png
END:VEVENT
BEGIN:VEVENT
DTSTART;TZID=America/New_York:20250802T090000
DTEND;TZID=America/New_York:20250802T130000
DTSTAMP:20260424T182631
CREATED:20250724T190315Z
LAST-MODIFIED:20250724T190315Z
UID:6314-1754125200-1754139600@newflorenceborough.org
SUMMARY:New Florence VFD Sub Sale
DESCRIPTION:The New Florence Volunteer Fire Department will be having their next sub sale and rippie party on the August 2nd.   Subs will be available from 9 am until they are sold out.  If you need more information\, contact the fire department.  Thank you.
URL:https://newflorenceborough.org/event/new-florence-vfd-sub-sale-31/
LOCATION:New Florence Volunteer Fire Department\, 177 13th Street\, New Florence\, PA\, 15944
ATTACH;FMTTYPE=image/png:https://newflorenceborough.org/wp-content/uploads/2017/11/photo.png
END:VEVENT
BEGIN:VEVENT
DTSTART;TZID=America/New_York:20250802T140000
DTEND;TZID=America/New_York:20250802T160000
DTSTAMP:20260424T182631
CREATED:20250724T184749Z
LAST-MODIFIED:20250724T184749Z
UID:6307-1754143200-1754150400@newflorenceborough.org
SUMMARY:New Florence United Methodist Church Family Magic Matinee
DESCRIPTION:The New Florence Methodist will be hosting a fundraiser Family Magic Matinee show on August 2nd at 2pm.  Tickets are required to attend the show.  Give the church a call for more information or follow this link.    Family Magic Matinee   Thanks.
URL:https://newflorenceborough.org/event/new-florence-united-methodist-church-family-magic-matinee/
LOCATION:New Florence United Methodist Church\, 200 9th St.\, New Florence\, PA\, 15944\, United States
ATTACH;FMTTYPE=image/png:https://newflorenceborough.org/wp-content/uploads/2017/11/photo.png
END:VEVENT
BEGIN:VEVENT
DTSTART;TZID=America/New_York:20250802T170000
DTEND;TZID=America/New_York:20250802T210000
DTSTAMP:20260424T182631
CREATED:20250724T191202Z
LAST-MODIFIED:20250724T191202Z
UID:6319-1754154000-1754168400@newflorenceborough.org
SUMMARY:National Night Out 2025
DESCRIPTION:This year’s National Night Out will be held at the Seward Volunteer Fire Co. on August 2nd.  The St. Clair Township Police Department\, the Seward VFD\, and other organizations will be out within the community during the evening to interact with the residents with the goal of improving community relations.  This will be at the Seward fire hall from 5 pm to 9 pm.  There will also be activities at the fire department building.  For those that attended the event last year in New Florence it was a great time for all.  Please see the flyer below for more information.
URL:https://newflorenceborough.org/event/national-night-out-2025/
LOCATION:Seward Volunteer Fire Co.\, 1230 10th Street\, Seward\, PA\, 15954\, United States
ATTACH;FMTTYPE=image/png:https://newflorenceborough.org/wp-content/uploads/2017/11/photo.png
END:VEVENT
BEGIN:VEVENT
DTSTART;TZID=America/New_York:20250802T173000
DTEND;TZID=America/New_York:20250802T210000
DTSTAMP:20260424T182631
CREATED:20250724T190523Z
LAST-MODIFIED:20250724T190523Z
UID:6317-1754155800-1754168400@newflorenceborough.org
SUMMARY:New Florence VFD Rippie Night
DESCRIPTION:The New Florence Volunteer Fire Department will be having their next sub sale and rippie party on the August 2nd.   If you need more information\, contact the fire department.  Thank you.
URL:https://newflorenceborough.org/event/new-florence-vfd-rippie-night-41/
LOCATION:New Florence Volunteer Fire Department\, 177 13th Street\, New Florence\, PA\, 15944
ATTACH;FMTTYPE=image/png:https://newflorenceborough.org/wp-content/uploads/2017/11/photo.png
END:VEVENT
END:VCALENDAR