BEGIN:VCALENDAR
VERSION:2.0
PRODID:-//New Florence Borough - ECPv6.15.20//NONSGML v1.0//EN
CALSCALE:GREGORIAN
METHOD:PUBLISH
X-WR-CALNAME:New Florence Borough
X-ORIGINAL-URL:https://newflorenceborough.org
X-WR-CALDESC:Events for New Florence Borough
REFRESH-INTERVAL;VALUE=DURATION:PT1H
X-Robots-Tag:noindex
X-PUBLISHED-TTL:PT1H
BEGIN:VTIMEZONE
TZID:America/New_York
BEGIN:DAYLIGHT
TZOFFSETFROM:-0500
TZOFFSETTO:-0400
TZNAME:EDT
DTSTART:20240310T070000
END:DAYLIGHT
BEGIN:STANDARD
TZOFFSETFROM:-0400
TZOFFSETTO:-0500
TZNAME:EST
DTSTART:20241103T060000
END:STANDARD
BEGIN:DAYLIGHT
TZOFFSETFROM:-0500
TZOFFSETTO:-0400
TZNAME:EDT
DTSTART:20250309T070000
END:DAYLIGHT
BEGIN:STANDARD
TZOFFSETFROM:-0400
TZOFFSETTO:-0500
TZNAME:EST
DTSTART:20251102T060000
END:STANDARD
BEGIN:DAYLIGHT
TZOFFSETFROM:-0500
TZOFFSETTO:-0400
TZNAME:EDT
DTSTART:20260308T070000
END:DAYLIGHT
BEGIN:STANDARD
TZOFFSETFROM:-0400
TZOFFSETTO:-0500
TZNAME:EST
DTSTART:20261101T060000
END:STANDARD
END:VTIMEZONE
BEGIN:VEVENT
DTSTART;TZID=America/New_York:20250522T100000
DTEND;TZID=America/New_York:20250627T170000
DTSTAMP:20260424T211203
CREATED:20250616T061346Z
LAST-MODIFIED:20250616T061346Z
UID:6220-1747908000-1751043600@newflorenceborough.org
SUMMARY:New Florence Community Library Spring Book Sale 2025
DESCRIPTION:The New Florence Community Library is having one of their yearly book sales from May 22nd to June 27th.   Starting Monday\, June 16th\, they will be having a $1 bag sale.  There’s also lots of other special items available during the sale.   They found two items that were left behind during the community yard sale: a plastic cup and a pretty insect charm.  The owners should be able to describe the items to claim at the library.  Please see the flyer below or give the library a call for more information.
URL:https://newflorenceborough.org/event/new-florence-community-library-spring-book-sale-2025/
LOCATION:New Florence Community Library\, 122 N Ligonier St.\, New Florence\, PA\, 15944
ATTACH;FMTTYPE=image/png:https://newflorenceborough.org/wp-content/uploads/2017/11/photo.png
END:VEVENT
BEGIN:VEVENT
DTSTART;TZID=America/New_York:20250614T120000
DTEND;TZID=America/New_York:20250614T180000
DTSTAMP:20260424T211203
CREATED:20250326T113024Z
LAST-MODIFIED:20250326T113024Z
UID:6001-1749902400-1749924000@newflorenceborough.org
SUMMARY:New Florence VFW Gun Bash 2025
DESCRIPTION:New Florence VFW Post 7622 will be holding their annual gun bash fundraiser on June 14th.  Here are images of the gun bash ticket.  If you have questions please give the club a call at 724-235-9904. \n \n \n 
URL:https://newflorenceborough.org/event/new-florence-vfw-gun-bash-2025/
LOCATION:New Florence VFW\, 6215 Route 711\, New Florence\, PA\, 15944
ATTACH;FMTTYPE=image/png:https://newflorenceborough.org/wp-content/uploads/2017/11/photo.png
END:VEVENT
END:VCALENDAR