BEGIN:VCALENDAR
VERSION:2.0
PRODID:-//New Florence Borough - ECPv6.15.20//NONSGML v1.0//EN
CALSCALE:GREGORIAN
METHOD:PUBLISH
X-WR-CALNAME:New Florence Borough
X-ORIGINAL-URL:https://newflorenceborough.org
X-WR-CALDESC:Events for New Florence Borough
REFRESH-INTERVAL;VALUE=DURATION:PT1H
X-Robots-Tag:noindex
X-PUBLISHED-TTL:PT1H
BEGIN:VTIMEZONE
TZID:America/New_York
BEGIN:DAYLIGHT
TZOFFSETFROM:-0500
TZOFFSETTO:-0400
TZNAME:EDT
DTSTART:20240310T070000
END:DAYLIGHT
BEGIN:STANDARD
TZOFFSETFROM:-0400
TZOFFSETTO:-0500
TZNAME:EST
DTSTART:20241103T060000
END:STANDARD
BEGIN:DAYLIGHT
TZOFFSETFROM:-0500
TZOFFSETTO:-0400
TZNAME:EDT
DTSTART:20250309T070000
END:DAYLIGHT
BEGIN:STANDARD
TZOFFSETFROM:-0400
TZOFFSETTO:-0500
TZNAME:EST
DTSTART:20251102T060000
END:STANDARD
BEGIN:DAYLIGHT
TZOFFSETFROM:-0500
TZOFFSETTO:-0400
TZNAME:EDT
DTSTART:20260308T070000
END:DAYLIGHT
BEGIN:STANDARD
TZOFFSETFROM:-0400
TZOFFSETTO:-0500
TZNAME:EST
DTSTART:20261101T060000
END:STANDARD
END:VTIMEZONE
BEGIN:VEVENT
DTSTART;TZID=America/New_York:20250520T070000
DTEND;TZID=America/New_York:20250520T200000
DTSTAMP:20260424T235026
CREATED:20250509T004142Z
LAST-MODIFIED:20250509T004142Z
UID:6138-1747724400-1747771200@newflorenceborough.org
SUMMARY:2025 General Primary Election
DESCRIPTION:The 2023 General Primary Election is on Tuesday\, May 20th\, 2025.  Polls will be open from 7 am to 8 pm.  The New Florence polling location is the fire department building.  The Democrat and Republican ballots as of 7May2025 are listed below.  Besides electing various positions there is a New Florence specific referundum question concerning alcohol licensing.  Please get out and vote! \nOfficial Municipal Primary Democratic Ballot 20May2025 – DEM181 \nUnofficial Municipal Primary Republican Specimen Ballot 20May2025 – REP181 \n \n 
URL:https://newflorenceborough.org/event/2025-general-primary-election/
LOCATION:New Florence Volunteer Fire Department\, 177 13th Street\, New Florence\, PA\, 15944
ATTACH;FMTTYPE=image/png:https://newflorenceborough.org/wp-content/uploads/2017/11/photo.png
END:VEVENT
BEGIN:VEVENT
DTSTART;TZID=America/New_York:20250520T140000
DTEND;TZID=America/New_York:20250520T150000
DTSTAMP:20260424T235026
CREATED:20250412T011051Z
LAST-MODIFIED:20250412T011051Z
UID:6067-1747749600-1747753200@newflorenceborough.org
SUMMARY:New Florence Community Library Penn State Extension Webinar – Boosting Financial Wellness: Money and Nutrition
DESCRIPTION:Join the library for any of the following *FREE* programs and learn some practical knowledge.  If you have questions\, please give the library a call.
URL:https://newflorenceborough.org/event/new-florence-community-library-penn-state-extension-webinar-boosting-financial-wellness-money-and-nutrition/
LOCATION:New Florence Community Library\, 122 N Ligonier St.\, New Florence\, PA\, 15944
ATTACH;FMTTYPE=image/png:https://newflorenceborough.org/wp-content/uploads/2017/11/photo.png
END:VEVENT
END:VCALENDAR