BEGIN:VCALENDAR
VERSION:2.0
PRODID:-//New Florence Borough - ECPv6.15.20//NONSGML v1.0//EN
CALSCALE:GREGORIAN
METHOD:PUBLISH
X-ORIGINAL-URL:https://newflorenceborough.org
X-WR-CALDESC:Events for New Florence Borough
REFRESH-INTERVAL;VALUE=DURATION:PT1H
X-Robots-Tag:noindex
X-PUBLISHED-TTL:PT1H
BEGIN:VTIMEZONE
TZID:America/New_York
BEGIN:DAYLIGHT
TZOFFSETFROM:-0500
TZOFFSETTO:-0400
TZNAME:EDT
DTSTART:20240310T070000
END:DAYLIGHT
BEGIN:STANDARD
TZOFFSETFROM:-0400
TZOFFSETTO:-0500
TZNAME:EST
DTSTART:20241103T060000
END:STANDARD
BEGIN:DAYLIGHT
TZOFFSETFROM:-0500
TZOFFSETTO:-0400
TZNAME:EDT
DTSTART:20250309T070000
END:DAYLIGHT
BEGIN:STANDARD
TZOFFSETFROM:-0400
TZOFFSETTO:-0500
TZNAME:EST
DTSTART:20251102T060000
END:STANDARD
BEGIN:DAYLIGHT
TZOFFSETFROM:-0500
TZOFFSETTO:-0400
TZNAME:EDT
DTSTART:20260308T070000
END:DAYLIGHT
BEGIN:STANDARD
TZOFFSETFROM:-0400
TZOFFSETTO:-0500
TZNAME:EST
DTSTART:20261101T060000
END:STANDARD
END:VTIMEZONE
BEGIN:VEVENT
DTSTART;TZID=America/New_York:20250310T110000
DTEND;TZID=America/New_York:20250404T130000
DTSTAMP:20260424T233940
CREATED:20250201T015046Z
LAST-MODIFIED:20250402T110925Z
UID:5858-1741604400-1743771600@newflorenceborough.org
SUMMARY:New Florence Senior Center Open Walk-Through Basket Party 2025
DESCRIPTION:The New Florence Center for Active Adults will be holding a walk-through basket party starting on March 10th.  The center is starting to collect baskets\, gift cards\, and donations.  This party is a great way to support your local seniors.  Come out and have some fun!!  Please call the center for more details. \n \nHere are some photos of the baskets. \n \n \n \n \n \nDon’t forget the drawing date is almost here.  Come join us at the center as we cross the finish line.
URL:https://newflorenceborough.org/event/new-florence-senior-center-open-walk-through-basket-party-2025/
LOCATION:New Florence Senior Center\, 216 Ligonier Street\, New Florence\, PA\, 15944\, United States
ATTACH;FMTTYPE=image/png:https://newflorenceborough.org/wp-content/uploads/2017/11/photo.png
END:VEVENT
BEGIN:VEVENT
DTSTART;TZID=America/New_York:20250403T130000
DTEND;TZID=America/New_York:20250403T160000
DTSTAMP:20260424T233940
CREATED:20250402T110628Z
LAST-MODIFIED:20250402T110628Z
UID:6027-1743685200-1743696000@newflorenceborough.org
SUMMARY:New Florence Senior Center Jackpot Bingo
DESCRIPTION:We are excited to announce that we will be holding a Jackpot Bingo!  There is a $500 jackpot at 57 numbers.  Please call the center or message us on our Facebook page New Florence Senior Center to reserve your spot!
URL:https://newflorenceborough.org/event/new-florence-senior-center-jackpot-bingo/
LOCATION:New Florence Senior Center\, 216 Ligonier Street\, New Florence\, PA\, 15944\, United States
ATTACH;FMTTYPE=image/png:https://newflorenceborough.org/wp-content/uploads/2017/11/photo.png
END:VEVENT
END:VCALENDAR