BEGIN:VCALENDAR
VERSION:2.0
PRODID:-//New Florence Borough - ECPv6.15.20//NONSGML v1.0//EN
CALSCALE:GREGORIAN
METHOD:PUBLISH
X-ORIGINAL-URL:https://newflorenceborough.org
X-WR-CALDESC:Events for New Florence Borough
REFRESH-INTERVAL;VALUE=DURATION:PT1H
X-Robots-Tag:noindex
X-PUBLISHED-TTL:PT1H
BEGIN:VTIMEZONE
TZID:America/New_York
BEGIN:DAYLIGHT
TZOFFSETFROM:-0500
TZOFFSETTO:-0400
TZNAME:EDT
DTSTART:20230312T070000
END:DAYLIGHT
BEGIN:STANDARD
TZOFFSETFROM:-0400
TZOFFSETTO:-0500
TZNAME:EST
DTSTART:20231105T060000
END:STANDARD
BEGIN:DAYLIGHT
TZOFFSETFROM:-0500
TZOFFSETTO:-0400
TZNAME:EDT
DTSTART:20240310T070000
END:DAYLIGHT
BEGIN:STANDARD
TZOFFSETFROM:-0400
TZOFFSETTO:-0500
TZNAME:EST
DTSTART:20241103T060000
END:STANDARD
BEGIN:DAYLIGHT
TZOFFSETFROM:-0500
TZOFFSETTO:-0400
TZNAME:EDT
DTSTART:20250309T070000
END:DAYLIGHT
BEGIN:STANDARD
TZOFFSETFROM:-0400
TZOFFSETTO:-0500
TZNAME:EST
DTSTART:20251102T060000
END:STANDARD
END:VTIMEZONE
BEGIN:VEVENT
DTSTART;VALUE=DATE:20241104
DTEND;VALUE=DATE:20241225
DTSTAMP:20260425T072733
CREATED:20241105T015834Z
LAST-MODIFIED:20241105T015834Z
UID:5553-1730678400-1735084799@newflorenceborough.org
SUMMARY:New Florence Community Library Christmas Basket Sale
DESCRIPTION:The library has a great collection of baskets and such for sale.  This event is one of their yearly fundraisers.  Stop in the library and pick up a gift for two for those special people in you life.  The sale is ongoing until all items are sold.  The photos will give you an idea of the items available.  Thanks.
URL:https://newflorenceborough.org/event/new-florence-community-library-christmas-basket-sale/
LOCATION:New Florence Community Library\, 122 N Ligonier St.\, New Florence\, PA\, 15944
ATTACH;FMTTYPE=image/png:https://newflorenceborough.org/wp-content/uploads/2017/11/photo.png
END:VEVENT
BEGIN:VEVENT
DTSTART;TZID=America/New_York:20241205T183000
DTEND;TZID=America/New_York:20241205T193000
DTSTAMP:20260425T072733
CREATED:20240107T193650Z
LAST-MODIFIED:20240107T193650Z
UID:4759-1733423400-1733427000@newflorenceborough.org
SUMMARY:New Florence/St Clair Sanitation Authority Meeting
DESCRIPTION:The New Florence/St. Clair Township Sanitation Authority holds their regularly scheduled meetings at the New Florence Sewage Authority office at 117 Franklin St.\, New Florence\, PA 15944 at 6:30 pm on the first Thursday of every month.  The meetings are open to the public.  Any changes to the schedule are published in the Johnstown Tribune Democrat newspaper.
URL:https://newflorenceborough.org/event/new-florence-st-clair-sanitation-authority-meeting-32/
LOCATION:New Florence/St. Clair Township Sanitation Authority\, 117 Franklin Street\, New Florence\, PA\, 15944\, United States
ATTACH;FMTTYPE=image/png:https://newflorenceborough.org/wp-content/uploads/2017/11/photo.png
END:VEVENT
END:VCALENDAR