BEGIN:VCALENDAR
VERSION:2.0
PRODID:-//New Florence Borough - ECPv6.15.20//NONSGML v1.0//EN
CALSCALE:GREGORIAN
METHOD:PUBLISH
X-WR-CALNAME:New Florence Borough
X-ORIGINAL-URL:https://newflorenceborough.org
X-WR-CALDESC:Events for New Florence Borough
REFRESH-INTERVAL;VALUE=DURATION:PT1H
X-Robots-Tag:noindex
X-PUBLISHED-TTL:PT1H
BEGIN:VTIMEZONE
TZID:America/New_York
BEGIN:DAYLIGHT
TZOFFSETFROM:-0500
TZOFFSETTO:-0400
TZNAME:EDT
DTSTART:20230312T070000
END:DAYLIGHT
BEGIN:STANDARD
TZOFFSETFROM:-0400
TZOFFSETTO:-0500
TZNAME:EST
DTSTART:20231105T060000
END:STANDARD
BEGIN:DAYLIGHT
TZOFFSETFROM:-0500
TZOFFSETTO:-0400
TZNAME:EDT
DTSTART:20240310T070000
END:DAYLIGHT
BEGIN:STANDARD
TZOFFSETFROM:-0400
TZOFFSETTO:-0500
TZNAME:EST
DTSTART:20241103T060000
END:STANDARD
BEGIN:DAYLIGHT
TZOFFSETFROM:-0500
TZOFFSETTO:-0400
TZNAME:EDT
DTSTART:20250309T070000
END:DAYLIGHT
BEGIN:STANDARD
TZOFFSETFROM:-0400
TZOFFSETTO:-0500
TZNAME:EST
DTSTART:20251102T060000
END:STANDARD
END:VTIMEZONE
BEGIN:VEVENT
DTSTART;TZID=America/New_York:20240925T100000
DTEND;TZID=America/New_York:20241030T170000
DTSTAMP:20260425T095551
CREATED:20240926T202245Z
LAST-MODIFIED:20240926T202245Z
UID:5443-1727258400-1730307600@newflorenceborough.org
SUMMARY:New Florence Community Library Fall Book Sale 2024
DESCRIPTION:The New Florence Community Library will be having one of their yearly book sales from September 25th to October 30th.  Please see the flyer below or give the library a call for more information.
URL:https://newflorenceborough.org/event/new-florence-community-library-fall-book-sale-2024/
LOCATION:New Florence Community Library\, 122 N Ligonier St.\, New Florence\, PA\, 15944
ATTACH;FMTTYPE=image/png:https://newflorenceborough.org/wp-content/uploads/2017/11/photo.png
END:VEVENT
BEGIN:VEVENT
DTSTART;TZID=America/New_York:20241017T081500
DTEND;TZID=America/New_York:20241017T170000
DTSTAMP:20260425T095551
CREATED:20241001T175857Z
LAST-MODIFIED:20241001T175857Z
UID:5460-1729152900-1729184400@newflorenceborough.org
SUMMARY:West Overton Village and Fort Necessity Bus Trip
DESCRIPTION:Join us for a fall bus trip to West Overton Museums and Fort Necessity National Battlefield\, Thursday October 17th.  Cost = $75.00 per person.  Price includes transportation\, lunch\, tours\, plus soap making and whiskey distillery tasting (must be 21 years old or older) at West Overton Village.  Stop by the New Florence Community Library for more information and/or to sign up. Call 724-235-2249.
URL:https://newflorenceborough.org/event/west-overton-village-and-fort-necessity-bus-trip/
LOCATION:New Florence Community Library\, 122 N Ligonier St.\, New Florence\, PA\, 15944
ATTACH;FMTTYPE=image/png:https://newflorenceborough.org/wp-content/uploads/2017/11/photo.png
END:VEVENT
BEGIN:VEVENT
DTSTART;TZID=America/New_York:20241017T190000
DTEND;TZID=America/New_York:20241017T203000
DTSTAMP:20260425T095551
CREATED:20240920T133125Z
LAST-MODIFIED:20240920T133125Z
UID:5407-1729191600-1729197000@newflorenceborough.org
SUMMARY:New Florence Women's Club Meeting
DESCRIPTION:The New Florence Woman’s Club will hold their next meeting on October 17th.  All are invited to attend.  Refreshments will be served afterwards.  If you have any questions\, please give Paige Rummel\, 814-241-9986\, or Sue Buckles\, 724-600-9734\, a call.  Thanks.
URL:https://newflorenceborough.org/event/new-florence-womens-club-meeting-7/
LOCATION:Trinity Presbyterian Church\, 117 Chestnut Street\, New Florence\, PA\, 15944
ATTACH;FMTTYPE=image/png:https://newflorenceborough.org/wp-content/uploads/2017/11/photo.png
END:VEVENT
END:VCALENDAR