BEGIN:VCALENDAR
VERSION:2.0
PRODID:-//New Florence Borough - ECPv6.15.20//NONSGML v1.0//EN
CALSCALE:GREGORIAN
METHOD:PUBLISH
X-WR-CALNAME:New Florence Borough
X-ORIGINAL-URL:https://newflorenceborough.org
X-WR-CALDESC:Events for New Florence Borough
REFRESH-INTERVAL;VALUE=DURATION:PT1H
X-Robots-Tag:noindex
X-PUBLISHED-TTL:PT1H
BEGIN:VTIMEZONE
TZID:America/New_York
BEGIN:DAYLIGHT
TZOFFSETFROM:-0500
TZOFFSETTO:-0400
TZNAME:EDT
DTSTART:20230312T070000
END:DAYLIGHT
BEGIN:STANDARD
TZOFFSETFROM:-0400
TZOFFSETTO:-0500
TZNAME:EST
DTSTART:20231105T060000
END:STANDARD
BEGIN:DAYLIGHT
TZOFFSETFROM:-0500
TZOFFSETTO:-0400
TZNAME:EDT
DTSTART:20240310T070000
END:DAYLIGHT
BEGIN:STANDARD
TZOFFSETFROM:-0400
TZOFFSETTO:-0500
TZNAME:EST
DTSTART:20241103T060000
END:STANDARD
BEGIN:DAYLIGHT
TZOFFSETFROM:-0500
TZOFFSETTO:-0400
TZNAME:EDT
DTSTART:20250309T070000
END:DAYLIGHT
BEGIN:STANDARD
TZOFFSETFROM:-0400
TZOFFSETTO:-0500
TZNAME:EST
DTSTART:20251102T060000
END:STANDARD
END:VTIMEZONE
BEGIN:VEVENT
DTSTART;TZID=America/New_York:20240922T130000
DTEND;TZID=America/New_York:20240922T170000
DTSTAMP:20260425T111551
CREATED:20240227T202809Z
LAST-MODIFIED:20240911T002132Z
UID:4870-1727010000-1727024400@newflorenceborough.org
SUMMARY:New Florence Craft and Vendor Show - 2024
DESCRIPTION:Here are a few more updates for this event. \nSchedule of events: \nFood and craft Vendors open at 1\nBasket party starts at 1\nLive music from Ben Plowman at 2\nCornhole Tournament starts at 2 (sign up by 130)\nTickets pulled from Basket party at 4 \n \nHere is an update to the show. \nThe New Florence Community Development would like to remind folks the deadline for signing up for the Vendor and Craft show is August 1st.  There’s been some great additions to this year’s event.  The event is growing\, and we are expecting more vendors than last year and adding in several more food options!   The New Florence Volunteer Fire Company and New Florence Lions Club will both be there selling food along with a Kona Ice truck. \n \nThe New Florence Community Development announced their Craft and Vendor Show will be on September 22nd.  The event will be at the town’s playground.  Come and enjoy a day full of local vendors.  There will be something for everyone!  Stay tuned for more updates. \n \n 
URL:https://newflorenceborough.org/event/new-florence-craft-and-vendor-show-2024/
LOCATION:New Florence Playground\, 13th Street\, New Florence\, PA\, 15944\, United States
ATTACH;FMTTYPE=image/png:https://newflorenceborough.org/wp-content/uploads/2017/11/photo.png
END:VEVENT
END:VCALENDAR