BEGIN:VCALENDAR
VERSION:2.0
PRODID:-//New Florence Borough - ECPv6.15.20//NONSGML v1.0//EN
CALSCALE:GREGORIAN
METHOD:PUBLISH
X-WR-CALNAME:New Florence Borough
X-ORIGINAL-URL:https://newflorenceborough.org
X-WR-CALDESC:Events for New Florence Borough
REFRESH-INTERVAL;VALUE=DURATION:PT1H
X-Robots-Tag:noindex
X-PUBLISHED-TTL:PT1H
BEGIN:VTIMEZONE
TZID:America/New_York
BEGIN:DAYLIGHT
TZOFFSETFROM:-0500
TZOFFSETTO:-0400
TZNAME:EDT
DTSTART:20230312T070000
END:DAYLIGHT
BEGIN:STANDARD
TZOFFSETFROM:-0400
TZOFFSETTO:-0500
TZNAME:EST
DTSTART:20231105T060000
END:STANDARD
BEGIN:DAYLIGHT
TZOFFSETFROM:-0500
TZOFFSETTO:-0400
TZNAME:EDT
DTSTART:20240310T070000
END:DAYLIGHT
BEGIN:STANDARD
TZOFFSETFROM:-0400
TZOFFSETTO:-0500
TZNAME:EST
DTSTART:20241103T060000
END:STANDARD
BEGIN:DAYLIGHT
TZOFFSETFROM:-0500
TZOFFSETTO:-0400
TZNAME:EDT
DTSTART:20250309T070000
END:DAYLIGHT
BEGIN:STANDARD
TZOFFSETFROM:-0400
TZOFFSETTO:-0500
TZNAME:EST
DTSTART:20251102T060000
END:STANDARD
END:VTIMEZONE
BEGIN:VEVENT
DTSTART;TZID=America/New_York:20240624T070000
DTEND;TZID=America/New_York:20240703T170000
DTSTAMP:20260425T123610
CREATED:20240615T124109Z
LAST-MODIFIED:20240702T012624Z
UID:5130-1719212400-1720026000@newflorenceborough.org
SUMMARY:Road Now Open - Rt. 711 at Tubmill Creek near Mirror Lake
DESCRIPTION:Hoorah\, Rt 711 by Mirror Lake is now open.  The bridge replacement project is in the cleanup stage.  Not bad replacing a bridge in a week.  Looks nice.  Cheers. \n \n \n  \nStarting June 24th\, Route 711 will be closed on the New Florence side of Fairfield hill for bridge work.  The Tubmill Creek bridge\, which is listed in “poor to serious” condition\, will be replaced with a wider pre-cast concrete box culvert.  A multi-week detour is anticipated\, with passenger cars diverted along a northbound route of nearly 9 miles and a southbound route of almost 14 miles.  The official detour for trucks and RV campers will take them nearly 28 miles out of the way.  Detour signs should be in place soon.  Please use caution on the detour roads.  Hopefully this work can be completed quickly.  The dates on this post are just estimates.  Changes are likely.  Please be careful.
URL:https://newflorenceborough.org/event/road-closure-rt-711-at-tubmill-creek-near-mirror-lake/
LOCATION:PA
ATTACH;FMTTYPE=image/png:https://newflorenceborough.org/wp-content/uploads/2017/11/photo.png
END:VEVENT
BEGIN:VEVENT
DTSTART;TZID=America/New_York:20240629T110000
DTEND;TZID=America/New_York:20240629T150000
DTSTAMP:20260425T123610
CREATED:20240504T141949Z
LAST-MODIFIED:20240504T141949Z
UID:5024-1719658800-1719673200@newflorenceborough.org
SUMMARY:New Florence Senior Center Special Saturday Bingo
DESCRIPTION:We are excited to announce that we will be holding our first SATURDAY bingo!  Please call the center or message us on our Facebook page New Florence Senior Center to reserve your spot!
URL:https://newflorenceborough.org/event/new-florence-senior-center-special-saturday-bingo/
LOCATION:New Florence Senior Center\, 216 Ligonier Street\, New Florence\, PA\, 15944\, United States
ATTACH;FMTTYPE=image/png:https://newflorenceborough.org/wp-content/uploads/2017/11/photo.png
END:VEVENT
BEGIN:VEVENT
DTSTART;TZID=America/New_York:20240629T190000
DTEND;TZID=America/New_York:20240629T190000
DTSTAMP:20260425T123611
CREATED:20240521T112328Z
LAST-MODIFIED:20240521T112328Z
UID:5073-1719687600-1719687600@newflorenceborough.org
SUMMARY:Squirrel Hill Hunting Club Accident Victim Ticket June 2024
DESCRIPTION:The Squirrel Hill Hunting Club is selling a raffle ticket to benefit a member that was recently in a car accident. The tickets are only $10 with 333 tickets being sold. It goes off the PA Lottery Pick 3 7 pm daily number on June 29th.  The winner can pick either the rifle or $1000.  Please contact any club member to purchase tickets.  You can also contact Sue or Gary Buckles through the club’s Facebook page Squirrel Hill Hunting Club Lifetime Hunts for more information.  Sue can also be reached at 724-600-9734 for tickets.  Thank you.
URL:https://newflorenceborough.org/event/squirrel-hill-hunting-club-accident-victim-ticket-june-2024/
LOCATION:New Florence\, PA: Multiple Locations\, New Florence\, PA\, 15944
ATTACH;FMTTYPE=image/png:https://newflorenceborough.org/wp-content/uploads/2017/11/photo.png
END:VEVENT
END:VCALENDAR