BEGIN:VCALENDAR
VERSION:2.0
PRODID:-//New Florence Borough - ECPv6.15.20//NONSGML v1.0//EN
CALSCALE:GREGORIAN
METHOD:PUBLISH
X-ORIGINAL-URL:https://newflorenceborough.org
X-WR-CALDESC:Events for New Florence Borough
REFRESH-INTERVAL;VALUE=DURATION:PT1H
X-Robots-Tag:noindex
X-PUBLISHED-TTL:PT1H
BEGIN:VTIMEZONE
TZID:America/New_York
BEGIN:DAYLIGHT
TZOFFSETFROM:-0500
TZOFFSETTO:-0400
TZNAME:EDT
DTSTART:20230312T070000
END:DAYLIGHT
BEGIN:STANDARD
TZOFFSETFROM:-0400
TZOFFSETTO:-0500
TZNAME:EST
DTSTART:20231105T060000
END:STANDARD
BEGIN:DAYLIGHT
TZOFFSETFROM:-0500
TZOFFSETTO:-0400
TZNAME:EDT
DTSTART:20240310T070000
END:DAYLIGHT
BEGIN:STANDARD
TZOFFSETFROM:-0400
TZOFFSETTO:-0500
TZNAME:EST
DTSTART:20241103T060000
END:STANDARD
BEGIN:DAYLIGHT
TZOFFSETFROM:-0500
TZOFFSETTO:-0400
TZNAME:EDT
DTSTART:20250309T070000
END:DAYLIGHT
BEGIN:STANDARD
TZOFFSETFROM:-0400
TZOFFSETTO:-0500
TZNAME:EST
DTSTART:20251102T060000
END:STANDARD
END:VTIMEZONE
BEGIN:VEVENT
DTSTART;TZID=America/New_York:20240413T130000
DTEND;TZID=America/New_York:20240413T150000
DTSTAMP:20260425T095654
CREATED:20240322T015030Z
LAST-MODIFIED:20240322T015030Z
UID:4937-1713013200-1713020400@newflorenceborough.org
SUMMARY:New Florence United Methodist Church Spring Tea
DESCRIPTION:Please check out the flyer below for this fun event at the United Methodist Church in New Florence.
URL:https://newflorenceborough.org/event/new-florence-united-methodist-church-spring-tea/
LOCATION:New Florence United Methodist Church\, 200 9th St.\, New Florence\, PA\, 15944\, United States
ATTACH;FMTTYPE=image/png:https://newflorenceborough.org/wp-content/uploads/2017/11/photo.png
END:VEVENT
BEGIN:VEVENT
DTSTART;TZID=America/New_York:20240413T150000
DTEND;TZID=America/New_York:20240413T210000
DTSTAMP:20260425T095654
CREATED:20240128T171102Z
LAST-MODIFIED:20240128T171102Z
UID:4827-1713020400-1713042000@newflorenceborough.org
SUMMARY:Squirrel Hill Hunting Club Sportsman's Bash
DESCRIPTION:The Squirrel Hill Hunting Club does a hunt every year for a terminally ill or handicapped child. The club has a new fundraiser out to help cover the expenses of the Lifetime Hunt for Kids program.  It will be a Sportsman’s Bash fundraiser on April 13th.  Please contact any club member to purchase tickets.  You can also contact Sue (724-600-9734) or Gary Buckles through the club’s Facebook page Squirrel Hill Hunting Club Lifetime Hunts for more information.  Thank you.
URL:https://newflorenceborough.org/event/squirrel-hill-hunting-club-sportsmans-bash/
LOCATION:Fairfield Township VFD\, 5414 Rt. 711\, New Florence\, PA\, 15944\, United States
ATTACH;FMTTYPE=image/png:https://newflorenceborough.org/wp-content/uploads/2017/11/photo.png
END:VEVENT
END:VCALENDAR