BEGIN:VCALENDAR
VERSION:2.0
PRODID:-//New Florence Borough - ECPv6.15.20//NONSGML v1.0//EN
CALSCALE:GREGORIAN
METHOD:PUBLISH
X-ORIGINAL-URL:https://newflorenceborough.org
X-WR-CALDESC:Events for New Florence Borough
REFRESH-INTERVAL;VALUE=DURATION:PT1H
X-Robots-Tag:noindex
X-PUBLISHED-TTL:PT1H
BEGIN:VTIMEZONE
TZID:America/New_York
BEGIN:DAYLIGHT
TZOFFSETFROM:-0500
TZOFFSETTO:-0400
TZNAME:EDT
DTSTART:20220313T070000
END:DAYLIGHT
BEGIN:STANDARD
TZOFFSETFROM:-0400
TZOFFSETTO:-0500
TZNAME:EST
DTSTART:20221106T060000
END:STANDARD
BEGIN:DAYLIGHT
TZOFFSETFROM:-0500
TZOFFSETTO:-0400
TZNAME:EDT
DTSTART:20230312T070000
END:DAYLIGHT
BEGIN:STANDARD
TZOFFSETFROM:-0400
TZOFFSETTO:-0500
TZNAME:EST
DTSTART:20231105T060000
END:STANDARD
BEGIN:DAYLIGHT
TZOFFSETFROM:-0500
TZOFFSETTO:-0400
TZNAME:EDT
DTSTART:20240310T070000
END:DAYLIGHT
BEGIN:STANDARD
TZOFFSETFROM:-0400
TZOFFSETTO:-0500
TZNAME:EST
DTSTART:20241103T060000
END:STANDARD
END:VTIMEZONE
BEGIN:VEVENT
DTSTART;TZID=America/New_York:20230928T100000
DTEND;TZID=America/New_York:20231028T160000
DTSTAMP:20260425T150726
CREATED:20230925T123343Z
LAST-MODIFIED:20230926T120342Z
UID:4450-1695895200-1698508800@newflorenceborough.org
SUMMARY:New Florence Community Library Fall Book Sale 2023
DESCRIPTION:The New Florence Community Library will be having one of their yearly Book & Craft Sale!!! from September 28th to October 28th.  Not only will be they be selling books\, but crafting supplies as well.  Please see the flyer below for more information or give the library a call. \n  \n \n 
URL:https://newflorenceborough.org/event/new-florence-community-library-fall-book-sale-2023/
LOCATION:New Florence Community Library\, 122 N Ligonier St.\, New Florence\, PA\, 15944
ATTACH;FMTTYPE=image/png:https://newflorenceborough.org/wp-content/uploads/2017/11/photo.png
END:VEVENT
BEGIN:VEVENT
DTSTART;TZID=America/New_York:20231015T110000
DTEND;TZID=America/New_York:20231015T203000
DTSTAMP:20260425T150726
CREATED:20230925T042555Z
LAST-MODIFIED:20230926T120438Z
UID:4443-1697367600-1697401800@newflorenceborough.org
SUMMARY:New Florence Community Library Hoss's Community Night Fundraiser
DESCRIPTION:Join library supporters with a special invitation to dine at the Hoss’s in Richland at 441 Theatre Drive\, Johnstown\, PA 15904\, from 11:00am to 8:30pm. \nYou must have a paper invitation for the Library to get any credit on your meal. Invitations are FREE and available at the Library.  Please contact the library if you have any questions.  Thanks. \n 
URL:https://newflorenceborough.org/event/new-florence-community-library-hosss-community-night-fundraiser/
LOCATION:New Florence Community Library\, 122 N Ligonier St.\, New Florence\, PA\, 15944
ATTACH;FMTTYPE=image/png:https://newflorenceborough.org/wp-content/uploads/2017/11/photo.png
END:VEVENT
BEGIN:VEVENT
DTSTART;TZID=America/New_York:20231015T140000
DTEND;TZID=America/New_York:20231015T160000
DTSTAMP:20260425T150726
CREATED:20230925T043841Z
LAST-MODIFIED:20230927T114220Z
UID:4446-1697378400-1697385600@newflorenceborough.org
SUMMARY:Pumpkin Carving Party 2023
DESCRIPTION:The New Florence Community Development will be hosting a pumpkin carving party.  Here is an additional flyer they released.  You can also contact the committee at nflcommunitydev@yahoo.com.  Thank you. \n \n  \n \n 
URL:https://newflorenceborough.org/event/pumpkin-carving-party-2023/
LOCATION:New Florence Playground\, 13th Street\, New Florence\, PA\, 15944\, United States
ATTACH;FMTTYPE=image/png:https://newflorenceborough.org/wp-content/uploads/2017/11/photo.png
END:VEVENT
END:VCALENDAR