BEGIN:VCALENDAR
VERSION:2.0
PRODID:-//New Florence Borough - ECPv6.15.20//NONSGML v1.0//EN
CALSCALE:GREGORIAN
METHOD:PUBLISH
X-WR-CALNAME:New Florence Borough
X-ORIGINAL-URL:https://newflorenceborough.org
X-WR-CALDESC:Events for New Florence Borough
REFRESH-INTERVAL;VALUE=DURATION:PT1H
X-Robots-Tag:noindex
X-PUBLISHED-TTL:PT1H
BEGIN:VTIMEZONE
TZID:America/New_York
BEGIN:DAYLIGHT
TZOFFSETFROM:-0500
TZOFFSETTO:-0400
TZNAME:EDT
DTSTART:20220313T070000
END:DAYLIGHT
BEGIN:STANDARD
TZOFFSETFROM:-0400
TZOFFSETTO:-0500
TZNAME:EST
DTSTART:20221106T060000
END:STANDARD
BEGIN:DAYLIGHT
TZOFFSETFROM:-0500
TZOFFSETTO:-0400
TZNAME:EDT
DTSTART:20230312T070000
END:DAYLIGHT
BEGIN:STANDARD
TZOFFSETFROM:-0400
TZOFFSETTO:-0500
TZNAME:EST
DTSTART:20231105T060000
END:STANDARD
BEGIN:DAYLIGHT
TZOFFSETFROM:-0500
TZOFFSETTO:-0400
TZNAME:EDT
DTSTART:20240310T070000
END:DAYLIGHT
BEGIN:STANDARD
TZOFFSETFROM:-0400
TZOFFSETTO:-0500
TZNAME:EST
DTSTART:20241103T060000
END:STANDARD
END:VTIMEZONE
BEGIN:VEVENT
DTSTART;TZID=America/New_York:20230928T100000
DTEND;TZID=America/New_York:20231028T160000
DTSTAMP:20260425T150552
CREATED:20230925T123343Z
LAST-MODIFIED:20230926T120342Z
UID:4450-1695895200-1698508800@newflorenceborough.org
SUMMARY:New Florence Community Library Fall Book Sale 2023
DESCRIPTION:The New Florence Community Library will be having one of their yearly Book & Craft Sale!!! from September 28th to October 28th.  Not only will be they be selling books\, but crafting supplies as well.  Please see the flyer below for more information or give the library a call. \n  \n \n 
URL:https://newflorenceborough.org/event/new-florence-community-library-fall-book-sale-2023/
LOCATION:New Florence Community Library\, 122 N Ligonier St.\, New Florence\, PA\, 15944
ATTACH;FMTTYPE=image/png:https://newflorenceborough.org/wp-content/uploads/2017/11/photo.png
END:VEVENT
BEGIN:VEVENT
DTSTART;TZID=America/New_York:20231007T090000
DTEND;TZID=America/New_York:20231007T140000
DTSTAMP:20260425T150552
CREATED:20230925T040919Z
LAST-MODIFIED:20230925T040919Z
UID:4437-1696669200-1696687200@newflorenceborough.org
SUMMARY:New Florence VFD Sub Sale
DESCRIPTION:The New Florence Volunteer Fire Department will be holding another sub sale fundraiser. Subs will be available from 9 am until they are sold out.  If you need more information\, contact the fire department. Thank you.
URL:https://newflorenceborough.org/event/new-florence-vfd-sub-sale-11/
LOCATION:New Florence Volunteer Fire Department\, 177 13th Street\, New Florence\, PA\, 15944
ATTACH;FMTTYPE=image/png:https://newflorenceborough.org/wp-content/uploads/2017/11/photo.png
END:VEVENT
BEGIN:VEVENT
DTSTART;TZID=America/New_York:20231007T190000
DTEND;TZID=America/New_York:20231007T230000
DTSTAMP:20260425T150552
CREATED:20230925T041203Z
LAST-MODIFIED:20230925T041203Z
UID:4439-1696705200-1696719600@newflorenceborough.org
SUMMARY:New Florence VFD Live Entertainment Evening
DESCRIPTION:Check out this fun event the fire department is hosting.
URL:https://newflorenceborough.org/event/new-florence-vfd-live-entertainment-evening/
LOCATION:New Florence Volunteer Fire Department\, 177 13th Street\, New Florence\, PA\, 15944
ATTACH;FMTTYPE=image/png:https://newflorenceborough.org/wp-content/uploads/2017/11/photo.png
END:VEVENT
END:VCALENDAR