BEGIN:VCALENDAR
VERSION:2.0
PRODID:-//New Florence Borough - ECPv6.15.20//NONSGML v1.0//EN
CALSCALE:GREGORIAN
METHOD:PUBLISH
X-WR-CALNAME:New Florence Borough
X-ORIGINAL-URL:https://newflorenceborough.org
X-WR-CALDESC:Events for New Florence Borough
REFRESH-INTERVAL;VALUE=DURATION:PT1H
X-Robots-Tag:noindex
X-PUBLISHED-TTL:PT1H
BEGIN:VTIMEZONE
TZID:America/New_York
BEGIN:DAYLIGHT
TZOFFSETFROM:-0500
TZOFFSETTO:-0400
TZNAME:EDT
DTSTART:20220313T070000
END:DAYLIGHT
BEGIN:STANDARD
TZOFFSETFROM:-0400
TZOFFSETTO:-0500
TZNAME:EST
DTSTART:20221106T060000
END:STANDARD
BEGIN:DAYLIGHT
TZOFFSETFROM:-0500
TZOFFSETTO:-0400
TZNAME:EDT
DTSTART:20230312T070000
END:DAYLIGHT
BEGIN:STANDARD
TZOFFSETFROM:-0400
TZOFFSETTO:-0500
TZNAME:EST
DTSTART:20231105T060000
END:STANDARD
BEGIN:DAYLIGHT
TZOFFSETFROM:-0500
TZOFFSETTO:-0400
TZNAME:EDT
DTSTART:20240310T070000
END:DAYLIGHT
BEGIN:STANDARD
TZOFFSETFROM:-0400
TZOFFSETTO:-0500
TZNAME:EST
DTSTART:20241103T060000
END:STANDARD
END:VTIMEZONE
BEGIN:VEVENT
DTSTART;TZID=America/New_York:20230913T180000
DTEND;TZID=America/New_York:20230913T193000
DTSTAMP:20260425T162636
CREATED:20230909T231804Z
LAST-MODIFIED:20230909T231804Z
UID:4409-1694628000-1694633400@newflorenceborough.org
SUMMARY:Laurel Valley Area Historical Society (LVAHS) Meeting
DESCRIPTION:We will be meeting at the W. Fairfield Auction Barn for our next historical society meeting. In this meeting we will continue working on updating the plot map for the W. Fairfield Cemetery and have a general discussion. \nIf you have any updated sheets (for the W. Fairfield Cemetery Plot Map Project) please bring them with you\, or email them to me at fkmack@verizon.net. \nI did not have time to prepare an agenda or meeting minutes at this time. \nThe group’s Email address is lvahs2022@gmail.com. \nIf you have any questions\, please contact me for more information.  Thank you. \nKathy Mack\, President \nLaurel Valley Area Historical Society\nEmail: fkmack@verizon.net\nPhone: 724-235-2688
URL:https://newflorenceborough.org/event/laurel-valley-area-historical-society-lvahs-meeting-29/
LOCATION:West Fairfield Auction Barn\, 135 Fairfield Road\, New Florence\, PA\, 15944
ATTACH;FMTTYPE=image/png:https://newflorenceborough.org/wp-content/uploads/2017/11/photo.png
END:VEVENT
END:VCALENDAR