BEGIN:VCALENDAR
VERSION:2.0
PRODID:-//New Florence Borough - ECPv6.15.20//NONSGML v1.0//EN
CALSCALE:GREGORIAN
METHOD:PUBLISH
X-ORIGINAL-URL:https://newflorenceborough.org
X-WR-CALDESC:Events for New Florence Borough
REFRESH-INTERVAL;VALUE=DURATION:PT1H
X-Robots-Tag:noindex
X-PUBLISHED-TTL:PT1H
BEGIN:VTIMEZONE
TZID:America/New_York
BEGIN:DAYLIGHT
TZOFFSETFROM:-0500
TZOFFSETTO:-0400
TZNAME:EDT
DTSTART:20220313T070000
END:DAYLIGHT
BEGIN:STANDARD
TZOFFSETFROM:-0400
TZOFFSETTO:-0500
TZNAME:EST
DTSTART:20221106T060000
END:STANDARD
BEGIN:DAYLIGHT
TZOFFSETFROM:-0500
TZOFFSETTO:-0400
TZNAME:EDT
DTSTART:20230312T070000
END:DAYLIGHT
BEGIN:STANDARD
TZOFFSETFROM:-0400
TZOFFSETTO:-0500
TZNAME:EST
DTSTART:20231105T060000
END:STANDARD
BEGIN:DAYLIGHT
TZOFFSETFROM:-0500
TZOFFSETTO:-0400
TZNAME:EDT
DTSTART:20240310T070000
END:DAYLIGHT
BEGIN:STANDARD
TZOFFSETFROM:-0400
TZOFFSETTO:-0500
TZNAME:EST
DTSTART:20241103T060000
END:STANDARD
END:VTIMEZONE
BEGIN:VEVENT
DTSTART;TZID=America/New_York:20230820T130000
DTEND;TZID=America/New_York:20230820T170000
DTSTAMP:20260425T174742
CREATED:20230530T020941Z
LAST-MODIFIED:20230530T020941Z
UID:4143-1692536400-1692550800@newflorenceborough.org
SUMMARY:New Florence VFW Summer Picnic - 2023
DESCRIPTION:The VFW will be holding their annual summer picnic for members on this day.  Please stay tuned for more information.
URL:https://newflorenceborough.org/event/new-florence-vfw-summer-picnic-2023/
LOCATION:New Florence VFW\, 6215 Route 711\, New Florence\, PA\, 15944
ATTACH;FMTTYPE=image/png:https://newflorenceborough.org/wp-content/uploads/2017/11/photo.png
END:VEVENT
BEGIN:VEVENT
DTSTART;TZID=America/New_York:20230820T140000
DTEND;TZID=America/New_York:20230820T170000
DTSTAMP:20260425T174742
CREATED:20230714T105342Z
LAST-MODIFIED:20230714T105342Z
UID:4280-1692540000-1692550800@newflorenceborough.org
SUMMARY:Back-to-School Scavenger Hunt 2023
DESCRIPTION:The New Florence Community Development group will be holding a Back-to-School Scavenger Hunt for Pre-K to 5th grade students.  The hunt will start at 2 pm. \nIf you need more information\, please contact: \nNew Florence Community Development\nPresident: Taylor Solich\n724-599-7163\nEmail: taylorsolich@yahoo.com \nPlease see the flyer below.
URL:https://newflorenceborough.org/event/back-to-school-scavenger-hunt-2023/
LOCATION:New Florence Playground\, 13th Street\, New Florence\, PA\, 15944\, United States
ATTACH;FMTTYPE=image/png:https://newflorenceborough.org/wp-content/uploads/2017/11/photo.png
END:VEVENT
END:VCALENDAR