BEGIN:VCALENDAR
VERSION:2.0
PRODID:-//New Florence Borough - ECPv6.15.20//NONSGML v1.0//EN
CALSCALE:GREGORIAN
METHOD:PUBLISH
X-WR-CALNAME:New Florence Borough
X-ORIGINAL-URL:https://newflorenceborough.org
X-WR-CALDESC:Events for New Florence Borough
REFRESH-INTERVAL;VALUE=DURATION:PT1H
X-Robots-Tag:noindex
X-PUBLISHED-TTL:PT1H
BEGIN:VTIMEZONE
TZID:America/New_York
BEGIN:DAYLIGHT
TZOFFSETFROM:-0500
TZOFFSETTO:-0400
TZNAME:EDT
DTSTART:20220313T070000
END:DAYLIGHT
BEGIN:STANDARD
TZOFFSETFROM:-0400
TZOFFSETTO:-0500
TZNAME:EST
DTSTART:20221106T060000
END:STANDARD
BEGIN:DAYLIGHT
TZOFFSETFROM:-0500
TZOFFSETTO:-0400
TZNAME:EDT
DTSTART:20230312T070000
END:DAYLIGHT
BEGIN:STANDARD
TZOFFSETFROM:-0400
TZOFFSETTO:-0500
TZNAME:EST
DTSTART:20231105T060000
END:STANDARD
BEGIN:DAYLIGHT
TZOFFSETFROM:-0500
TZOFFSETTO:-0400
TZNAME:EDT
DTSTART:20240310T070000
END:DAYLIGHT
BEGIN:STANDARD
TZOFFSETFROM:-0400
TZOFFSETTO:-0500
TZNAME:EST
DTSTART:20241103T060000
END:STANDARD
END:VTIMEZONE
BEGIN:VEVENT
DTSTART;TZID=America/New_York:20230818T160000
DTEND;TZID=America/New_York:20230818T180000
DTSTAMP:20260425T174645
CREATED:20230806T105659Z
LAST-MODIFIED:20230807T113719Z
UID:4310-1692374400-1692381600@newflorenceborough.org
SUMMARY:Auker's Farmer's Market - Rescheduled from  the 11th to the 18th
DESCRIPTION:There has been a last minute date change to the farmers market.  The Aukers are coming back to the storage parking lot next to the post office on Friday\, August 18th \, not the 11th.  This is their second market of the year in New Florence.  They will start at 4 pm.  The end time of 6 pm is approximate.  Please get their early.  Thanks.
URL:https://newflorenceborough.org/event/aukers-farmers-market-4/
LOCATION:Auker Farmer’s Market\, 179 Ligonier St\, New Florence\, PA\, 15944\, United States
ATTACH;FMTTYPE=image/png:https://newflorenceborough.org/wp-content/uploads/2017/11/photo.png
END:VEVENT
BEGIN:VEVENT
DTSTART;TZID=America/New_York:20230818T170000
DTEND;TZID=America/New_York:20230818T170000
DTSTAMP:20260425T174645
CREATED:20230714T105930Z
LAST-MODIFIED:20230714T105930Z
UID:4282-1692378000-1692378000@newflorenceborough.org
SUMMARY:New Florence Craft and Vendor Show - 2023 - Vendor Deadline
DESCRIPTION:The New Florence Community Development announced their Craft and Vendor Show will be on September 16th.  The deadline for vendors to participate is August 18th.  Please see the flyer below.  Thank you. \n \n  \n 
URL:https://newflorenceborough.org/event/new-florence-craft-and-vendor-show-2023-vendor-deadline/
LOCATION:New Florence Playground\, 13th Street\, New Florence\, PA\, 15944\, United States
ATTACH;FMTTYPE=image/png:https://newflorenceborough.org/wp-content/uploads/2017/11/photo.png
END:VEVENT
END:VCALENDAR