BEGIN:VCALENDAR
VERSION:2.0
PRODID:-//New Florence Borough - ECPv6.15.20//NONSGML v1.0//EN
CALSCALE:GREGORIAN
METHOD:PUBLISH
X-WR-CALNAME:New Florence Borough
X-ORIGINAL-URL:https://newflorenceborough.org
X-WR-CALDESC:Events for New Florence Borough
REFRESH-INTERVAL;VALUE=DURATION:PT1H
X-Robots-Tag:noindex
X-PUBLISHED-TTL:PT1H
BEGIN:VTIMEZONE
TZID:America/New_York
BEGIN:DAYLIGHT
TZOFFSETFROM:-0500
TZOFFSETTO:-0400
TZNAME:EDT
DTSTART:20220313T070000
END:DAYLIGHT
BEGIN:STANDARD
TZOFFSETFROM:-0400
TZOFFSETTO:-0500
TZNAME:EST
DTSTART:20221106T060000
END:STANDARD
BEGIN:DAYLIGHT
TZOFFSETFROM:-0500
TZOFFSETTO:-0400
TZNAME:EDT
DTSTART:20230312T070000
END:DAYLIGHT
BEGIN:STANDARD
TZOFFSETFROM:-0400
TZOFFSETTO:-0500
TZNAME:EST
DTSTART:20231105T060000
END:STANDARD
BEGIN:DAYLIGHT
TZOFFSETFROM:-0500
TZOFFSETTO:-0400
TZNAME:EDT
DTSTART:20240310T070000
END:DAYLIGHT
BEGIN:STANDARD
TZOFFSETFROM:-0400
TZOFFSETTO:-0500
TZNAME:EST
DTSTART:20241103T060000
END:STANDARD
END:VTIMEZONE
BEGIN:VEVENT
DTSTART;TZID=America/New_York:20230809T180000
DTEND;TZID=America/New_York:20230809T200000
DTSTAMP:20260425T174644
CREATED:20230806T110405Z
LAST-MODIFIED:20230807T011634Z
UID:4312-1691604000-1691611200@newflorenceborough.org
SUMMARY:Laurel Valley Area Historical Society (LVAHS) Meeting
DESCRIPTION:We will be meeting at the West Fairfield Cemetery again for our next meeting. In this meeting we will continue working on updating the plot map for the cemetery. Please bring your own chair and water….. and bug spray (they were pretty pesky the last time).  Thank you. \nHere are two documents for the meeting.  20230809_LVAHS Annual Meeting Agenda and  20230712_LVAHS Meeting Minutes \nThe group’s Email address is lvahs2022@gmail.com. \nIf you have any questions\, please contact Kathy Mack for more information.  Thank you. \nKathy Mack\, President \nLaurel Valley Area Historical Society\nEmail: fkmack@verizon.net\nPhone: 724-235-2688 \nLVAHS Meeting July 2023 at West Fairfield Cemetery
URL:https://newflorenceborough.org/event/laurel-valley-area-historical-society-lvahs-meeting-28/
LOCATION:West Fairfield Cemetery\, New Florence\, Pennsylvania\, 15944
ATTACH;FMTTYPE=image/png:https://newflorenceborough.org/wp-content/uploads/2017/11/photo.png
END:VEVENT
END:VCALENDAR