BEGIN:VCALENDAR
VERSION:2.0
PRODID:-//New Florence Borough - ECPv6.15.20//NONSGML v1.0//EN
CALSCALE:GREGORIAN
METHOD:PUBLISH
X-WR-CALNAME:New Florence Borough
X-ORIGINAL-URL:https://newflorenceborough.org
X-WR-CALDESC:Events for New Florence Borough
REFRESH-INTERVAL;VALUE=DURATION:PT1H
X-Robots-Tag:noindex
X-PUBLISHED-TTL:PT1H
BEGIN:VTIMEZONE
TZID:America/New_York
BEGIN:DAYLIGHT
TZOFFSETFROM:-0500
TZOFFSETTO:-0400
TZNAME:EDT
DTSTART:20220313T070000
END:DAYLIGHT
BEGIN:STANDARD
TZOFFSETFROM:-0400
TZOFFSETTO:-0500
TZNAME:EST
DTSTART:20221106T060000
END:STANDARD
BEGIN:DAYLIGHT
TZOFFSETFROM:-0500
TZOFFSETTO:-0400
TZNAME:EDT
DTSTART:20230312T070000
END:DAYLIGHT
BEGIN:STANDARD
TZOFFSETFROM:-0400
TZOFFSETTO:-0500
TZNAME:EST
DTSTART:20231105T060000
END:STANDARD
BEGIN:DAYLIGHT
TZOFFSETFROM:-0500
TZOFFSETTO:-0400
TZNAME:EDT
DTSTART:20240310T070000
END:DAYLIGHT
BEGIN:STANDARD
TZOFFSETFROM:-0400
TZOFFSETTO:-0500
TZNAME:EST
DTSTART:20241103T060000
END:STANDARD
END:VTIMEZONE
BEGIN:VEVENT
DTSTART;TZID=America/New_York:20230716T073000
DTEND;TZID=America/New_York:20230716T160000
DTSTAMP:20260425T190242
CREATED:20230423T115310Z
LAST-MODIFIED:20230423T115310Z
UID:4010-1689492600-1689523200@newflorenceborough.org
SUMMARY:Squirrel Hill Hunting Club Lifetime Hunt for Kids Golf Outing - 2023
DESCRIPTION:The Squirrel Hill Hunting Club will hold their 8th Annual Lifetime Hunt for Kids Golf Outing on July 16th\, 2023\, at Champion Lakes Golf Resort.  The fundraiser benefits children with a life-threatening illness.  The flyer contains additional information on how to participate.  There is an email contact on the flyer.  If you don’t do email you can contact Sue Buckles at 724-600-9734 for additional information.  Thank you. \n \n 
URL:https://newflorenceborough.org/event/squirrel-hill-hunting-club-lifetime-hunt-for-kids-golf-outing-2023/
LOCATION:Champion Lakes Golf Course\, 4743 Route 711\, Bolivar\, PA\, 15944
ATTACH;FMTTYPE=image/png:https://newflorenceborough.org/wp-content/uploads/2017/11/photo.png
END:VEVENT
END:VCALENDAR