BEGIN:VCALENDAR
VERSION:2.0
PRODID:-//New Florence Borough - ECPv6.15.20//NONSGML v1.0//EN
CALSCALE:GREGORIAN
METHOD:PUBLISH
X-ORIGINAL-URL:https://newflorenceborough.org
X-WR-CALDESC:Events for New Florence Borough
REFRESH-INTERVAL;VALUE=DURATION:PT1H
X-Robots-Tag:noindex
X-PUBLISHED-TTL:PT1H
BEGIN:VTIMEZONE
TZID:America/New_York
BEGIN:DAYLIGHT
TZOFFSETFROM:-0500
TZOFFSETTO:-0400
TZNAME:EDT
DTSTART:20220313T070000
END:DAYLIGHT
BEGIN:STANDARD
TZOFFSETFROM:-0400
TZOFFSETTO:-0500
TZNAME:EST
DTSTART:20221106T060000
END:STANDARD
BEGIN:DAYLIGHT
TZOFFSETFROM:-0500
TZOFFSETTO:-0400
TZNAME:EDT
DTSTART:20230312T070000
END:DAYLIGHT
BEGIN:STANDARD
TZOFFSETFROM:-0400
TZOFFSETTO:-0500
TZNAME:EST
DTSTART:20231105T060000
END:STANDARD
BEGIN:DAYLIGHT
TZOFFSETFROM:-0500
TZOFFSETTO:-0400
TZNAME:EDT
DTSTART:20240310T070000
END:DAYLIGHT
BEGIN:STANDARD
TZOFFSETFROM:-0400
TZOFFSETTO:-0500
TZNAME:EST
DTSTART:20241103T060000
END:STANDARD
END:VTIMEZONE
BEGIN:VEVENT
DTSTART;TZID=America/New_York:20230706T100000
DTEND;TZID=America/New_York:20230715T160000
DTSTAMP:20260425T190239
CREATED:20230706T023525Z
LAST-MODIFIED:20230706T023525Z
UID:4248-1688637600-1689436800@newflorenceborough.org
SUMMARY:New Florence Community Library Spring Book Sale Leftovers - Free Books!!!
DESCRIPTION:The New Florence Community Library has a whole collection of books left over from the Spring Book Sale.  They are giving away all these books for free.  Please stop in and see what they have.  Thanks.
URL:https://newflorenceborough.org/event/new-florence-community-library-spring-book-sale-leftovers-free-books/
LOCATION:New Florence Community Library\, 122 N Ligonier St.\, New Florence\, PA\, 15944
ATTACH;FMTTYPE=image/png:https://newflorenceborough.org/wp-content/uploads/2017/11/photo.png
END:VEVENT
BEGIN:VEVENT
DTSTART;TZID=America/New_York:20230714T170000
DTEND;TZID=America/New_York:20230714T200000
DTSTAMP:20260425T190239
CREATED:20230625T023015Z
LAST-MODIFIED:20230625T023015Z
UID:4218-1689354000-1689364800@newflorenceborough.org
SUMMARY:Auker's Farmer's Market
DESCRIPTION:It’s summer so that means farmers markets.  The Aukers are coming to the storage parking lot next to the post office on Friday\, July 14th. The produce has been slow growing with the dry and cool weather we’ve had in the area. But Jeremy Aukers reached out and said they are ready to go! Mark your calendars. Time is yet to be announced but it will most likely 5 to 8pm.  An update will be provided once the event is firmed up.  But regardless\, the evening of July 14th will be the first FRESH PRODUCE sale of the year!
URL:https://newflorenceborough.org/event/aukers-farmers-market-3/
LOCATION:Auker Farmer’s Market\, 179 Ligonier St\, New Florence\, PA\, 15944\, United States
ATTACH;FMTTYPE=image/png:https://newflorenceborough.org/wp-content/uploads/2017/11/photo.png
END:VEVENT
END:VCALENDAR