BEGIN:VCALENDAR
VERSION:2.0
PRODID:-//New Florence Borough - ECPv6.15.20//NONSGML v1.0//EN
CALSCALE:GREGORIAN
METHOD:PUBLISH
X-WR-CALNAME:New Florence Borough
X-ORIGINAL-URL:https://newflorenceborough.org
X-WR-CALDESC:Events for New Florence Borough
REFRESH-INTERVAL;VALUE=DURATION:PT1H
X-Robots-Tag:noindex
X-PUBLISHED-TTL:PT1H
BEGIN:VTIMEZONE
TZID:America/New_York
BEGIN:DAYLIGHT
TZOFFSETFROM:-0500
TZOFFSETTO:-0400
TZNAME:EDT
DTSTART:20220313T070000
END:DAYLIGHT
BEGIN:STANDARD
TZOFFSETFROM:-0400
TZOFFSETTO:-0500
TZNAME:EST
DTSTART:20221106T060000
END:STANDARD
BEGIN:DAYLIGHT
TZOFFSETFROM:-0500
TZOFFSETTO:-0400
TZNAME:EDT
DTSTART:20230312T070000
END:DAYLIGHT
BEGIN:STANDARD
TZOFFSETFROM:-0400
TZOFFSETTO:-0500
TZNAME:EST
DTSTART:20231105T060000
END:STANDARD
BEGIN:DAYLIGHT
TZOFFSETFROM:-0500
TZOFFSETTO:-0400
TZNAME:EDT
DTSTART:20240310T070000
END:DAYLIGHT
BEGIN:STANDARD
TZOFFSETFROM:-0400
TZOFFSETTO:-0500
TZNAME:EST
DTSTART:20241103T060000
END:STANDARD
END:VTIMEZONE
BEGIN:VEVENT
DTSTART;TZID=America/New_York:20230701T100000
DTEND;TZID=America/New_York:20230701T140000
DTSTAMP:20260425T190206
CREATED:20230530T120351Z
LAST-MODIFIED:20230629T215012Z
UID:4145-1688205600-1688220000@newflorenceborough.org
SUMMARY:New Florence VFD Chicken BBQ
DESCRIPTION:The New Florence VFD will be holding their next Chicken BBQ fundraiser of the year on July 1st.  They will start at 10 am.  They will go till sold out.  Preorders are welcome.  Please come out and support the fire department.  Thanks. \nHey everyone\, just want to let you know that July 1st will be a Chicken BBQ and not the Sub Sale that was posted on Facebook. I checked with Todd Gable and there was a goof on the flyer. So for those having there hearts set on a sub\, you’re out of luck. However\, who doesn’t like a good BBQ chicken. Come on out and get some good food at the VFD. Cheers\, Greg
URL:https://newflorenceborough.org/event/new-florence-vfd-chicken-bbq-11/
LOCATION:New Florence Volunteer Fire Department\, 177 13th Street\, New Florence\, PA\, 15944
ATTACH;FMTTYPE=image/png:https://newflorenceborough.org/wp-content/uploads/2017/11/photo.png
END:VEVENT
BEGIN:VEVENT
DTSTART;TZID=America/New_York:20230701T173000
DTEND;TZID=America/New_York:20230701T210000
DTSTAMP:20260425T190206
CREATED:20230530T120653Z
LAST-MODIFIED:20230530T120653Z
UID:4149-1688232600-1688245200@newflorenceborough.org
SUMMARY:New Florence VFD Rippie Night
DESCRIPTION:The New Florence Volunteer Fire Department will be holding their next rippie fundraiser.  If you need more information\, please contact the fire department.  Thanks.
URL:https://newflorenceborough.org/event/new-florence-vfd-rippie-night-18/
LOCATION:New Florence Volunteer Fire Department\, 177 13th Street\, New Florence\, PA\, 15944
ATTACH;FMTTYPE=image/png:https://newflorenceborough.org/wp-content/uploads/2017/11/photo.png
END:VEVENT
END:VCALENDAR