BEGIN:VCALENDAR
VERSION:2.0
PRODID:-//New Florence Borough - ECPv6.15.20//NONSGML v1.0//EN
CALSCALE:GREGORIAN
METHOD:PUBLISH
X-WR-CALNAME:New Florence Borough
X-ORIGINAL-URL:https://newflorenceborough.org
X-WR-CALDESC:Events for New Florence Borough
REFRESH-INTERVAL;VALUE=DURATION:PT1H
X-Robots-Tag:noindex
X-PUBLISHED-TTL:PT1H
BEGIN:VTIMEZONE
TZID:America/New_York
BEGIN:DAYLIGHT
TZOFFSETFROM:-0500
TZOFFSETTO:-0400
TZNAME:EDT
DTSTART:20220313T070000
END:DAYLIGHT
BEGIN:STANDARD
TZOFFSETFROM:-0400
TZOFFSETTO:-0500
TZNAME:EST
DTSTART:20221106T060000
END:STANDARD
BEGIN:DAYLIGHT
TZOFFSETFROM:-0500
TZOFFSETTO:-0400
TZNAME:EDT
DTSTART:20230312T070000
END:DAYLIGHT
BEGIN:STANDARD
TZOFFSETFROM:-0400
TZOFFSETTO:-0500
TZNAME:EST
DTSTART:20231105T060000
END:STANDARD
BEGIN:DAYLIGHT
TZOFFSETFROM:-0500
TZOFFSETTO:-0400
TZNAME:EDT
DTSTART:20240310T070000
END:DAYLIGHT
BEGIN:STANDARD
TZOFFSETFROM:-0400
TZOFFSETTO:-0500
TZNAME:EST
DTSTART:20241103T060000
END:STANDARD
END:VTIMEZONE
BEGIN:VEVENT
DTSTART;TZID=America/New_York:20230513T150000
DTEND;TZID=America/New_York:20230513T170000
DTSTAMP:20260425T212757
CREATED:20230331T125906Z
LAST-MODIFIED:20230423T115419Z
UID:3957-1683990000-1683997200@newflorenceborough.org
SUMMARY:New Florence VFW Post 7622 Meat Raffle
DESCRIPTION:This is a Member’s Only event. \nCome out and try to stock up for your summer bar-b-ques! \nWe will be raffling off Bacon (4 lbs.)\, Premade burgers (12 patties/raffle)\, NY Strip Steaks (4)\, Ribs (2 slabs/raffle)\, Pork Butt (7-8 lbs.)\, Hot Sausage (1 entire ring)\, Chicken (combo pack).\nThere will be multiple raffles of each meat. You will receive gift cards for your win that are specific to the win to be redeemed at Pudliner’s in Armagh. \nThere will be a separate raffle for a Pit Boss grill!
URL:https://newflorenceborough.org/event/new-florence-vfw-post-7622-meat-raffle/
LOCATION:New Florence VFW\, 6215 Route 711\, New Florence\, PA\, 15944
ATTACH;FMTTYPE=image/png:https://newflorenceborough.org/wp-content/uploads/2017/11/photo.png
END:VEVENT
END:VCALENDAR