BEGIN:VCALENDAR
VERSION:2.0
PRODID:-//New Florence Borough - ECPv6.15.20//NONSGML v1.0//EN
CALSCALE:GREGORIAN
METHOD:PUBLISH
X-ORIGINAL-URL:https://newflorenceborough.org
X-WR-CALDESC:Events for New Florence Borough
REFRESH-INTERVAL;VALUE=DURATION:PT1H
X-Robots-Tag:noindex
X-PUBLISHED-TTL:PT1H
BEGIN:VTIMEZONE
TZID:America/New_York
BEGIN:DAYLIGHT
TZOFFSETFROM:-0500
TZOFFSETTO:-0400
TZNAME:EDT
DTSTART:20220313T070000
END:DAYLIGHT
BEGIN:STANDARD
TZOFFSETFROM:-0400
TZOFFSETTO:-0500
TZNAME:EST
DTSTART:20221106T060000
END:STANDARD
BEGIN:DAYLIGHT
TZOFFSETFROM:-0500
TZOFFSETTO:-0400
TZNAME:EDT
DTSTART:20230312T070000
END:DAYLIGHT
BEGIN:STANDARD
TZOFFSETFROM:-0400
TZOFFSETTO:-0500
TZNAME:EST
DTSTART:20231105T060000
END:STANDARD
BEGIN:DAYLIGHT
TZOFFSETFROM:-0500
TZOFFSETTO:-0400
TZNAME:EDT
DTSTART:20240310T070000
END:DAYLIGHT
BEGIN:STANDARD
TZOFFSETFROM:-0400
TZOFFSETTO:-0500
TZNAME:EST
DTSTART:20241103T060000
END:STANDARD
END:VTIMEZONE
BEGIN:VEVENT
DTSTART;TZID=America/New_York:20230408T110000
DTEND;TZID=America/New_York:20230408T130000
DTSTAMP:20260425T224323
CREATED:20230331T124911Z
LAST-MODIFIED:20230331T124911Z
UID:3953-1680951600-1680958800@newflorenceborough.org
SUMMARY:New Florence VFW Post 7622 Kids Easter Egg Hunt - 2023
DESCRIPTION:Please come out and join us for our annual Easter Egg Hunt.  It will start at 11 a.m. so please show up a little earlier.  If you have questions please call the club. \nOpen to the public!\nAge Groups:\n1-3\n4-6\n7-9\n10-12 \nThe Easter Bunny will be arriving at 11am also. You can take your own pictures so bring a camera to capture those moments!
URL:https://newflorenceborough.org/event/new-florence-vfw-post-7622-kids-easter-egg-hunt-2023/
LOCATION:New Florence VFW\, 6215 Route 711\, New Florence\, PA\, 15944
ATTACH;FMTTYPE=image/png:https://newflorenceborough.org/wp-content/uploads/2017/11/photo.png
END:VEVENT
BEGIN:VEVENT
DTSTART;TZID=America/New_York:20230408T150000
DTEND;TZID=America/New_York:20230408T210000
DTSTAMP:20260425T224323
CREATED:20230228T151948Z
LAST-MODIFIED:20230228T151948Z
UID:3894-1680966000-1680987600@newflorenceborough.org
SUMMARY:NF VFD Gun Bash - April 2023
DESCRIPTION:The NF VFD will be holding a gun bash fundraiser.  Please see the flyer below for more information.  Thanks.
URL:https://newflorenceborough.org/event/nf-vfd-gun-bash-april-2023/
LOCATION:New Florence Volunteer Fire Department\, 177 13th Street\, New Florence\, PA\, 15944
ATTACH;FMTTYPE=image/png:https://newflorenceborough.org/wp-content/uploads/2017/11/photo.png
END:VEVENT
BEGIN:VEVENT
DTSTART;TZID=America/New_York:20230408T193000
DTEND;TZID=America/New_York:20230408T220000
DTSTAMP:20260425T224323
CREATED:20230331T125226Z
LAST-MODIFIED:20230331T125226Z
UID:3955-1680982200-1680991200@newflorenceborough.org
SUMMARY:New Florence VFW Post 7622 Adult Easter Egg Hunt - 2023
DESCRIPTION:This is a Member’s Only event at the club.  The jukebox will be free during this activity.  Give the club a call if  you need more information.  Thanks.
URL:https://newflorenceborough.org/event/new-florence-vfw-post-7622-adult-easter-egg-hunt-2023/
LOCATION:New Florence VFW\, 6215 Route 711\, New Florence\, PA\, 15944
ATTACH;FMTTYPE=image/png:https://newflorenceborough.org/wp-content/uploads/2017/11/photo.png
END:VEVENT
END:VCALENDAR