BEGIN:VCALENDAR
VERSION:2.0
PRODID:-//New Florence Borough - ECPv6.15.20//NONSGML v1.0//EN
CALSCALE:GREGORIAN
METHOD:PUBLISH
X-WR-CALNAME:New Florence Borough
X-ORIGINAL-URL:https://newflorenceborough.org
X-WR-CALDESC:Events for New Florence Borough
REFRESH-INTERVAL;VALUE=DURATION:PT1H
X-Robots-Tag:noindex
X-PUBLISHED-TTL:PT1H
BEGIN:VTIMEZONE
TZID:America/New_York
BEGIN:DAYLIGHT
TZOFFSETFROM:-0500
TZOFFSETTO:-0400
TZNAME:EDT
DTSTART:20220313T070000
END:DAYLIGHT
BEGIN:STANDARD
TZOFFSETFROM:-0400
TZOFFSETTO:-0500
TZNAME:EST
DTSTART:20221106T060000
END:STANDARD
BEGIN:DAYLIGHT
TZOFFSETFROM:-0500
TZOFFSETTO:-0400
TZNAME:EDT
DTSTART:20230312T070000
END:DAYLIGHT
BEGIN:STANDARD
TZOFFSETFROM:-0400
TZOFFSETTO:-0500
TZNAME:EST
DTSTART:20231105T060000
END:STANDARD
BEGIN:DAYLIGHT
TZOFFSETFROM:-0500
TZOFFSETTO:-0400
TZNAME:EDT
DTSTART:20240310T070000
END:DAYLIGHT
BEGIN:STANDARD
TZOFFSETFROM:-0400
TZOFFSETTO:-0500
TZNAME:EST
DTSTART:20241103T060000
END:STANDARD
END:VTIMEZONE
BEGIN:VEVENT
DTSTART;TZID=America/New_York:20230330T183000
DTEND;TZID=America/New_York:20230330T193000
DTSTAMP:20260425T223540
CREATED:20230321T131725Z
LAST-MODIFIED:20230321T131725Z
UID:3940-1680201000-1680204600@newflorenceborough.org
SUMMARY:Laurel Valley Area Historical Society (LVAHS) Meeting
DESCRIPTION:The Laurel Valley Area Historical Society will be holding their next meeting on Thursday\, March 30th\, at 6:30 pm at the Kenneth A. Stuart Funeral Home in New Florence.  All are welcome to attend since the meeting is open to the public. \nThe group has a new Email address. It is lvahs2022@gmail.com. \nIf you have any questions\, please contact Dick Stuart for more information.  Kathy Mack\, the society’s President is taking time off to deal with a family matter.  Thank you. \nRichard C. Stuart\, Vice President\nLaurel Valley Area Historical Society\nEmail: richard@thestuartfuneralhomes.com\nPhone: 724-235-2211
URL:https://newflorenceborough.org/event/laurel-valley-area-historical-society-lvahs-meeting-24/
LOCATION:Kenneth A. Stuart Funeral Home\, 139 Ligonier St.\, New Florence\, PA\, 15944
ATTACH;FMTTYPE=image/png:https://newflorenceborough.org/wp-content/uploads/2017/11/photo.png
END:VEVENT
END:VCALENDAR